BEGIN:VCALENDAR
VERSION:2.0
PRODID:-//For Her - ECPv6.15.20//NONSGML v1.0//EN
CALSCALE:GREGORIAN
METHOD:PUBLISH
X-WR-CALNAME:For Her
X-ORIGINAL-URL:https://iamforher.org
X-WR-CALDESC:Events for For Her
REFRESH-INTERVAL;VALUE=DURATION:PT1H
X-Robots-Tag:noindex
X-PUBLISHED-TTL:PT1H
BEGIN:VTIMEZONE
TZID:America/Chicago
BEGIN:DAYLIGHT
TZOFFSETFROM:-0600
TZOFFSETTO:-0500
TZNAME:CDT
DTSTART:20220313T080000
END:DAYLIGHT
BEGIN:STANDARD
TZOFFSETFROM:-0500
TZOFFSETTO:-0600
TZNAME:CST
DTSTART:20221106T070000
END:STANDARD
BEGIN:DAYLIGHT
TZOFFSETFROM:-0600
TZOFFSETTO:-0500
TZNAME:CDT
DTSTART:20230312T080000
END:DAYLIGHT
BEGIN:STANDARD
TZOFFSETFROM:-0500
TZOFFSETTO:-0600
TZNAME:CST
DTSTART:20231105T070000
END:STANDARD
BEGIN:DAYLIGHT
TZOFFSETFROM:-0600
TZOFFSETTO:-0500
TZNAME:CDT
DTSTART:20240310T080000
END:DAYLIGHT
BEGIN:STANDARD
TZOFFSETFROM:-0500
TZOFFSETTO:-0600
TZNAME:CST
DTSTART:20241103T070000
END:STANDARD
END:VTIMEZONE
BEGIN:VEVENT
DTSTART;TZID=America/Chicago:20230705T190000
DTEND;TZID=America/Chicago:20230705T210000
DTSTAMP:20260425T232554
CREATED:20230427T180709Z
LAST-MODIFIED:20230626T191124Z
UID:10000078-1688583600-1688590800@iamforher.org
SUMMARY:Her Table: Mindful Communication with Jen Hardy
DESCRIPTION:Her Table is a shared meal that provides an opportunity for women to connect over good food and meaningful conversation. Dinner\, babysitting\, and all materials will be provided. Friends are always welcome! \nWorkshop Topic: Mindful Communication \nAt Her Table on July 5th\, join us for a transformative workshop on mindful communication\, where we will uncover the secrets to becoming a more conscious communicator\, empowering you to forge deeper connections\, resolve conflicts\, and cultivate understanding. We will unravel the intricate web of thoughts\, emotions\, and beliefs that shape our communication patterns. By developing an awareness of our own unconscious biases\, assumptions\, and triggers\, we can begin to navigate conversations with greater clarity and empathy. \nDiscover how to harness the power of nonverbal cues\, such as body language and tone of voice\, to convey authenticity and build trust in your relationships. Learn to recognize and interpret the subtle cues that indicate the unspoken needs and desires of others\, fostering a profound sense of connection and understanding. \nThrough practical exercises\, insightful discussions\, and the science of communication\, you will acquire valuable tools and techniques to break through communication barriers and establish open\, honest\, and meaningful dialogues. Whether you seek to enhance your personal relationships\, excel in your professional endeavors\, or simply foster a more harmonious existence\, this workshop will equip you with the skills to communicate mindfully and nurture thriving connections. \nFacilitator: Jen Hardy \nWe’re honored to have Jen Hardy join us to facilitate this Her Table! Jen\, a former educator and state championship soccer coach\, followed her heart to find her true passion. After excelling in her previous roles\, she yearned for new achievements. Exploring different avenues\, she discovered her calling in education and coaching\, outside of public schools. Jen believes that lifelong learning is crucial for true mastery. Jen’s core belief is in taking responsibility for our lives and acknowledging our unknowns. This mindset drives her dedication to personal growth and sharing her knowledge. Alongside her professional pursuits\, Jen co-founded a nonprofit called Dangerously C.U.T.E\, aimed at empowering women and girls against violence and disempowerment by teaching them to be their own first line of defense. \nDinner: Provided by Thrive Church \nGluten-free and vegetarian options will be available.
URL:https://iamforher.org/event/her-table-mindful-communication-with-jen-hardy/
LOCATION:For Her Community Space\, 8546 Broadway\, Suite 255\, San Antonio\, TX\, 78217\, United States
END:VEVENT
END:VCALENDAR