BEGIN:VCALENDAR
VERSION:2.0
PRODID:-//For Her - ECPv6.15.20//NONSGML v1.0//EN
CALSCALE:GREGORIAN
METHOD:PUBLISH
X-WR-CALNAME:For Her
X-ORIGINAL-URL:https://iamforher.org
X-WR-CALDESC:Events for For Her
REFRESH-INTERVAL;VALUE=DURATION:PT1H
X-Robots-Tag:noindex
X-PUBLISHED-TTL:PT1H
BEGIN:VTIMEZONE
TZID:America/Chicago
BEGIN:DAYLIGHT
TZOFFSETFROM:-0600
TZOFFSETTO:-0500
TZNAME:CDT
DTSTART:20220313T080000
END:DAYLIGHT
BEGIN:STANDARD
TZOFFSETFROM:-0500
TZOFFSETTO:-0600
TZNAME:CST
DTSTART:20221106T070000
END:STANDARD
BEGIN:DAYLIGHT
TZOFFSETFROM:-0600
TZOFFSETTO:-0500
TZNAME:CDT
DTSTART:20230312T080000
END:DAYLIGHT
BEGIN:STANDARD
TZOFFSETFROM:-0500
TZOFFSETTO:-0600
TZNAME:CST
DTSTART:20231105T070000
END:STANDARD
BEGIN:DAYLIGHT
TZOFFSETFROM:-0600
TZOFFSETTO:-0500
TZNAME:CDT
DTSTART:20240310T080000
END:DAYLIGHT
BEGIN:STANDARD
TZOFFSETFROM:-0500
TZOFFSETTO:-0600
TZNAME:CST
DTSTART:20241103T070000
END:STANDARD
END:VTIMEZONE
BEGIN:VEVENT
DTSTART;TZID=America/Chicago:20230719T190000
DTEND;TZID=America/Chicago:20230719T210000
DTSTAMP:20260425T232553
CREATED:20230427T181008Z
LAST-MODIFIED:20230622T165313Z
UID:10000080-1689793200-1689800400@iamforher.org
SUMMARY:Her Table: The Lioness Within with Jae Ricks
DESCRIPTION:Her Table is a shared meal that provides an opportunity for women to connect over good food and meaningful conversation. Dinner\, babysitting\, and all materials will be provided. \nThe Lioness Within \nA lioness is an emblematic representation of strength\, courage\, and leadership. She reigns supreme as Queen of the Jungle – so don’t underestimate her influence. As powerful and capable leaders\, women deserve respect from others and should not fear speaking up for themselves and standing up for what they believe in. As the lioness cares for her cubs\, we should also take good care in caring for ourselves. Eating healthful foods\, sleeping enough hours each night\, and engaging in regular physical exercise are all vital parts of wellness; surrounding ourselves with positive people who support us is also beneficial; finding activities we enjoy that bring pleasure is another crucial component to overall well-being. Regaining our power can be challenging; it requires courage and resolve\, but ultimately the rewards can be significant: living our lives on our terms allows us to become happier\, healthier\, and more successful individuals. Here are a few more ways you can become like a lioness: \n\nBe confident. A lioness knows that she is the queen of the jungle\, and she carries herself with confidence. We should do the same.\nBe fierce. A lioness is not afraid to fight for what she believes in. We should be the same.\nBe protective. A lioness fiercely protects her cubs. We should be protective of our loved ones and our dreams.\nBe nurturing. A lioness is a nurturing mother. We should be nurturing to ourselves and to others\n\nWe’re honored to have Jennipha “Jae” Ricks facilitate this Her Table! Jae is the Founder & CEO of Jae Elle Consulting\, LLC\, which focuses on the education\, leadership\, and empowerment of women\, and Elluvation\, which focuses on strategic planning and project management. Jae currently serves on the Mayor’s Commission on the Status of Women and sits on the board of the African American Chamber of Commerce. She is a well-respected educator and leader\, with a heart for growing other confident leaders. Believing passionately in the power of education\, leadership\, and empowerment of women and young girls is what drives Jae. She is also a dedicated mother\, daughter\, and friend.
URL:https://iamforher.org/event/her-table-with-jae-ricks/
LOCATION:For Her Community Space\, 8546 Broadway\, Suite 255\, San Antonio\, TX\, 78217\, United States
END:VEVENT
END:VCALENDAR