BEGIN:VCALENDAR
VERSION:2.0
PRODID:-//For Her - ECPv6.15.20//NONSGML v1.0//EN
CALSCALE:GREGORIAN
METHOD:PUBLISH
X-ORIGINAL-URL:https://iamforher.org
X-WR-CALDESC:Events for For Her
REFRESH-INTERVAL;VALUE=DURATION:PT1H
X-Robots-Tag:noindex
X-PUBLISHED-TTL:PT1H
BEGIN:VTIMEZONE
TZID:America/Chicago
BEGIN:DAYLIGHT
TZOFFSETFROM:-0600
TZOFFSETTO:-0500
TZNAME:CDT
DTSTART:20220313T080000
END:DAYLIGHT
BEGIN:STANDARD
TZOFFSETFROM:-0500
TZOFFSETTO:-0600
TZNAME:CST
DTSTART:20221106T070000
END:STANDARD
BEGIN:DAYLIGHT
TZOFFSETFROM:-0600
TZOFFSETTO:-0500
TZNAME:CDT
DTSTART:20230312T080000
END:DAYLIGHT
BEGIN:STANDARD
TZOFFSETFROM:-0500
TZOFFSETTO:-0600
TZNAME:CST
DTSTART:20231105T070000
END:STANDARD
BEGIN:DAYLIGHT
TZOFFSETFROM:-0600
TZOFFSETTO:-0500
TZNAME:CDT
DTSTART:20240310T080000
END:DAYLIGHT
BEGIN:STANDARD
TZOFFSETFROM:-0500
TZOFFSETTO:-0600
TZNAME:CST
DTSTART:20241103T070000
END:STANDARD
END:VTIMEZONE
BEGIN:VEVENT
DTSTART;TZID=America/Chicago:20230830T180000
DTEND;TZID=America/Chicago:20230830T200000
DTSTAMP:20260425T202342
CREATED:20230706T213211Z
LAST-MODIFIED:20230712T192256Z
UID:10000101-1693418400-1693425600@iamforher.org
SUMMARY:Workshop: Overcoming Self-Sabotage & Body Insecurities on Your Health Journey
DESCRIPTION:Join For Her and health coach Savannah Robertson for a workshop focused on overcoming self-sabotage and body insecurities. In this workshop we’ll discuss: \n\nThe psychology of why we self-sabotage\nHow body image and our wellness journey impact one another\nHow to create a customized health and wellness plan that you stick to\n\nWe’re honored to have Savannah Robertson join us to facilitate this workshop! Savannah is a certified health coach who is passionate about helping women redefine what health means to them and gain body confidence in the body they already have. She hosts the Love Your Body Now podcast to open up the conversation for women about the skewed narrative within the diet and fitness industry and guides them to rewrite their own narrative.
URL:https://iamforher.org/event/body-image-wellness-workshop-with-savannah-robertson/
LOCATION:For Her Community Space\, 8546 Broadway\, Suite 255\, San Antonio\, TX\, 78217\, United States
ORGANIZER;CN="For Her":MAILTO:taryn@iamforher.org
END:VEVENT
END:VCALENDAR