BEGIN:VCALENDAR
VERSION:2.0
PRODID:-//For Her - ECPv6.15.20//NONSGML v1.0//EN
CALSCALE:GREGORIAN
METHOD:PUBLISH
X-ORIGINAL-URL:https://iamforher.org
X-WR-CALDESC:Events for For Her
REFRESH-INTERVAL;VALUE=DURATION:PT1H
X-Robots-Tag:noindex
X-PUBLISHED-TTL:PT1H
BEGIN:VTIMEZONE
TZID:America/Chicago
BEGIN:DAYLIGHT
TZOFFSETFROM:-0600
TZOFFSETTO:-0500
TZNAME:CDT
DTSTART:20220313T080000
END:DAYLIGHT
BEGIN:STANDARD
TZOFFSETFROM:-0500
TZOFFSETTO:-0600
TZNAME:CST
DTSTART:20221106T070000
END:STANDARD
BEGIN:DAYLIGHT
TZOFFSETFROM:-0600
TZOFFSETTO:-0500
TZNAME:CDT
DTSTART:20230312T080000
END:DAYLIGHT
BEGIN:STANDARD
TZOFFSETFROM:-0500
TZOFFSETTO:-0600
TZNAME:CST
DTSTART:20231105T070000
END:STANDARD
BEGIN:DAYLIGHT
TZOFFSETFROM:-0600
TZOFFSETTO:-0500
TZNAME:CDT
DTSTART:20240310T080000
END:DAYLIGHT
BEGIN:STANDARD
TZOFFSETFROM:-0500
TZOFFSETTO:-0600
TZNAME:CST
DTSTART:20241103T070000
END:STANDARD
END:VTIMEZONE
BEGIN:VEVENT
DTSTART;TZID=America/Chicago:20230927T183000
DTEND;TZID=America/Chicago:20230927T200000
DTSTAMP:20260425T232807
CREATED:20230808T161339Z
LAST-MODIFIED:20230922T222617Z
UID:10000117-1695839400-1695844800@iamforher.org
SUMMARY:Her Circle: Queer Connections
DESCRIPTION:Queer Connections is for queer women and nonbinary folks to share a space in which they can build meaningful connections and community. Join us as we facilitate queer joy through celebrating\, supporting\, and uplifting each other.  \nThis circle will meet on the 2nd and 4th Wednesday of each month. No worries if you can’t make it for every group! Friends are always welcome. Snacks and drinks are provided; feel free to bring your own dinner! \nHer Circle: Queer Connections will be meeting at Vice Versa Coffee for this gathering. \n*Please note babysitting is not provided for this gathering.
URL:https://iamforher.org/event/her-circle-queer-connections-4/
LOCATION:Contact us for Location
ORGANIZER;CN="For Her":MAILTO:development@iamforher.org
END:VEVENT
BEGIN:VEVENT
DTSTART;TZID=America/Chicago:20230927T183000
DTEND;TZID=America/Chicago:20230927T203000
DTSTAMP:20260425T232807
CREATED:20230427T181938Z
LAST-MODIFIED:20230927T162953Z
UID:10000086-1695839400-1695846600@iamforher.org
SUMMARY:Career Workshop Series: Women in Leadership Panel & Networking Happy Hour
DESCRIPTION:Every Wednesday in September\, join For Her for a four-week workshop series on career exploration and development! We’ll focus on identifying your skills and competencies and learn how to get from where you are to where you want to go. \nThe series will conclude on September 27th with a panel of diverse professional women from a variety of fields sharing about their career journeys and answering our questions about building a career that is rewarding and sustainable. Panelists who will be present come from the banking\, higher education\, business\, and public service sectors. \nWe’ll also have a networking happy hour with drinks and small bites and will offer headshots to our community members that evening\, so come ready to mix and mingle and have your photo taken! \n*Please note babysitting is not provided for this gathering.
URL:https://iamforher.org/event/her-table-career-workshop-series-4/
LOCATION:For Her Community Space\, 8546 Broadway\, Suite 255\, San Antonio\, TX\, 78217\, United States
END:VEVENT
END:VCALENDAR