BEGIN:VCALENDAR
VERSION:2.0
PRODID:-//For Her - ECPv6.15.20//NONSGML v1.0//EN
CALSCALE:GREGORIAN
METHOD:PUBLISH
X-ORIGINAL-URL:https://iamforher.org
X-WR-CALDESC:Events for For Her
REFRESH-INTERVAL;VALUE=DURATION:PT1H
X-Robots-Tag:noindex
X-PUBLISHED-TTL:PT1H
BEGIN:VTIMEZONE
TZID:America/Chicago
BEGIN:DAYLIGHT
TZOFFSETFROM:-0600
TZOFFSETTO:-0500
TZNAME:CDT
DTSTART:20220313T080000
END:DAYLIGHT
BEGIN:STANDARD
TZOFFSETFROM:-0500
TZOFFSETTO:-0600
TZNAME:CST
DTSTART:20221106T070000
END:STANDARD
BEGIN:DAYLIGHT
TZOFFSETFROM:-0600
TZOFFSETTO:-0500
TZNAME:CDT
DTSTART:20230312T080000
END:DAYLIGHT
BEGIN:STANDARD
TZOFFSETFROM:-0500
TZOFFSETTO:-0600
TZNAME:CST
DTSTART:20231105T070000
END:STANDARD
BEGIN:DAYLIGHT
TZOFFSETFROM:-0600
TZOFFSETTO:-0500
TZNAME:CDT
DTSTART:20240310T080000
END:DAYLIGHT
BEGIN:STANDARD
TZOFFSETFROM:-0500
TZOFFSETTO:-0600
TZNAME:CST
DTSTART:20241103T070000
END:STANDARD
END:VTIMEZONE
BEGIN:VEVENT
DTSTART;TZID=America/Chicago:20231018T190000
DTEND;TZID=America/Chicago:20231018T210000
DTSTAMP:20260425T184955
CREATED:20230912T184649Z
LAST-MODIFIED:20230921T192459Z
UID:10000135-1697655600-1697662800@iamforher.org
SUMMARY:Her Table: Healthy Relationships with Teresa Bethany\, LMFT
DESCRIPTION:Her Table is a shared meal that provides an opportunity for women to connect over good food and meaningful conversation. Dinner\, babysitting\, and all materials will be provided. Friends are always welcome! \nWorkshop Topic: Healthy Relationships \nJoin us for Her Table on October 16th\, as we dive into the keys to building and sustaining healthier\, more fulfilling relationships that stand the test of time. Whether you’re in a long-term relationship or exploring new connections\, this workshop inspired by the wisdom of John Gottman will equip you with the tools to nurture your emotional well-being\, foster stronger connections\, and achieve a greater sense of resilience in the face of life’s challenges. \nFacilitator: Teresa Bethany\, LMFT \nWe’re honored to have our own Teresa Bethany join us to facilitate this Her Table! Born and raised in San Antonio\, TX\, Teresa Bethany earned her Master’s in Family Therapy from St. Mary’s University and is a Licensed Marriage and Family Therapist. For the past six years\, she worked in a nonviolence program leading both individual and group sessions focusing on ending generational family violence patterns. As our full-time on-site therapist\, she helps women in our program by providing individual counseling\, facilitating therapy groups\, and leading restorative workshops. \nDinner: Provided by The Mayor’s Commission on the Status of Women \nVegetarian options will be available.
URL:https://iamforher.org/event/healthy-relationship-with-teresa-bethany-lmft/
LOCATION:For Her Community Space\, 8546 Broadway\, Suite 255\, San Antonio\, TX\, 78217\, United States
ORGANIZER;CN="For Her":MAILTO:development@iamforher.org
END:VEVENT
END:VCALENDAR