BEGIN:VCALENDAR
VERSION:2.0
PRODID:-//For Her - ECPv6.15.20//NONSGML v1.0//EN
CALSCALE:GREGORIAN
METHOD:PUBLISH
X-WR-CALNAME:For Her
X-ORIGINAL-URL:https://iamforher.org
X-WR-CALDESC:Events for For Her
REFRESH-INTERVAL;VALUE=DURATION:PT1H
X-Robots-Tag:noindex
X-PUBLISHED-TTL:PT1H
BEGIN:VTIMEZONE
TZID:America/Chicago
BEGIN:DAYLIGHT
TZOFFSETFROM:-0600
TZOFFSETTO:-0500
TZNAME:CDT
DTSTART:20220313T080000
END:DAYLIGHT
BEGIN:STANDARD
TZOFFSETFROM:-0500
TZOFFSETTO:-0600
TZNAME:CST
DTSTART:20221106T070000
END:STANDARD
BEGIN:DAYLIGHT
TZOFFSETFROM:-0600
TZOFFSETTO:-0500
TZNAME:CDT
DTSTART:20230312T080000
END:DAYLIGHT
BEGIN:STANDARD
TZOFFSETFROM:-0500
TZOFFSETTO:-0600
TZNAME:CST
DTSTART:20231105T070000
END:STANDARD
BEGIN:DAYLIGHT
TZOFFSETFROM:-0600
TZOFFSETTO:-0500
TZNAME:CDT
DTSTART:20240310T080000
END:DAYLIGHT
BEGIN:STANDARD
TZOFFSETFROM:-0500
TZOFFSETTO:-0600
TZNAME:CST
DTSTART:20241103T070000
END:STANDARD
END:VTIMEZONE
BEGIN:VEVENT
DTSTART;TZID=America/Chicago:20231115T190000
DTEND;TZID=America/Chicago:20231115T210000
DTSTAMP:20260425T171841
CREATED:20230912T190308Z
LAST-MODIFIED:20231109T201644Z
UID:10000140-1700074800-1700082000@iamforher.org
SUMMARY:Her Table: The Financial Future of You with Jasmine Paul
DESCRIPTION:Her Table is a shared meal that provides an opportunity for women to connect over good food and meaningful conversation. Dinner\, babysitting\, and all materials will be provided. Friends are always welcome! \nWorkshop Topic: The Financial Future of You \nJoin us for Her Table on November 15th\, as we engage with financial topics such as money mindset\, savings\, investing\, recovering from financial mistakes\, and more in order to secure our financial future. \nFacilitator: Jasmine Paul \nWe’re honored to partner with Jasmine Paul to bring this empowering financial literacy workshop to the For Her community. Jasmine is an award-winning author\, speaker\, and founder focused on making wealth fun! Jasmine served in the United States Air Force for ten years as a nuclear missile officer and finance officer across the US\, South Korea\, and Afghanistan. She is also the founder of The Wealth Playground\, a financial education startup teaching youth ages 5-18 about money. She has taught workshops and engagements for the Oakland/Berkley YWCA\, the Taco Bell Foundation\, the St. Louis Public School District\, and more. \nDinner: Provided by the San Antonio Paralegal Association \nVegetarian options will be available.
URL:https://iamforher.org/event/her-table-personal-finance-with-jasmine-paul/
LOCATION:For Her Community Space\, 8546 Broadway\, Suite 255\, San Antonio\, TX\, 78217\, United States
ORGANIZER;CN="For Her":MAILTO:development@iamforher.org
END:VEVENT
END:VCALENDAR