BEGIN:VCALENDAR
VERSION:2.0
PRODID:-//For Her - ECPv6.15.20//NONSGML v1.0//EN
CALSCALE:GREGORIAN
METHOD:PUBLISH
X-WR-CALNAME:For Her
X-ORIGINAL-URL:https://iamforher.org
X-WR-CALDESC:Events for For Her
REFRESH-INTERVAL;VALUE=DURATION:PT1H
X-Robots-Tag:noindex
X-PUBLISHED-TTL:PT1H
BEGIN:VTIMEZONE
TZID:America/Chicago
BEGIN:DAYLIGHT
TZOFFSETFROM:-0600
TZOFFSETTO:-0500
TZNAME:CDT
DTSTART:20230312T080000
END:DAYLIGHT
BEGIN:STANDARD
TZOFFSETFROM:-0500
TZOFFSETTO:-0600
TZNAME:CST
DTSTART:20231105T070000
END:STANDARD
BEGIN:DAYLIGHT
TZOFFSETFROM:-0600
TZOFFSETTO:-0500
TZNAME:CDT
DTSTART:20240310T080000
END:DAYLIGHT
BEGIN:STANDARD
TZOFFSETFROM:-0500
TZOFFSETTO:-0600
TZNAME:CST
DTSTART:20241103T070000
END:STANDARD
BEGIN:DAYLIGHT
TZOFFSETFROM:-0600
TZOFFSETTO:-0500
TZNAME:CDT
DTSTART:20250309T080000
END:DAYLIGHT
BEGIN:STANDARD
TZOFFSETFROM:-0500
TZOFFSETTO:-0600
TZNAME:CST
DTSTART:20251102T070000
END:STANDARD
END:VTIMEZONE
BEGIN:VEVENT
DTSTART;TZID=America/Chicago:20240117T183000
DTEND;TZID=America/Chicago:20240117T203000
DTSTAMP:20260425T141626
CREATED:20240102T211858Z
LAST-MODIFIED:20240110T231513Z
UID:10000153-1705516200-1705523400@iamforher.org
SUMMARY:Her Table: Goal-Setting & Mindset with Tracy Ross Garcia
DESCRIPTION:Her Table is a shared meal that provides an opportunity for women to connect over good food and meaningful conversation. Dinner\, babysitting\, and all materials will be provided. Friends are always welcome! \nWorkshop Topic: Goal-Setting and Mindset \nKickstart your year with purpose and intention! This Her Table will feature a guided conversation on the goal-setting process and mindset’s role in achieving your dreams. Our hope is that you walk away from this workshop with clarity\, energy\, and actionable best steps in the direction of your SMART goals. \nFacilitator: Tracy Ross Garcia \nWe’re honored to partner with Tracy Ross Garcia to bring this workshop to the For Her community. Tracy is a personal growth coach with a passion for helping women evolve and expand their views and redefine the meaning of success in their lives. \nAs a master communicator\, she combines her ability to connect\, listen\, and articulate key next steps with her own personal journey of transition\, growth\, and healing to help women find their voice again\, gain a fulfilled sense of identity\, and courage to communicate authentically. \nTracy provides a safe space to dig deep and identify obstacles holding you back from leveling up. She believes if you are willing to improve your choices and grow\, you will align with who you are created to be and live a fulfilled\, harmonious life.  \nDinner Provided \nVegetarian options will be available.
URL:https://iamforher.org/event/her-table-goal-setting-with-tracy-ross-garcia/
LOCATION:For Her Community Space\, 8546 Broadway\, Suite 255\, San Antonio\, TX\, 78217\, United States
ORGANIZER;CN="For Her":MAILTO:development@iamforher.org
END:VEVENT
END:VCALENDAR