BEGIN:VCALENDAR
VERSION:2.0
PRODID:-//For Her - ECPv6.15.20//NONSGML v1.0//EN
CALSCALE:GREGORIAN
METHOD:PUBLISH
X-ORIGINAL-URL:https://iamforher.org
X-WR-CALDESC:Events for For Her
REFRESH-INTERVAL;VALUE=DURATION:PT1H
X-Robots-Tag:noindex
X-PUBLISHED-TTL:PT1H
BEGIN:VTIMEZONE
TZID:America/Chicago
BEGIN:DAYLIGHT
TZOFFSETFROM:-0600
TZOFFSETTO:-0500
TZNAME:CDT
DTSTART:20230312T080000
END:DAYLIGHT
BEGIN:STANDARD
TZOFFSETFROM:-0500
TZOFFSETTO:-0600
TZNAME:CST
DTSTART:20231105T070000
END:STANDARD
BEGIN:DAYLIGHT
TZOFFSETFROM:-0600
TZOFFSETTO:-0500
TZNAME:CDT
DTSTART:20240310T080000
END:DAYLIGHT
BEGIN:STANDARD
TZOFFSETFROM:-0500
TZOFFSETTO:-0600
TZNAME:CST
DTSTART:20241103T070000
END:STANDARD
BEGIN:DAYLIGHT
TZOFFSETFROM:-0600
TZOFFSETTO:-0500
TZNAME:CDT
DTSTART:20250309T080000
END:DAYLIGHT
BEGIN:STANDARD
TZOFFSETFROM:-0500
TZOFFSETTO:-0600
TZNAME:CST
DTSTART:20251102T070000
END:STANDARD
END:VTIMEZONE
BEGIN:VEVENT
DTSTART;TZID=America/Chicago:20240120T100000
DTEND;TZID=America/Chicago:20240120T120000
DTSTAMP:20260425T141701
CREATED:20240102T212010Z
LAST-MODIFIED:20240115T002057Z
UID:10000154-1705744800-1705752000@iamforher.org
SUMMARY:Self-Care Saturday: Yoga & Brunch
DESCRIPTION:Join For Her for Self-Care Saturday to prioritize your mental and physical well-being and give yourself the care and attention you deserve! We’ll start our day with a warm-up stretch followed by an energizing 45-minute yoga session. After the class\, For Her will provide a delicious and nourishing brunch. \nWear comfy clothes and bring your water bottle and yoga mat if you’ve got one. Friends are welcome! \nPlease note babysitting will not be provided at this event. \nPresented by Mallory Dougoud and Morph.TheLabel \nMorph.TheLabel\, a woman-owned athleisure brand\, was created in 2021 to celebrate every woman’s differences\, individuality\, and creativity in order to bring unity. Women are not the enemy of other women. It is our differences that make us each unique and it is in those differences that MORPH us all as one. \n*Please note babysitting is not provided for this gathering.
URL:https://iamforher.org/event/self-care-saturday-yoga-brunch/
LOCATION:For Her Community Space\, 8546 Broadway\, Suite 255\, San Antonio\, TX\, 78217\, United States
ORGANIZER;CN="For Her":MAILTO:development@iamforher.org
END:VEVENT
END:VCALENDAR