BEGIN:VCALENDAR
VERSION:2.0
PRODID:-//For Her - ECPv6.15.20//NONSGML v1.0//EN
CALSCALE:GREGORIAN
METHOD:PUBLISH
X-WR-CALNAME:For Her
X-ORIGINAL-URL:https://iamforher.org
X-WR-CALDESC:Events for For Her
REFRESH-INTERVAL;VALUE=DURATION:PT1H
X-Robots-Tag:noindex
X-PUBLISHED-TTL:PT1H
BEGIN:VTIMEZONE
TZID:America/Chicago
BEGIN:DAYLIGHT
TZOFFSETFROM:-0600
TZOFFSETTO:-0500
TZNAME:CDT
DTSTART:20230312T080000
END:DAYLIGHT
BEGIN:STANDARD
TZOFFSETFROM:-0500
TZOFFSETTO:-0600
TZNAME:CST
DTSTART:20231105T070000
END:STANDARD
BEGIN:DAYLIGHT
TZOFFSETFROM:-0600
TZOFFSETTO:-0500
TZNAME:CDT
DTSTART:20240310T080000
END:DAYLIGHT
BEGIN:STANDARD
TZOFFSETFROM:-0500
TZOFFSETTO:-0600
TZNAME:CST
DTSTART:20241103T070000
END:STANDARD
BEGIN:DAYLIGHT
TZOFFSETFROM:-0600
TZOFFSETTO:-0500
TZNAME:CDT
DTSTART:20250309T080000
END:DAYLIGHT
BEGIN:STANDARD
TZOFFSETFROM:-0500
TZOFFSETTO:-0600
TZNAME:CST
DTSTART:20251102T070000
END:STANDARD
END:VTIMEZONE
BEGIN:VEVENT
DTSTART;TZID=America/Chicago:20240201T120000
DTEND;TZID=America/Chicago:20240201T130000
DTSTAMP:20260425T123415
CREATED:20240102T203534Z
LAST-MODIFIED:20240110T232931Z
UID:10000150-1706788800-1706792400@iamforher.org
SUMMARY:For Her Open House
DESCRIPTION:It is with great pleasure that we invite you to For Her’s quarterly open house! \nWe are excited for the opportunity to have you in our community space\, meet our team\, tour our facilities\, and learn more about how For Her serves the women of San Antonio. \nLight lunch will be provided.
URL:https://iamforher.org/event/for-her-open-house-2/
LOCATION:For Her Community Space\, 8546 Broadway\, Suite 255\, San Antonio\, TX\, 78217\, United States
ORGANIZER;CN="For Her":MAILTO:development@iamforher.org
END:VEVENT
BEGIN:VEVENT
DTSTART;TZID=America/Chicago:20240201T183000
DTEND;TZID=America/Chicago:20240201T200000
DTSTAMP:20260425T123415
CREATED:20240129T221321Z
LAST-MODIFIED:20240129T221321Z
UID:10000165-1706812200-1706817600@iamforher.org
SUMMARY:Her Circle en Español (Peer Led)
DESCRIPTION:Her Circle en Español es un grupo pequeno de apoyo para mujeres que hablan espanol en nuestra comunidad. ¡Los círculos se reúnen cada primer y tercer jueves del mes para alentar\, crecer\, conocerte\, y divertirte! \nNos enfocaremos en conversaciones sobre el amor propio\, la resiliencia\, la identidad\, y cultivar una red de apoyo. No te preocupes si no puedes asistir a todas las reuniones. Las amigas siempre son bienvenidas. Proporcionaremos snacks y bebidas; sientete libre de traer tu propia cena. \n*Toma en cuenta que no se proporciona servicio de niñera para esta reunión. \n—— \nHer Circle: Spanish is a small support group for Spanish-speaking women in our community. Circles meet every first and third Thursday for encouragement\, growth\, accountability\, and fun! \nThis spring\, we’re diving into conversations around self-love\, resilience\, identity\, and building community. No worries if you can’t make it for every meeting! Friends are always welcome. Snacks and drinks are provided; feel free to bring your own dinner! \n*Please note babysitting is not provided for this gathering.
URL:https://iamforher.org/event/her-circle-en-espanol-peer-led/
LOCATION:For Her Community Space\, 8546 Broadway\, Suite 255\, San Antonio\, TX\, 78217\, United States
ORGANIZER;CN="For Her":MAILTO:development@iamforher.org
END:VEVENT
END:VCALENDAR