BEGIN:VCALENDAR
VERSION:2.0
PRODID:-//For Her - ECPv6.15.20//NONSGML v1.0//EN
CALSCALE:GREGORIAN
METHOD:PUBLISH
X-WR-CALNAME:For Her
X-ORIGINAL-URL:https://iamforher.org
X-WR-CALDESC:Events for For Her
REFRESH-INTERVAL;VALUE=DURATION:PT1H
X-Robots-Tag:noindex
X-PUBLISHED-TTL:PT1H
BEGIN:VTIMEZONE
TZID:America/Chicago
BEGIN:DAYLIGHT
TZOFFSETFROM:-0600
TZOFFSETTO:-0500
TZNAME:CDT
DTSTART:20230312T080000
END:DAYLIGHT
BEGIN:STANDARD
TZOFFSETFROM:-0500
TZOFFSETTO:-0600
TZNAME:CST
DTSTART:20231105T070000
END:STANDARD
BEGIN:DAYLIGHT
TZOFFSETFROM:-0600
TZOFFSETTO:-0500
TZNAME:CDT
DTSTART:20240310T080000
END:DAYLIGHT
BEGIN:STANDARD
TZOFFSETFROM:-0500
TZOFFSETTO:-0600
TZNAME:CST
DTSTART:20241103T070000
END:STANDARD
BEGIN:DAYLIGHT
TZOFFSETFROM:-0600
TZOFFSETTO:-0500
TZNAME:CDT
DTSTART:20250309T080000
END:DAYLIGHT
BEGIN:STANDARD
TZOFFSETFROM:-0500
TZOFFSETTO:-0600
TZNAME:CST
DTSTART:20251102T070000
END:STANDARD
END:VTIMEZONE
BEGIN:VEVENT
DTSTART;TZID=America/Chicago:20240205T180000
DTEND;TZID=America/Chicago:20240205T193000
DTSTAMP:20260425T105719
CREATED:20240110T233400Z
LAST-MODIFIED:20240115T002236Z
UID:10000163-1707156000-1707161400@iamforher.org
SUMMARY:Her Circle: Single Moms- Working Through Parenting Guilt
DESCRIPTION:Her Circle: Single Moms focuses on empowering and supporting single mothers as they balance parenthood\, career\, and self-care. During this group\, For Her community leader Eliana Sanchez facilitates conversations aimed at discussing challenges and exploring solutions related to being a single mom.  \nIn this session\, we’ll talk about the parenting guilt that often overwhelms single moms and the changes we can make within ourselves to alleviate it. \n“Just because I am a single mother doesn’t mean I cannot be a success.” – Yvonne Kaloki \nFriends are always welcome. Snacks\, drinks\, and onsite babysitting are provided; feel free to bring your own dinner!
URL:https://iamforher.org/event/her-circle-single-moms-7/
LOCATION:For Her Community Space\, 8546 Broadway\, Suite 255\, San Antonio\, TX\, 78217\, United States
ORGANIZER;CN="For Her":MAILTO:development@iamforher.org
END:VEVENT
END:VCALENDAR