BEGIN:VCALENDAR
VERSION:2.0
PRODID:-//For Her - ECPv6.15.20//NONSGML v1.0//EN
CALSCALE:GREGORIAN
METHOD:PUBLISH
X-WR-CALNAME:For Her
X-ORIGINAL-URL:https://iamforher.org
X-WR-CALDESC:Events for For Her
REFRESH-INTERVAL;VALUE=DURATION:PT1H
X-Robots-Tag:noindex
X-PUBLISHED-TTL:PT1H
BEGIN:VTIMEZONE
TZID:America/Chicago
BEGIN:DAYLIGHT
TZOFFSETFROM:-0600
TZOFFSETTO:-0500
TZNAME:CDT
DTSTART:20230312T080000
END:DAYLIGHT
BEGIN:STANDARD
TZOFFSETFROM:-0500
TZOFFSETTO:-0600
TZNAME:CST
DTSTART:20231105T070000
END:STANDARD
BEGIN:DAYLIGHT
TZOFFSETFROM:-0600
TZOFFSETTO:-0500
TZNAME:CDT
DTSTART:20240310T080000
END:DAYLIGHT
BEGIN:STANDARD
TZOFFSETFROM:-0500
TZOFFSETTO:-0600
TZNAME:CST
DTSTART:20241103T070000
END:STANDARD
BEGIN:DAYLIGHT
TZOFFSETFROM:-0600
TZOFFSETTO:-0500
TZNAME:CDT
DTSTART:20250309T080000
END:DAYLIGHT
BEGIN:STANDARD
TZOFFSETFROM:-0500
TZOFFSETTO:-0600
TZNAME:CST
DTSTART:20251102T070000
END:STANDARD
END:VTIMEZONE
BEGIN:VEVENT
DTSTART;VALUE=DATE:20240216
DTEND;VALUE=DATE:20240318
DTSTAMP:20260425T105719
CREATED:20240227T204907Z
LAST-MODIFIED:20240227T205319Z
UID:10000188-1708041600-1710719999@iamforher.org
SUMMARY:Featured Cocktail at The Dakota Benefitting For Her
DESCRIPTION:Stop by The Dakona East Side Ice House and have a drink for a good cause! \nA portion of the proceeds from “The Cara” signature cocktail will support For Her now through March 17th thanks to our generous supporter\, Hazel Davis!
URL:https://iamforher.org/event/cocktails-with-a-cause-at-the-dakota/
LOCATION:The Dakota East Side Ice House\, 433 S Hackberry St\, San Antonio\, TX\, 78203\, United States
ORGANIZER;CN="For Her":MAILTO:development@iamforher.org
END:VEVENT
BEGIN:VEVENT
DTSTART;TZID=America/Chicago:20240219T180000
DTEND;TZID=America/Chicago:20240219T193000
DTSTAMP:20260425T105719
CREATED:20240129T223127Z
LAST-MODIFIED:20240129T223127Z
UID:10000169-1708365600-1708371000@iamforher.org
SUMMARY:Her Circle: Single Moms
DESCRIPTION:Her Circle: Single Moms focuses on empowering and supporting single mothers as they balance parenthood\, career\, and self-care. During this group\, For Her community leader Eliana Sanchez facilitates conversations aimed at discussing challenges and exploring solutions related to being a single mom.  \nIn this session\, we’ll have a lively conversation about what things worked (and didn’t work!) in our parenting at each stage of our children’s lives. The goal is to have group members learn from each other’s successes and mishaps to reduce the stress that comes along with single parenthood. It takes a village\, and we’re in this together! \n“Just because I am a single mother doesn’t mean I cannot be a success.” – Yvonne Kaloki \nFriends are always welcome. Snacks\, drinks\, and onsite babysitting are provided; feel free to bring your own dinner!
URL:https://iamforher.org/event/her-circle-single-moms-8/
LOCATION:For Her Community Space\, 8546 Broadway\, Suite 255\, San Antonio\, TX\, 78217\, United States
ORGANIZER;CN="For Her":MAILTO:development@iamforher.org
END:VEVENT
END:VCALENDAR