BEGIN:VCALENDAR
VERSION:2.0
PRODID:-//For Her - ECPv6.15.20//NONSGML v1.0//EN
CALSCALE:GREGORIAN
METHOD:PUBLISH
X-WR-CALNAME:For Her
X-ORIGINAL-URL:https://iamforher.org
X-WR-CALDESC:Events for For Her
REFRESH-INTERVAL;VALUE=DURATION:PT1H
X-Robots-Tag:noindex
X-PUBLISHED-TTL:PT1H
BEGIN:VTIMEZONE
TZID:America/Chicago
BEGIN:DAYLIGHT
TZOFFSETFROM:-0600
TZOFFSETTO:-0500
TZNAME:CDT
DTSTART:20230312T080000
END:DAYLIGHT
BEGIN:STANDARD
TZOFFSETFROM:-0500
TZOFFSETTO:-0600
TZNAME:CST
DTSTART:20231105T070000
END:STANDARD
BEGIN:DAYLIGHT
TZOFFSETFROM:-0600
TZOFFSETTO:-0500
TZNAME:CDT
DTSTART:20240310T080000
END:DAYLIGHT
BEGIN:STANDARD
TZOFFSETFROM:-0500
TZOFFSETTO:-0600
TZNAME:CST
DTSTART:20241103T070000
END:STANDARD
BEGIN:DAYLIGHT
TZOFFSETFROM:-0600
TZOFFSETTO:-0500
TZNAME:CDT
DTSTART:20250309T080000
END:DAYLIGHT
BEGIN:STANDARD
TZOFFSETFROM:-0500
TZOFFSETTO:-0600
TZNAME:CST
DTSTART:20251102T070000
END:STANDARD
END:VTIMEZONE
BEGIN:VEVENT
DTSTART;VALUE=DATE:20240216
DTEND;VALUE=DATE:20240318
DTSTAMP:20260425T105718
CREATED:20240227T204907Z
LAST-MODIFIED:20240227T205319Z
UID:10000188-1708041600-1710719999@iamforher.org
SUMMARY:Featured Cocktail at The Dakota Benefitting For Her
DESCRIPTION:Stop by The Dakona East Side Ice House and have a drink for a good cause! \nA portion of the proceeds from “The Cara” signature cocktail will support For Her now through March 17th thanks to our generous supporter\, Hazel Davis!
URL:https://iamforher.org/event/cocktails-with-a-cause-at-the-dakota/
LOCATION:The Dakota East Side Ice House\, 433 S Hackberry St\, San Antonio\, TX\, 78203\, United States
ORGANIZER;CN="For Her":MAILTO:development@iamforher.org
END:VEVENT
BEGIN:VEVENT
DTSTART;VALUE=DATE:20240301
DTEND;VALUE=DATE:20240401
DTSTAMP:20260425T105718
CREATED:20240227T205218Z
LAST-MODIFIED:20240227T205218Z
UID:10000189-1709251200-1711929599@iamforher.org
SUMMARY:Featured Cocktails at Ida Claire Benefitting For Her
DESCRIPTION:Get in the spirit with Ida Claire for Women’s History Month and indulge in feature cocktails crafted by their talented female bartenders. \nFor the whole month of March\, Ida Claire will be featuring unique themed cocktails\, with $2 from every cocktail sold donated to For Her!
URL:https://iamforher.org/event/featured-cocktails-at-ida-claire-benefitting-for-her/
LOCATION:Ida Claire\, 7300 Jones Maltsberger Rd\, San Antonio\, TX\, 78209\, United States
ORGANIZER;CN="For Her":MAILTO:development@iamforher.org
END:VEVENT
BEGIN:VEVENT
DTSTART;VALUE=DATE:20240301
DTEND;VALUE=DATE:20240601
DTSTAMP:20260425T105718
CREATED:20240227T205723Z
LAST-MODIFIED:20240402T212528Z
UID:10000190-1709251200-1717199999@iamforher.org
SUMMARY:Cocktails for a Cause at Landrace and The Moon’s Daughters Benefitting For Her
DESCRIPTION:Celebrate the resilient spirit of San Antonio women at Thompson San Antonio and indulge in artisan cocktails benefitting For Her. Throughout March\, April\, and May\, both Landrace and rooftop lounge The Moon’s Daughters will be featuring unique cocktails\, with a portion of proceeds from every cocktail sold donated to For Her!
URL:https://iamforher.org/event/cocktails-for-a-cause-at-landrace-and-the-moons-daughters-benefitting-for-her/
LOCATION:Thompson San Antonio\, 115 Lexington Ave\, San Antonio\, TX\, 78205\, United States
ORGANIZER;CN="For Her":MAILTO:development@iamforher.org
END:VEVENT
BEGIN:VEVENT
DTSTART;TZID=America/Chicago:20240314T183000
DTEND;TZID=America/Chicago:20240314T200000
DTSTAMP:20260425T105718
CREATED:20240130T202227Z
LAST-MODIFIED:20240212T191403Z
UID:10000180-1710441000-1710446400@iamforher.org
SUMMARY:Her Circle en Español (Therapist Led)
DESCRIPTION:Cada segundo Jueves del mes\, Her Circle en Español sera dirigido por un terapeuta. Este grupo de apoyo explorará temas relacionados al autoconocimiento\, relaciones sanas\, trauma\, y como sanar y el bienestar emocional. \nInvitamos a toda aquella mujer a la que le gustaría seguir evolucionando por medio de aprender a como valorarse más\, compartiendo experiencias ya vividas\, y construyendo una red de apoyo. \nSobre la terapeuta: \nMaria Luisa Salinas es una Psicoterapeuta bilingüe y bicultural con 30 años de experiencia profesional\, en la cual incluye su trabajo con mujeres\, sobrevivientes de traumas de la infancia\, violencia familiar\, y violencia doméstica. Su enfoque de asesoramiento es basado en un modelo de empoderamiento. Su meta principal es ayudar a las mujeres a sanar de sus heridas emocionales\, y a enseñarles diferentes maneras de percibir y resolver sus problemas\, actitudes sanas\, y habilidades de comunicación para relacionarse con sus familias\, parejas\, y compañero/as para que puedan tomar buenas decisiones en sus vidas. \nDurante su tiempo libre\, Maria Luisa disfruta de pasar tiempo con sus perritos\, leer\, ir a correr\, practicar yoga\, y viajar con su familia. Ella también disfruta ofreciendo parte de su tiempo como voluntaria en varias organizaciones para apoyar a su comunidad. \n——— \nEvery 2nd Thursday of the month\, Her Circle in Spanish will be therapist-led. This support group will explore topics related to self-awareness\, healthy relationships\, trauma and healing\, and emotional well-being. \nWe invite all women who are looking to continue evolving through learning how to love and value themselves more\, sharing experiences\, and building a network of support. \nAbout the Therapist: \nMaria Luisa Salinas is a bilingual and bicultural psychotherapist with 30 years of professional experience. Her work includes helping women\, survivors of childhood trauma\, family violence\, and domestic violence. Her counseling approach is based on an empowerment model. Her main goal is to assist women in healing from emotional wounds and to teach them different ways of understanding and resolving their problems. This includes fostering healthy attitudes and communication skills to better relate to their families\, partners\, and peers\, empowering them to make positive decisions in their lives. \nDuring her free time\, Maria Luisa enjoys spending time with her dogs\, reading\, running\, practicing yoga\, and traveling with her family. She also enjoys volunteering her time with various organizations to support her community.
URL:https://iamforher.org/event/her-circle-en-espanol-therapist-led/
LOCATION:For Her Community Space\, 8546 Broadway\, Suite 255\, San Antonio\, TX\, 78217\, United States
ORGANIZER;CN="For Her":MAILTO:development@iamforher.org
END:VEVENT
END:VCALENDAR