BEGIN:VCALENDAR
VERSION:2.0
PRODID:-//For Her - ECPv6.15.20//NONSGML v1.0//EN
CALSCALE:GREGORIAN
METHOD:PUBLISH
X-ORIGINAL-URL:https://iamforher.org
X-WR-CALDESC:Events for For Her
REFRESH-INTERVAL;VALUE=DURATION:PT1H
X-Robots-Tag:noindex
X-PUBLISHED-TTL:PT1H
BEGIN:VTIMEZONE
TZID:America/Chicago
BEGIN:DAYLIGHT
TZOFFSETFROM:-0600
TZOFFSETTO:-0500
TZNAME:CDT
DTSTART:20230312T080000
END:DAYLIGHT
BEGIN:STANDARD
TZOFFSETFROM:-0500
TZOFFSETTO:-0600
TZNAME:CST
DTSTART:20231105T070000
END:STANDARD
BEGIN:DAYLIGHT
TZOFFSETFROM:-0600
TZOFFSETTO:-0500
TZNAME:CDT
DTSTART:20240310T080000
END:DAYLIGHT
BEGIN:STANDARD
TZOFFSETFROM:-0500
TZOFFSETTO:-0600
TZNAME:CST
DTSTART:20241103T070000
END:STANDARD
BEGIN:DAYLIGHT
TZOFFSETFROM:-0600
TZOFFSETTO:-0500
TZNAME:CDT
DTSTART:20250309T080000
END:DAYLIGHT
BEGIN:STANDARD
TZOFFSETFROM:-0500
TZOFFSETTO:-0600
TZNAME:CST
DTSTART:20251102T070000
END:STANDARD
END:VTIMEZONE
BEGIN:VEVENT
DTSTART;TZID=America/Chicago:20240626T120000
DTEND;TZID=America/Chicago:20240626T133000
DTSTAMP:20260425T055746
CREATED:20240624T174724Z
LAST-MODIFIED:20240625T133140Z
UID:10000253-1719403200-1719408600@iamforher.org
SUMMARY:Lunch & Learn Series - Parenting Support: Tackling Tantrums
DESCRIPTION:Join us for a virtual Lunch and Learn session designed to support women and non-binary individuals in various aspects of their lives. This interactive class will offer valuable insights\, practical advice\, and a supportive community to help you navigate personal and professional challenges. Grab your lunch\, log in\, and let’s grow together! \n\nCLICK HERE TO SAVE YOUR SPOT \n 
URL:https://iamforher.org/event/lunch-learn-series-parenting-support-tackling-tantrums/
LOCATION:TX
END:VEVENT
END:VCALENDAR