BEGIN:VCALENDAR
VERSION:2.0
PRODID:-//For Her - ECPv6.15.20//NONSGML v1.0//EN
CALSCALE:GREGORIAN
METHOD:PUBLISH
X-WR-CALNAME:For Her
X-ORIGINAL-URL:https://iamforher.org
X-WR-CALDESC:Events for For Her
REFRESH-INTERVAL;VALUE=DURATION:PT1H
X-Robots-Tag:noindex
X-PUBLISHED-TTL:PT1H
BEGIN:VTIMEZONE
TZID:America/Chicago
BEGIN:DAYLIGHT
TZOFFSETFROM:-0600
TZOFFSETTO:-0500
TZNAME:CDT
DTSTART:20230312T080000
END:DAYLIGHT
BEGIN:STANDARD
TZOFFSETFROM:-0500
TZOFFSETTO:-0600
TZNAME:CST
DTSTART:20231105T070000
END:STANDARD
BEGIN:DAYLIGHT
TZOFFSETFROM:-0600
TZOFFSETTO:-0500
TZNAME:CDT
DTSTART:20240310T080000
END:DAYLIGHT
BEGIN:STANDARD
TZOFFSETFROM:-0500
TZOFFSETTO:-0600
TZNAME:CST
DTSTART:20241103T070000
END:STANDARD
BEGIN:DAYLIGHT
TZOFFSETFROM:-0600
TZOFFSETTO:-0500
TZNAME:CDT
DTSTART:20250309T080000
END:DAYLIGHT
BEGIN:STANDARD
TZOFFSETFROM:-0500
TZOFFSETTO:-0600
TZNAME:CST
DTSTART:20251102T070000
END:STANDARD
END:VTIMEZONE
BEGIN:VEVENT
DTSTART;TZID=America/Chicago:20240821T183000
DTEND;TZID=America/Chicago:20240821T203000
DTSTAMP:20260424T201835
CREATED:20240717T171617Z
LAST-MODIFIED:20240806T223456Z
UID:10000261-1724265000-1724272200@iamforher.org
SUMMARY:Career Workshop Series #2: Evaluating Your Work Values & Tailoring Your Cover Letter
DESCRIPTION:Join us for the second episode of our career workshop series\n\nWorkshop Topic: Evaluating Your Work Values & Tailoring Your Cover Letter\n\nDiscover the keys to aligning your career with your personal values and crafting a compelling cover letter. In this workshop\, you’ll\n\nIdentify your core work values and understand how they influence your career satisfaction and choices\nLearn techniques to effectively tailor your cover letter to specific companies and job positions\n\nNote that babysitting will not be provided for this event\n\n\nFacilitator: Sabina Kapoor\nWith two decades of experience in higher education\, Sabina Kapoor has used her award-winning leadership to empower thousands of minority students and developed hundreds of staff. She has extensive experience working at an Hispanic Serving Institution and the only dual-designated HBCU and HSI. Ms. Kapoor’s primary focus has shifted to examining the relationship between the employee and organization. She is currently pursuing her doctorate in industrial/organizational psychology and is involved in the College and University Professional Association for Human Resources and The Society for Industrial and Organizational Psychology. Her passion to help others thrive has led her to For Her\, where she works with women who want to change their life trajectory. Ms. Kapoor is excited about sharing information that can help participants learn more about possible careers through the For Her Career Workshop Series.
URL:https://iamforher.org/event/career-series-2/
LOCATION:For Her Community Space\, 8546 Broadway\, Suite 255\, San Antonio\, TX\, 78217\, United States
ORGANIZER;CN="For Her":MAILTO:development@iamforher.org
END:VEVENT
END:VCALENDAR