BEGIN:VCALENDAR
VERSION:2.0
PRODID:-//For Her - ECPv6.15.20//NONSGML v1.0//EN
CALSCALE:GREGORIAN
METHOD:PUBLISH
X-WR-CALNAME:For Her
X-ORIGINAL-URL:https://iamforher.org
X-WR-CALDESC:Events for For Her
REFRESH-INTERVAL;VALUE=DURATION:PT1H
X-Robots-Tag:noindex
X-PUBLISHED-TTL:PT1H
BEGIN:VTIMEZONE
TZID:America/Chicago
BEGIN:DAYLIGHT
TZOFFSETFROM:-0600
TZOFFSETTO:-0500
TZNAME:CDT
DTSTART:20230312T080000
END:DAYLIGHT
BEGIN:STANDARD
TZOFFSETFROM:-0500
TZOFFSETTO:-0600
TZNAME:CST
DTSTART:20231105T070000
END:STANDARD
BEGIN:DAYLIGHT
TZOFFSETFROM:-0600
TZOFFSETTO:-0500
TZNAME:CDT
DTSTART:20240310T080000
END:DAYLIGHT
BEGIN:STANDARD
TZOFFSETFROM:-0500
TZOFFSETTO:-0600
TZNAME:CST
DTSTART:20241103T070000
END:STANDARD
BEGIN:DAYLIGHT
TZOFFSETFROM:-0600
TZOFFSETTO:-0500
TZNAME:CDT
DTSTART:20250309T080000
END:DAYLIGHT
BEGIN:STANDARD
TZOFFSETFROM:-0500
TZOFFSETTO:-0600
TZNAME:CST
DTSTART:20251102T070000
END:STANDARD
BEGIN:DAYLIGHT
TZOFFSETFROM:-0600
TZOFFSETTO:-0500
TZNAME:CDT
DTSTART:20260308T080000
END:DAYLIGHT
BEGIN:STANDARD
TZOFFSETFROM:-0500
TZOFFSETTO:-0600
TZNAME:CST
DTSTART:20261101T070000
END:STANDARD
END:VTIMEZONE
BEGIN:VEVENT
DTSTART;VALUE=DATE:20241220
DTEND;VALUE=DATE:20250106
DTSTAMP:20260424T111146
CREATED:20241021T213854Z
LAST-MODIFIED:20241114T220504Z
UID:10000298-1734652800-1736121599@iamforher.org
SUMMARY:For Her Closed for the Holidays
DESCRIPTION:For Her will be closed December 20th to January 5th for the holidays. \nOur community space and office will return to regular hours on Monday\, January 6th\, 2025. \nWe wish you a holiday season filled with joy. \n\nResources Directory \n\nEmergencies: 911\nSuicide and Crisis Lifeline: 988\nBexar County Community Resources: 311\nSACRD.org\n211texas.org\n\nHotlines \n\n24-hour Crisis/Mental Health and Substance Abuse Helpline: 1-(800)-316-9241 or (210) 223-SAFE (7233)\n24-hour National Domestic Violence Hotline: Call 800-799-7233 or text START to 8878\nRape Crisis Center 24-hour hotline: Call (210) 349-7273 or chat online at rapecrisis.com/chat\nHomeless Connections Hotline in San Antonio: (210) 207-1799. The hotline is open Monday through Friday from 8:30 AM to 4:30 PM.\n\n 
URL:https://iamforher.org/event/for-her-closed-for-the-holidays-2/
LOCATION:For Her Community Space\, 8546 Broadway\, Suite 255\, San Antonio\, TX\, 78217\, United States
ORGANIZER;CN="For Her":MAILTO:development@iamforher.org
END:VEVENT
END:VCALENDAR