BEGIN:VCALENDAR
VERSION:2.0
PRODID:-//For Her - ECPv6.15.20//NONSGML v1.0//EN
CALSCALE:GREGORIAN
METHOD:PUBLISH
X-ORIGINAL-URL:https://iamforher.org
X-WR-CALDESC:Events for For Her
REFRESH-INTERVAL;VALUE=DURATION:PT1H
X-Robots-Tag:noindex
X-PUBLISHED-TTL:PT1H
BEGIN:VTIMEZONE
TZID:America/Chicago
BEGIN:DAYLIGHT
TZOFFSETFROM:-0600
TZOFFSETTO:-0500
TZNAME:CDT
DTSTART:20240310T080000
END:DAYLIGHT
BEGIN:STANDARD
TZOFFSETFROM:-0500
TZOFFSETTO:-0600
TZNAME:CST
DTSTART:20241103T070000
END:STANDARD
BEGIN:DAYLIGHT
TZOFFSETFROM:-0600
TZOFFSETTO:-0500
TZNAME:CDT
DTSTART:20250309T080000
END:DAYLIGHT
BEGIN:STANDARD
TZOFFSETFROM:-0500
TZOFFSETTO:-0600
TZNAME:CST
DTSTART:20251102T070000
END:STANDARD
BEGIN:DAYLIGHT
TZOFFSETFROM:-0600
TZOFFSETTO:-0500
TZNAME:CDT
DTSTART:20260308T080000
END:DAYLIGHT
BEGIN:STANDARD
TZOFFSETFROM:-0500
TZOFFSETTO:-0600
TZNAME:CST
DTSTART:20261101T070000
END:STANDARD
END:VTIMEZONE
BEGIN:VEVENT
DTSTART;VALUE=DATE:20250305
DTEND;VALUE=DATE:20250401
DTSTAMP:20260424T081024
CREATED:20250317T182925Z
LAST-MODIFIED:20250317T184339Z
UID:10000353-1741132800-1743465599@iamforher.org
SUMMARY:Featured Cocktails at Ida Claire Benefitting For Her
DESCRIPTION:Get in the spirit with Ida Claire for Women’s History Month and indulge in feature cocktails crafted by their talented female bartenders! \nMarch 5th – 31st\, Ida Claire will be featuring unique cocktails with $2 from every cocktail sold\, donated to For Her!
URL:https://iamforher.org/event/featured-cocktails-at-ida-claire-benefitting-for-her-2/
LOCATION:Ida Claire\, 7300 Jones Maltsberger Rd\, San Antonio\, TX\, 78209\, United States
ORGANIZER;CN="For Her":MAILTO:development@iamforher.org
END:VEVENT
BEGIN:VEVENT
DTSTART;TZID=America/Chicago:20250323T140000
DTEND;TZID=America/Chicago:20250323T163000
DTSTAMP:20260424T081024
CREATED:20250219T211238Z
LAST-MODIFIED:20250308T191925Z
UID:10000349-1742738400-1742747400@iamforher.org
SUMMARY:Women Empowered: Self-Defense Seminar
DESCRIPTION:This March\, Gracie Jiu Jitsu Northwest San Antonio is hosting a free Women Empowered Self-Defense Seminar\, open to all women ready to take the first step in self-defense and personal empowerment. \nIn this hands-on session\, you’ll learn: \n\nEssential self defense techniques to protect yourself in real-world situations. \nEscape strategies from common attack scenarios\, including grabs and holds. \nHow to stay calm\, confident\, and in control under pressure. \n\nLed by experienced instructors in a safe and supportive environment\, this seminar is the perfect introduction to self-defense—no prior experience required! Reserve your spot now and join us in building strength\, confidence\, and community.  \nWhat to Bring: \n\nWear comfortable athletic clothing\, such as leggings\, t-shirts\, etc. \nA water bottle to stay hydrated on the mat\nExcitement to try a new thing!\n\nThis event will be held at the Gracie Jiu Jitsu Northwest San Antonio space located at 8131 I-10 suite 230\, San Antonio\, TX 78230 \n*Please note we are unable to provide childcare at this workshop.
URL:https://iamforher.org/event/women-empowered-self-defense-seminar/
LOCATION:Gracie Jiu Jitsu\, 8131 I-10 suite 230\, San Antonio\, TX\, 78230\, United States
ORGANIZER;CN="For Her":MAILTO:development@iamforher.org
END:VEVENT
END:VCALENDAR