BEGIN:VCALENDAR
VERSION:2.0
PRODID:-//For Her - ECPv6.15.20//NONSGML v1.0//EN
CALSCALE:GREGORIAN
METHOD:PUBLISH
X-WR-CALNAME:For Her
X-ORIGINAL-URL:https://iamforher.org
X-WR-CALDESC:Events for For Her
REFRESH-INTERVAL;VALUE=DURATION:PT1H
X-Robots-Tag:noindex
X-PUBLISHED-TTL:PT1H
BEGIN:VTIMEZONE
TZID:America/Chicago
BEGIN:DAYLIGHT
TZOFFSETFROM:-0600
TZOFFSETTO:-0500
TZNAME:CDT
DTSTART:20240310T080000
END:DAYLIGHT
BEGIN:STANDARD
TZOFFSETFROM:-0500
TZOFFSETTO:-0600
TZNAME:CST
DTSTART:20241103T070000
END:STANDARD
BEGIN:DAYLIGHT
TZOFFSETFROM:-0600
TZOFFSETTO:-0500
TZNAME:CDT
DTSTART:20250309T080000
END:DAYLIGHT
BEGIN:STANDARD
TZOFFSETFROM:-0500
TZOFFSETTO:-0600
TZNAME:CST
DTSTART:20251102T070000
END:STANDARD
BEGIN:DAYLIGHT
TZOFFSETFROM:-0600
TZOFFSETTO:-0500
TZNAME:CDT
DTSTART:20260308T080000
END:DAYLIGHT
BEGIN:STANDARD
TZOFFSETFROM:-0500
TZOFFSETTO:-0600
TZNAME:CST
DTSTART:20261101T070000
END:STANDARD
END:VTIMEZONE
BEGIN:VEVENT
DTSTART;TZID=America/Chicago:20250402T183000
DTEND;TZID=America/Chicago:20250402T203000
DTSTAMP:20260424T031357
CREATED:20250331T175612Z
LAST-MODIFIED:20250401T173451Z
UID:10000354-1743618600-1743625800@iamforher.org
SUMMARY:Her Table: Building Your Financial Resilience
DESCRIPTION:Her Table is a shared meal that provides an opportunity for women to connect over good food and meaningful conversation. Dinner\, babysitting\, and all materials will be provided. Friends are always welcome! \nWorkshop Topic: Building Your Financial Resilience: A Roadmap to Empowerment \nMoney stress? We’ve all been there! But building financial resilience doesn’t have to feel overwhelming. In this interactive workshop\, we’ll break it down step by step\, helping you create a personalized roadmap to financial empowerment. From tackling today’s money challenges to planning for your future dreams\, you’ll gain practical tools to take control of your finances with confidence. Let’s take the mystery out of financial planning and build a future that feels secure and abundant! \nIn this workshop\, we’ll create our own personalized “Financial Resilience Plan” by breaking it down into three actionable timeframes—short-term\, medium-term\, and long-term. \n3 Key Takeaways: \n\nShort-Term Action: Develop a concrete strategy to tackle financial challenges like debt management and building an emergency fund. Participants will leave with actionable steps to stabilize their finances immediately.\nMedium-Term Strategy: Learn how to start investing and saving toward life goals using low-risk strategies\, empowering women to grow their wealth while minimizing risk.\nLong-Term Vision: Understand the importance of retirement planning\, legacy building\, and creating a path to financial independence. By taking the first steps early\, women can secure their financial future and leave a lasting legacy.\n\nFacilitators: Lina Rugova and Christine Colburn of Emerge and Rise \nFounded in 2021\, Emerge and Rise™ is a people-centered Entrepreneurial Support Organization (ESO) based in San Antonio. We exist to help underserved founders build businesses that last\, without burning out or doing it all alone. Our work blends business development with social innovation. We focus on real-world solutions: mental health\, digital and financial literacy\, access to capital\, trusted support\, and systems that reduce owner over-reliance. Through our holistic framework\, we help entrepreneurs grow with clarity\, confidence\, and long-term impact\, while contributing to the economic and social vitality of our communities. We’re not just building businesses. We’re reshaping what sustainable entrepreneurship looks like—for the people behind the ideas. \nDinner Provided from Pei Wei \nVegetarian options will be available.
URL:https://iamforher.org/event/her-table-building-your-financial-resilience/
LOCATION:For Her Community Space\, 8546 Broadway\, Suite 255\, San Antonio\, TX\, 78217\, United States
ORGANIZER;CN="For Her":MAILTO:development@iamforher.org
END:VEVENT
END:VCALENDAR