BEGIN:VCALENDAR
VERSION:2.0
PRODID:-//For Her - ECPv6.15.20//NONSGML v1.0//EN
CALSCALE:GREGORIAN
METHOD:PUBLISH
X-ORIGINAL-URL:https://iamforher.org
X-WR-CALDESC:Events for For Her
REFRESH-INTERVAL;VALUE=DURATION:PT1H
X-Robots-Tag:noindex
X-PUBLISHED-TTL:PT1H
BEGIN:VTIMEZONE
TZID:America/Chicago
BEGIN:DAYLIGHT
TZOFFSETFROM:-0600
TZOFFSETTO:-0500
TZNAME:CDT
DTSTART:20240310T080000
END:DAYLIGHT
BEGIN:STANDARD
TZOFFSETFROM:-0500
TZOFFSETTO:-0600
TZNAME:CST
DTSTART:20241103T070000
END:STANDARD
BEGIN:DAYLIGHT
TZOFFSETFROM:-0600
TZOFFSETTO:-0500
TZNAME:CDT
DTSTART:20250309T080000
END:DAYLIGHT
BEGIN:STANDARD
TZOFFSETFROM:-0500
TZOFFSETTO:-0600
TZNAME:CST
DTSTART:20251102T070000
END:STANDARD
BEGIN:DAYLIGHT
TZOFFSETFROM:-0600
TZOFFSETTO:-0500
TZNAME:CDT
DTSTART:20260308T080000
END:DAYLIGHT
BEGIN:STANDARD
TZOFFSETFROM:-0500
TZOFFSETTO:-0600
TZNAME:CST
DTSTART:20261101T070000
END:STANDARD
END:VTIMEZONE
BEGIN:VEVENT
DTSTART;TZID=America/Chicago:20250416T183000
DTEND;TZID=America/Chicago:20250416T203000
DTSTAMP:20260424T031716
CREATED:20250403T165811Z
LAST-MODIFIED:20250403T165847Z
UID:10000356-1744828200-1744835400@iamforher.org
SUMMARY:Her Table: Empowering Relationships with Jessica Hopkins
DESCRIPTION:Her Table is a shared meal that provides an opportunity for women to connect over good food and meaningful conversation. Dinner\, babysitting\, and all materials will be provided. Friends are always welcome! \nWorkshop Topic: Empowering Relationships: Recognizing Red Flags & Building Healthy Connections \nJoin For Her for an empowering workshop designed to help women gain a clear understanding of what makes a relationship healthy and how to recognize warning signs of potential issues. \nThrough interactive discussions and engaging activities\, you’ll explore the essential elements of both healthy and unhealthy partnerships including: \n\nLearn to recognize relationship red flags such as excessive jealousy\, controlling behavior\, manipulation\, and disrespect for boundaries.\nGain insights into behaviors that can isolate you from your support network\, including friends and family.\n\nYou’ll also walk away with practical tools and strategies to: \n\nAssess the health of your relationships.\nSet boundaries that protect your emotional well-being.\nMake informed decisions that prioritize your safety and self-worth.\n\nBy the end of this workshop\, you’ll be empowered with the knowledge and confidence to identify red flags early on\, reclaim your self-worth\, and build relationships that are supportive\, respectful\, and fulfilling. \nThis is your opportunity to take control of your relationship journey—join us and invest in your emotional and mental well-being! \nFacilitator: Jessica Hopkins \nJessica is a resilient survivor of narcissistic abuse\, an advocate for healing\, and a passionate voice for women reclaiming their power. After breaking free from a toxic relationship that once overshadowed her identity\, she embarked on a profound journey of self-discovery\, rebuilding her confidence\, and redefining her sense of self-worth. \nToday\, Jessica is dedicated to helping other women recognize their strength\, overcome emotional manipulation\, and transform their pain into purpose. Through her work as a mentor\, speaker\, and educator\, she empowers survivors to heal\, rebuild their lives\, and embrace their full potential. Her story is a testament to the power of resilience\, and her mission is to show women everywhere that they are capable of not just surviving but thriving. \nDinner Provided \nVegetarian options will be available.
URL:https://iamforher.org/event/her-table-empowering-relationships-with-jessica-hopkins/
LOCATION:For Her Community Space\, 8546 Broadway\, Suite 255\, San Antonio\, TX\, 78217\, United States
ORGANIZER;CN="For Her":MAILTO:development@iamforher.org
END:VEVENT
END:VCALENDAR