BEGIN:VCALENDAR
VERSION:2.0
PRODID:-//For Her - ECPv6.15.20//NONSGML v1.0//EN
CALSCALE:GREGORIAN
METHOD:PUBLISH
X-ORIGINAL-URL:https://iamforher.org
X-WR-CALDESC:Events for For Her
REFRESH-INTERVAL;VALUE=DURATION:PT1H
X-Robots-Tag:noindex
X-PUBLISHED-TTL:PT1H
BEGIN:VTIMEZONE
TZID:America/Chicago
BEGIN:DAYLIGHT
TZOFFSETFROM:-0600
TZOFFSETTO:-0500
TZNAME:CDT
DTSTART:20240310T080000
END:DAYLIGHT
BEGIN:STANDARD
TZOFFSETFROM:-0500
TZOFFSETTO:-0600
TZNAME:CST
DTSTART:20241103T070000
END:STANDARD
BEGIN:DAYLIGHT
TZOFFSETFROM:-0600
TZOFFSETTO:-0500
TZNAME:CDT
DTSTART:20250309T080000
END:DAYLIGHT
BEGIN:STANDARD
TZOFFSETFROM:-0500
TZOFFSETTO:-0600
TZNAME:CST
DTSTART:20251102T070000
END:STANDARD
BEGIN:DAYLIGHT
TZOFFSETFROM:-0600
TZOFFSETTO:-0500
TZNAME:CDT
DTSTART:20260308T080000
END:DAYLIGHT
BEGIN:STANDARD
TZOFFSETFROM:-0500
TZOFFSETTO:-0600
TZNAME:CST
DTSTART:20261101T070000
END:STANDARD
END:VTIMEZONE
BEGIN:VEVENT
DTSTART;TZID=America/Chicago:20250528T183000
DTEND;TZID=America/Chicago:20250528T200000
DTSTAMP:20260424T014025
CREATED:20250212T195441Z
LAST-MODIFIED:20250520T155315Z
UID:10000345-1748457000-1748462400@iamforher.org
SUMMARY:Her Circle: Queer Connections
DESCRIPTION:Her Circle: Queer Connections is for queer women and nonbinary folks to share a space in which they can build meaningful connections and community. Join us as we facilitate queer joy through celebrating\, supporting\, and uplifting each other. \nSessions will be held at the For Her community center every 2nd and 4th Wednesday through May. No worries if you can’t make it for every group! Friends are always welcome. Snacks and drinks are provided; feel free to bring your own dinner! \n*Please note babysitting is not provided for this gathering. \nFor Her Code of Conduct
URL:https://iamforher.org/event/her-circle-queer-connections-32/
LOCATION:For Her Community Space\, 8546 Broadway\, Suite 255\, San Antonio\, TX\, 78217\, United States
ORGANIZER;CN="For Her":MAILTO:taryn@iamforher.org
END:VEVENT
END:VCALENDAR