BEGIN:VCALENDAR
VERSION:2.0
PRODID:-//For Her - ECPv6.15.20//NONSGML v1.0//EN
CALSCALE:GREGORIAN
METHOD:PUBLISH
X-WR-CALNAME:For Her
X-ORIGINAL-URL:https://iamforher.org
X-WR-CALDESC:Events for For Her
REFRESH-INTERVAL;VALUE=DURATION:PT1H
X-Robots-Tag:noindex
X-PUBLISHED-TTL:PT1H
BEGIN:VTIMEZONE
TZID:America/Chicago
BEGIN:DAYLIGHT
TZOFFSETFROM:-0600
TZOFFSETTO:-0500
TZNAME:CDT
DTSTART:20240310T080000
END:DAYLIGHT
BEGIN:STANDARD
TZOFFSETFROM:-0500
TZOFFSETTO:-0600
TZNAME:CST
DTSTART:20241103T070000
END:STANDARD
BEGIN:DAYLIGHT
TZOFFSETFROM:-0600
TZOFFSETTO:-0500
TZNAME:CDT
DTSTART:20250309T080000
END:DAYLIGHT
BEGIN:STANDARD
TZOFFSETFROM:-0500
TZOFFSETTO:-0600
TZNAME:CST
DTSTART:20251102T070000
END:STANDARD
BEGIN:DAYLIGHT
TZOFFSETFROM:-0600
TZOFFSETTO:-0500
TZNAME:CDT
DTSTART:20260308T080000
END:DAYLIGHT
BEGIN:STANDARD
TZOFFSETFROM:-0500
TZOFFSETTO:-0600
TZNAME:CST
DTSTART:20261101T070000
END:STANDARD
END:VTIMEZONE
BEGIN:VEVENT
DTSTART;TZID=America/Chicago:20250806T183000
DTEND;TZID=America/Chicago:20250806T203000
DTSTAMP:20260423T204754
CREATED:20250619T003659Z
LAST-MODIFIED:20250805T204442Z
UID:10000391-1754505000-1754512200@iamforher.org
SUMMARY:Her Table: Career Workshop Series with Michelle Cantu\, The Corporate Chingona
DESCRIPTION:Her Table is a shared meal that provides an opportunity for women to connect over good food and meaningful conversation. Dinner\, babysitting\, and all materials will be provided. Friends are always welcome! \nWorkshop Topic: Career Prep with The Corporate Chingona \nLearn resume\, interview\, and wage negotiation tips from Fortune 100 HR professional and recruiter\, Michelle Cantu. In this fun\, informative workshop\, Michelle will teach us how to climb the corporate ladder like a Chingona\, all while celebrating your authentic self in your workplace and community. \nFacilitator: Michelle Cantu \nMichelle Cantu\, a San Antonio native\, is a stand-up comedian\, HR consultant\, and founder of The Corporate Chingona. Raised on the West Side in a blended family full of humor and hustle\, Michelle merges corporate expertise with comedy to deliver empowering keynotes and workshops. Her work uplifts women navigating careers\, motherhood\, and leadership. With performances across the country\, including headlining the Empire Theatre\, Michelle proves you can build a legacy through laughter and impact. As a mother\, speaker\, and proud Chingona\, she’s redefining what’s possible for women balancing ambition\, culture\, and community. \nDinner Provided \nVegetarian options will be available. \nSave the dates for all of our Career Series workshops! \n\nWednesday\, August 20th at 6:30 PM\nWednesday\, September 3rd at 6:30 PM\nWednesday\, September 17th at 6:30 PM\n\nFor Her Code of Conduct
URL:https://iamforher.org/event/career-workshop-series-with-michelle-cantu-the-corporate-chingona/
LOCATION:For Her Community Space\, 8546 Broadway\, Suite 255\, San Antonio\, TX\, 78217\, United States
ORGANIZER;CN="For Her":MAILTO:taryn@iamforher.org
END:VEVENT
END:VCALENDAR