BEGIN:VCALENDAR
VERSION:2.0
PRODID:-//For Her - ECPv6.15.20//NONSGML v1.0//EN
CALSCALE:GREGORIAN
METHOD:PUBLISH
X-WR-CALNAME:For Her
X-ORIGINAL-URL:https://iamforher.org
X-WR-CALDESC:Events for For Her
REFRESH-INTERVAL;VALUE=DURATION:PT1H
X-Robots-Tag:noindex
X-PUBLISHED-TTL:PT1H
BEGIN:VTIMEZONE
TZID:America/Chicago
BEGIN:DAYLIGHT
TZOFFSETFROM:-0600
TZOFFSETTO:-0500
TZNAME:CDT
DTSTART:20240310T080000
END:DAYLIGHT
BEGIN:STANDARD
TZOFFSETFROM:-0500
TZOFFSETTO:-0600
TZNAME:CST
DTSTART:20241103T070000
END:STANDARD
BEGIN:DAYLIGHT
TZOFFSETFROM:-0600
TZOFFSETTO:-0500
TZNAME:CDT
DTSTART:20250309T080000
END:DAYLIGHT
BEGIN:STANDARD
TZOFFSETFROM:-0500
TZOFFSETTO:-0600
TZNAME:CST
DTSTART:20251102T070000
END:STANDARD
BEGIN:DAYLIGHT
TZOFFSETFROM:-0600
TZOFFSETTO:-0500
TZNAME:CDT
DTSTART:20260308T080000
END:DAYLIGHT
BEGIN:STANDARD
TZOFFSETFROM:-0500
TZOFFSETTO:-0600
TZNAME:CST
DTSTART:20261101T070000
END:STANDARD
END:VTIMEZONE
BEGIN:VEVENT
DTSTART;TZID=America/Chicago:20250821T180000
DTEND;TZID=America/Chicago:20250821T190000
DTSTAMP:20260423T204819
CREATED:20250721T155927Z
LAST-MODIFIED:20250821T181135Z
UID:10000402-1755799200-1755802800@iamforher.org
SUMMARY:Credit Confidence: Understanding & Building Credit
DESCRIPTION:For Her is proud to partner with the Credit Human Financial Health Center team for a powerful series of financial wellness workshops. One vital aspect of building and maintaining financial slack is having a solid credit profile. This workshop is intended to help attendees learn more about understanding\, building\, and improving your credit profile so that you can achieve your financial goals. This workshop will offer you tools and information needed to: \n\nUnderstand how credit works\nLearn how to read and understand your credit report and score\nExplore tools and develop skills in order to build your credit\n\nFacilitator: Credit Human \nIn addition to providing traditional financial services\, Credit Human is committed to investing time and resources within the community\, striving to understand the unique needs of our community. Credit Human’s vision is communities free of financial stress\, and its mission is to help people create and maintain financial slack. They aim to construct enduring relationships founded upon trust\, respect\, and unwavering loyalty\, embodying the role of conscientious stewards and supportive neighbors. \nThe Financial Health Center team is excited about the opportunity to build new relationships in the community and is committed to creating a lasting impact. Each member of the team is a Certified Credit Union Financial Counselor that works directly with community members to help them build and maintain financial slack. Learn more at www.credithuman.com. \nSave the dates for future financial workshops! \n\nThursday\, August 28: Dollars Over Debt: Smart Strategies for Debt Management\nThursday\, September 4: The Financial Pivot: Building Stability Through Career Changes\nThursday\, September 11: For Better or Worse: Money & Changes in Marital Status\n\nFor Her Code of Conduct
URL:https://iamforher.org/event/financial-literacy-workshop-2/
LOCATION:For Her Community Space\, 8546 Broadway\, Suite 255\, San Antonio\, TX\, 78217\, United States
ORGANIZER;CN="For Her":MAILTO:taryn@iamforher.org
END:VEVENT
END:VCALENDAR