BEGIN:VCALENDAR
VERSION:2.0
PRODID:-//For Her - ECPv6.15.20//NONSGML v1.0//EN
CALSCALE:GREGORIAN
METHOD:PUBLISH
X-WR-CALNAME:For Her
X-ORIGINAL-URL:https://iamforher.org
X-WR-CALDESC:Events for For Her
REFRESH-INTERVAL;VALUE=DURATION:PT1H
X-Robots-Tag:noindex
X-PUBLISHED-TTL:PT1H
BEGIN:VTIMEZONE
TZID:America/Chicago
BEGIN:DAYLIGHT
TZOFFSETFROM:-0600
TZOFFSETTO:-0500
TZNAME:CDT
DTSTART:20240310T080000
END:DAYLIGHT
BEGIN:STANDARD
TZOFFSETFROM:-0500
TZOFFSETTO:-0600
TZNAME:CST
DTSTART:20241103T070000
END:STANDARD
BEGIN:DAYLIGHT
TZOFFSETFROM:-0600
TZOFFSETTO:-0500
TZNAME:CDT
DTSTART:20250309T080000
END:DAYLIGHT
BEGIN:STANDARD
TZOFFSETFROM:-0500
TZOFFSETTO:-0600
TZNAME:CST
DTSTART:20251102T070000
END:STANDARD
BEGIN:DAYLIGHT
TZOFFSETFROM:-0600
TZOFFSETTO:-0500
TZNAME:CDT
DTSTART:20260308T080000
END:DAYLIGHT
BEGIN:STANDARD
TZOFFSETFROM:-0500
TZOFFSETTO:-0600
TZNAME:CST
DTSTART:20261101T070000
END:STANDARD
END:VTIMEZONE
BEGIN:VEVENT
DTSTART;TZID=America/Chicago:20250828T180000
DTEND;TZID=America/Chicago:20250828T190000
DTSTAMP:20260423T204754
CREATED:20250812T143812Z
LAST-MODIFIED:20250821T181212Z
UID:10000420-1756404000-1756407600@iamforher.org
SUMMARY:Dollars Over Debt: Smart Strategies for Debt Management
DESCRIPTION:For Her is proud to partner with the Credit Human Financial Health Center team for a powerful series of financial wellness workshops. If you’re feeling financial stress\, you’re not alone; 167 million Americans feel the same way. This workshop will offer valuable information on managing and reducing debt\, whether from credit cards\, student loans\, or other sources. Learn about: \n\nSpending plans\nManaging existing debt\nResources for debt management\n\nFacilitator: Credit Human \nIn addition to providing traditional financial services\, Credit Human is committed to investing time and resources within the community\, striving to understand the unique needs of our community. Credit Human’s vision is communities free of financial stress\, and its mission is to help people create and maintain financial slack. They aim to construct enduring relationships founded upon trust\, respect\, and unwavering loyalty\, embodying the role of conscientious stewards and supportive neighbors. \nThe Financial Health Center team is excited about the opportunity to build new relationships in the community and is committed to creating a lasting impact. Each member of the team is a Certified Credit Union Financial Counselor that works directly with community members to help them build and maintain financial slack. Learn more at www.credithuman.com. \nSave the dates for future financial workshops! \n\nThursday\, September 4: The Financial Pivot: Building Stability Through Career Changes\nThursday\, September 11: For Better or Worse: Money & Changes in Marital Status\n\nFor Her Code of Conduct
URL:https://iamforher.org/event/financial-literacy-debt-management/
LOCATION:For Her Community Space\, 8546 Broadway\, Suite 255\, San Antonio\, TX\, 78217\, United States
ORGANIZER;CN="For Her":MAILTO:development@iamforher.org
END:VEVENT
END:VCALENDAR