BEGIN:VCALENDAR
VERSION:2.0
PRODID:-//For Her - ECPv6.15.20//NONSGML v1.0//EN
CALSCALE:GREGORIAN
METHOD:PUBLISH
X-ORIGINAL-URL:https://iamforher.org
X-WR-CALDESC:Events for For Her
REFRESH-INTERVAL;VALUE=DURATION:PT1H
X-Robots-Tag:noindex
X-PUBLISHED-TTL:PT1H
BEGIN:VTIMEZONE
TZID:America/Chicago
BEGIN:DAYLIGHT
TZOFFSETFROM:-0600
TZOFFSETTO:-0500
TZNAME:CDT
DTSTART:20240310T080000
END:DAYLIGHT
BEGIN:STANDARD
TZOFFSETFROM:-0500
TZOFFSETTO:-0600
TZNAME:CST
DTSTART:20241103T070000
END:STANDARD
BEGIN:DAYLIGHT
TZOFFSETFROM:-0600
TZOFFSETTO:-0500
TZNAME:CDT
DTSTART:20250309T080000
END:DAYLIGHT
BEGIN:STANDARD
TZOFFSETFROM:-0500
TZOFFSETTO:-0600
TZNAME:CST
DTSTART:20251102T070000
END:STANDARD
BEGIN:DAYLIGHT
TZOFFSETFROM:-0600
TZOFFSETTO:-0500
TZNAME:CDT
DTSTART:20260308T080000
END:DAYLIGHT
BEGIN:STANDARD
TZOFFSETFROM:-0500
TZOFFSETTO:-0600
TZNAME:CST
DTSTART:20261101T070000
END:STANDARD
END:VTIMEZONE
BEGIN:VEVENT
DTSTART;TZID=America/Chicago:20250903T183000
DTEND;TZID=America/Chicago:20250903T203000
DTSTAMP:20260423T192227
CREATED:20250805T165143Z
LAST-MODIFIED:20250806T195421Z
UID:10000413-1756924200-1756931400@iamforher.org
SUMMARY:Career Workshop Series: Communicating & Networking in Professional Settings with Dr. Caitlin Walker
DESCRIPTION:Her Table is a shared meal that provides an opportunity for women to connect over good food and meaningful conversation. Dinner\, babysitting\, and all materials will be provided. Friends are always welcome! \nYou’re Worth Knowing: Effectively & Authentically Communicating & Networking in Professional Settings \nModern professional networking and communications take place both in-person and online.  In this workshop\, we’ll explore how to grow your confidence and skills in communicating why you’re worth knowing wherever the opportunity occurs!  This interactive session will include hands-on practice in building a LinkedIn profile and crafting an elevator pitch. \nFacilitator: Dr. Caitlin Walker \nBorn and raised in the Rio Grande Valley\, Dr. Caitlin C. Walker (Dr. C) has supported under-resourced communities in Texas for over a decade. In addition to founding coaching and consulting companies aimed at driving social impact\, she has held senior and executive leadership positions in civic engagement\, healthcare\, tech\, and business leadership organizations. She is also the founder and president of Levántatech\, a Latina serving tech-literacy nonprofit where she promotes ensuring skilled workforces and flourishing economies. \nDinner Provided \nVegetarian options will be available. \nAnd save the date for the next Career Series workshop! \n\nWednesday\, September 17th at 6:30 PM – Women in Leadership Panel + Networking Happy Hour\n\nFor Her Code of Conduct
URL:https://iamforher.org/event/her-table-communicating-networking-in-professional-settings-with-dr-caitlin-walker/
LOCATION:For Her Community Space\, 8546 Broadway\, Suite 255\, San Antonio\, TX\, 78217\, United States
ORGANIZER;CN="For Her":MAILTO:taryn@iamforher.org
END:VEVENT
END:VCALENDAR