BEGIN:VCALENDAR
VERSION:2.0
PRODID:-//For Her - ECPv6.15.20//NONSGML v1.0//EN
CALSCALE:GREGORIAN
METHOD:PUBLISH
X-WR-CALNAME:For Her
X-ORIGINAL-URL:https://iamforher.org
X-WR-CALDESC:Events for For Her
REFRESH-INTERVAL;VALUE=DURATION:PT1H
X-Robots-Tag:noindex
X-PUBLISHED-TTL:PT1H
BEGIN:VTIMEZONE
TZID:America/Chicago
BEGIN:DAYLIGHT
TZOFFSETFROM:-0600
TZOFFSETTO:-0500
TZNAME:CDT
DTSTART:20240310T080000
END:DAYLIGHT
BEGIN:STANDARD
TZOFFSETFROM:-0500
TZOFFSETTO:-0600
TZNAME:CST
DTSTART:20241103T070000
END:STANDARD
BEGIN:DAYLIGHT
TZOFFSETFROM:-0600
TZOFFSETTO:-0500
TZNAME:CDT
DTSTART:20250309T080000
END:DAYLIGHT
BEGIN:STANDARD
TZOFFSETFROM:-0500
TZOFFSETTO:-0600
TZNAME:CST
DTSTART:20251102T070000
END:STANDARD
BEGIN:DAYLIGHT
TZOFFSETFROM:-0600
TZOFFSETTO:-0500
TZNAME:CDT
DTSTART:20260308T080000
END:DAYLIGHT
BEGIN:STANDARD
TZOFFSETFROM:-0500
TZOFFSETTO:-0600
TZNAME:CST
DTSTART:20261101T070000
END:STANDARD
END:VTIMEZONE
BEGIN:VEVENT
DTSTART;TZID=America/Chicago:20250904T180000
DTEND;TZID=America/Chicago:20250904T190000
DTSTAMP:20260423T192101
CREATED:20250812T144103Z
LAST-MODIFIED:20250821T194432Z
UID:10000421-1757008800-1757012400@iamforher.org
SUMMARY:The Financial Pivot: Building Stability Through Career Changes
DESCRIPTION:For Her is proud to partner with the Credit Human Financial Health Center team for a powerful series of financial wellness workshops. This workshop will cover the financial aspects of starting a new job or losing a job. Attendees will gain knowledge about financial tools and approaches specifically adapted for individuals navigating the opportunities associated with a new job and the challenges associated with ending employment. This workshop will supply the knowledge and confidence to build and maintain financial slack through different career stages. Conversation points include: \n\nEmergency funds\nLoan obligations\nUtility assistance\nUnemployment resources\nIncome allocation\nRetirement plan adjustments\nDirect deposit setup\nRetirement account rollovers\n\nFree on-site childcare provided. \nFacilitator: Credit Human \nIn addition to providing traditional financial services\, Credit Human is committed to investing time and resources within the community\, striving to understand the unique needs of our community. Credit Human’s vision is communities free of financial stress\, and its mission is to help people create and maintain financial slack. They aim to construct enduring relationships founded upon trust\, respect\, and unwavering loyalty\, embodying the role of conscientious stewards and supportive neighbors. \nThe Financial Health Center team is excited about the opportunity to build new relationships in the community and is committed to creating a lasting impact. Each member of the team is a Certified Credit Union Financial Counselor that works directly with community members to help them build and maintain financial slack. Learn more at www.credithuman.com. \nSave the dates for future financial workshops! \n\nThursday\, September 11: For Better or Worse: Money & Changes in Marital Status\n\nFor Her Code of Conduct
URL:https://iamforher.org/event/financial-literacy-changes-in-income/
LOCATION:For Her Community Space\, 8546 Broadway\, Suite 255\, San Antonio\, TX\, 78217\, United States
ORGANIZER;CN="For Her":MAILTO:development@iamforher.org
END:VEVENT
END:VCALENDAR