BEGIN:VCALENDAR
VERSION:2.0
PRODID:-//For Her - ECPv6.15.20//NONSGML v1.0//EN
CALSCALE:GREGORIAN
METHOD:PUBLISH
X-WR-CALNAME:For Her
X-ORIGINAL-URL:https://iamforher.org
X-WR-CALDESC:Events for For Her
REFRESH-INTERVAL;VALUE=DURATION:PT1H
X-Robots-Tag:noindex
X-PUBLISHED-TTL:PT1H
BEGIN:VTIMEZONE
TZID:America/Chicago
BEGIN:DAYLIGHT
TZOFFSETFROM:-0600
TZOFFSETTO:-0500
TZNAME:CDT
DTSTART:20240310T080000
END:DAYLIGHT
BEGIN:STANDARD
TZOFFSETFROM:-0500
TZOFFSETTO:-0600
TZNAME:CST
DTSTART:20241103T070000
END:STANDARD
BEGIN:DAYLIGHT
TZOFFSETFROM:-0600
TZOFFSETTO:-0500
TZNAME:CDT
DTSTART:20250309T080000
END:DAYLIGHT
BEGIN:STANDARD
TZOFFSETFROM:-0500
TZOFFSETTO:-0600
TZNAME:CST
DTSTART:20251102T070000
END:STANDARD
BEGIN:DAYLIGHT
TZOFFSETFROM:-0600
TZOFFSETTO:-0500
TZNAME:CDT
DTSTART:20260308T080000
END:DAYLIGHT
BEGIN:STANDARD
TZOFFSETFROM:-0500
TZOFFSETTO:-0600
TZNAME:CST
DTSTART:20261101T070000
END:STANDARD
END:VTIMEZONE
BEGIN:VEVENT
DTSTART;TZID=America/Chicago:20251002T160000
DTEND;TZID=America/Chicago:20251002T173000
DTSTAMP:20260423T173914
CREATED:20250918T191724Z
LAST-MODIFIED:20250918T192242Z
UID:10000439-1759420800-1759426200@iamforher.org
SUMMARY:Digital Confidence Workshop Series: Cyber Safety 101
DESCRIPTION:For Her is excited to partner with Levantatech for the Digital Confidence Workshop Series! This series is designed for women who are ready to take control of their digital world in a supportive\, hands-on environment. Over three sessions\, we’ll build the tech skills and confidence you need to unlock educational and employment opportunities while keeping your personal information safe. Plus\, everyone who completes two of the three workshops will walk away with a free Chromebook laptop! \nReady to become your own cybersecurity expert? In this first workshop\, we’re diving into the essentials of protecting yourself online. We’ll do real-time reviews of your actual accounts together\, showing you exactly how to lock down your privacy settings\, spot those sneaky phishing emails\, and set up your browser like a pro. By the time you leave\, you’ll have the tools and confidence to navigate the internet knowing you’ve got your back when it comes to digital safety. \nFacilitator: Dr. Caitlin Walker\, Levantatech \nBorn and raised in the Rio Grande Valley\, Dr. Caitlin C. Walker (Dr. C) has supported under-resourced communities in Texas for over a decade. In addition to founding coaching and consulting companies aimed at driving social impact\, she has held senior and executive leadership positions in civic engagement\, healthcare\, tech\, and business leadership organizations. She is also the founder and president of Levántatech\, a Latina serving tech-literacy nonprofit where she promotes ensuring skilled workforces and flourishing economies. \nSave the dates for future Digital Confidence Workshops! \n\nThursday\, October 16th at 4:00 PM\nThursday\, October 30th at 4:00 PM\n\nFor Her Code of Conduct
URL:https://iamforher.org/event/digital-confidence-workshop-series-cyber-safety-101/
LOCATION:For Her Community Space\, 8546 Broadway\, Suite 255\, San Antonio\, TX\, 78217\, United States
ORGANIZER;CN="For Her":MAILTO:taryn@iamforher.org
END:VEVENT
BEGIN:VEVENT
DTSTART;TZID=America/Chicago:20251002T180000
DTEND;TZID=America/Chicago:20251002T193000
DTSTAMP:20260423T173914
CREATED:20250918T153105Z
LAST-MODIFIED:20250918T153105Z
UID:10000425-1759428000-1759433400@iamforher.org
SUMMARY:Her Healing: Survivor Support Group
DESCRIPTION:Her Healing offers group counseling for adult survivors of family violence and abuse. In this supportive space\, group members work together to process emotions\, share lived experiences\, and learn therapeutic tools for healing and moving forward. Facilitated by the counseling team at OnHealing Therapy\, topics will include safety planning\, healthy relational communication\, co-parenting tools\, and more. \nSessions will be held at the For Her community center every Thursday evening from 6:00-7:30 PM through December. This is an open group format\, and friends are welcome. We provide free on-site childcare\, snacks\, and drinks. Feel free to bring your own dinner if you’d like. \nFor Her Code of Conduct
URL:https://iamforher.org/event/her-healing-survivor-support-group-2/
LOCATION:For Her Community Space\, 8546 Broadway\, Suite 255\, San Antonio\, TX\, 78217\, United States
ORGANIZER;CN="For Her":MAILTO:taryn@iamforher.org
END:VEVENT
END:VCALENDAR