BEGIN:VCALENDAR
VERSION:2.0
PRODID:-//For Her - ECPv6.15.20//NONSGML v1.0//EN
CALSCALE:GREGORIAN
METHOD:PUBLISH
X-WR-CALNAME:For Her
X-ORIGINAL-URL:https://iamforher.org
X-WR-CALDESC:Events for For Her
REFRESH-INTERVAL;VALUE=DURATION:PT1H
X-Robots-Tag:noindex
X-PUBLISHED-TTL:PT1H
BEGIN:VTIMEZONE
TZID:America/Chicago
BEGIN:DAYLIGHT
TZOFFSETFROM:-0600
TZOFFSETTO:-0500
TZNAME:CDT
DTSTART:20240310T080000
END:DAYLIGHT
BEGIN:STANDARD
TZOFFSETFROM:-0500
TZOFFSETTO:-0600
TZNAME:CST
DTSTART:20241103T070000
END:STANDARD
BEGIN:DAYLIGHT
TZOFFSETFROM:-0600
TZOFFSETTO:-0500
TZNAME:CDT
DTSTART:20250309T080000
END:DAYLIGHT
BEGIN:STANDARD
TZOFFSETFROM:-0500
TZOFFSETTO:-0600
TZNAME:CST
DTSTART:20251102T070000
END:STANDARD
BEGIN:DAYLIGHT
TZOFFSETFROM:-0600
TZOFFSETTO:-0500
TZNAME:CDT
DTSTART:20260308T080000
END:DAYLIGHT
BEGIN:STANDARD
TZOFFSETFROM:-0500
TZOFFSETTO:-0600
TZNAME:CST
DTSTART:20261101T070000
END:STANDARD
END:VTIMEZONE
BEGIN:VEVENT
DTSTART;TZID=America/Chicago:20251016T160000
DTEND;TZID=America/Chicago:20251016T173000
DTSTAMP:20260423T173918
CREATED:20250918T203657Z
LAST-MODIFIED:20250918T203657Z
UID:10000441-1760630400-1760635800@iamforher.org
SUMMARY:Digital Confidence Workshop Series: Social Media Like a Pro
DESCRIPTION:For Her is excited to partner with Levantatech for the Digital Confidence Workshop Series! This series is designed for women who are ready to take control of their digital world in a supportive\, hands-on environment. Over three sessions\, we’ll build the tech skills and confidence you need to unlock educational and employment opportunities while keeping your personal information safe. Plus\, everyone who completes two of the three workshops will walk away with a free Chromebook laptop! \nReady to flip the script on social media? Instead of letting Instagram and Facebook run your life and feeling confused about LinkedIn\, we’re going to show you how to make the apps work for YOU. Using fun worksheets and strategy guides\, we’ll optimize your account settings\, build healthy scrolling habits\, and turn your feeds into networking goldmines. Whether you’re job hunting\, building your community\, or just want to feel good about your online presence\, you’ll leave with a personalized game plan that serves your goals instead of draining your energy. \nFacilitator: Dr. Caitlin Walker\, Levantatech \nBorn and raised in the Rio Grande Valley\, Dr. Caitlin C. Walker (Dr. C) has supported under-resourced communities in Texas for over a decade. In addition to founding coaching and consulting companies aimed at driving social impact\, she has held senior and executive leadership positions in civic engagement\, healthcare\, tech\, and business leadership organizations. She is also the founder and president of Levántatech\, a Latina serving tech-literacy nonprofit where she promotes ensuring skilled workforces and flourishing economies. \nSave the dates for our next Digital Confidence Workshop! \n\nThursday\, October 30th at 4:00 PM\n\nFor Her Code of Conduct
URL:https://iamforher.org/event/digital-confidence-workshop-series-social-media-like-a-pro/
LOCATION:For Her Community Space\, 8546 Broadway\, Suite 255\, San Antonio\, TX\, 78217\, United States
ORGANIZER;CN="For Her":MAILTO:taryn@iamforher.org
END:VEVENT
BEGIN:VEVENT
DTSTART;TZID=America/Chicago:20251016T180000
DTEND;TZID=America/Chicago:20251016T193000
DTSTAMP:20260423T173918
CREATED:20250918T153517Z
LAST-MODIFIED:20250918T153517Z
UID:10000427-1760637600-1760643000@iamforher.org
SUMMARY:Her Healing: Survivor Support Group
DESCRIPTION:Her Healing offers group counseling for adult survivors of family violence and abuse. In this supportive space\, group members work together to process emotions\, share lived experiences\, and learn therapeutic tools for healing and moving forward. Facilitated by the counseling team at OnHealing Therapy\, topics will include safety planning\, healthy relational communication\, co-parenting tools\, and more. \nSessions will be held at the For Her community center every Thursday evening from 6:00-7:30 PM through December. This is an open group format\, and friends are welcome. We provide free on-site childcare\, snacks\, and drinks. Feel free to bring your own dinner if you’d like. \nFor Her Code of Conduct
URL:https://iamforher.org/event/her-healing-survivor-support-group-4/
LOCATION:For Her Community Space\, 8546 Broadway\, Suite 255\, San Antonio\, TX\, 78217\, United States
ORGANIZER;CN="For Her":MAILTO:taryn@iamforher.org
END:VEVENT
END:VCALENDAR