BEGIN:VCALENDAR
VERSION:2.0
PRODID:-//For Her - ECPv6.15.20//NONSGML v1.0//EN
CALSCALE:GREGORIAN
METHOD:PUBLISH
X-ORIGINAL-URL:https://iamforher.org
X-WR-CALDESC:Events for For Her
REFRESH-INTERVAL;VALUE=DURATION:PT1H
X-Robots-Tag:noindex
X-PUBLISHED-TTL:PT1H
BEGIN:VTIMEZONE
TZID:America/Chicago
BEGIN:DAYLIGHT
TZOFFSETFROM:-0600
TZOFFSETTO:-0500
TZNAME:CDT
DTSTART:20240310T080000
END:DAYLIGHT
BEGIN:STANDARD
TZOFFSETFROM:-0500
TZOFFSETTO:-0600
TZNAME:CST
DTSTART:20241103T070000
END:STANDARD
BEGIN:DAYLIGHT
TZOFFSETFROM:-0600
TZOFFSETTO:-0500
TZNAME:CDT
DTSTART:20250309T080000
END:DAYLIGHT
BEGIN:STANDARD
TZOFFSETFROM:-0500
TZOFFSETTO:-0600
TZNAME:CST
DTSTART:20251102T070000
END:STANDARD
BEGIN:DAYLIGHT
TZOFFSETFROM:-0600
TZOFFSETTO:-0500
TZNAME:CDT
DTSTART:20260308T080000
END:DAYLIGHT
BEGIN:STANDARD
TZOFFSETFROM:-0500
TZOFFSETTO:-0600
TZNAME:CST
DTSTART:20261101T070000
END:STANDARD
END:VTIMEZONE
BEGIN:VEVENT
DTSTART;TZID=America/Chicago:20251020T183000
DTEND;TZID=America/Chicago:20251020T200000
DTSTAMP:20260423T174015
CREATED:20250923T015543Z
LAST-MODIFIED:20250923T015925Z
UID:10000444-1760985000-1760990400@iamforher.org
SUMMARY:Move Your Body\, Free Your Mind: Somatic Dance Workshop with Inside Art Movement
DESCRIPTION:For Her is excited to partner with Inside Art Movement for a unique dance experience that’s all about connecting with your body in a safe\, supportive space. This isn’t about perfect technique or looking like a professional dancer; it’s about discovering how movement can help you feel grounded\, creative\, and joyful. Whether you’ve never danced before or you’re getting back into it after years away\, this workshop meets you exactly where you are. \nReady to shake off some stress and tap into your natural rhythm? We’ll start with gentle movements designed to help your nervous system relax and your body feel safe. From there\, we’ll explore simple\, foundational patterns like swaying back-and-forth and reaching up-and-down- movements your body already knows how to do! As we layer in music and let our creativity flow\, you’ll discover how these basic motions can become something beautiful and uniquely yours. No judgment\, no pressure–just pure movement and connection. \nFacilitator: Brooklyn Morrow\, Inside Art Movement \nBrooklyn Morrow\, founder of Inside Art Movement\, has dedicated her life to dance and movement therapy. After years of training and performing in Los Angeles for the professional industry\, she returned to her roots with a renewed passion: bringing the art of dance into communities that need it most. She studied at Texas State University’s dance program to develop her skills in movement and movement medicine. Her mission is to create spaces where people of all ages and backgrounds can move with confidence\, discover their strength\, and find community through movement. \nSave the dates for future Move Your Body\, Free Your Mind: Somatic Dance Workshops! \n\nMonday\, November 17th at 6:30 PM\nMonday\, December 15th at 6:30 PM
URL:https://iamforher.org/event/move-your-body-free-your-mind-somatic-dance-workshop-with-inside-art-movement/
LOCATION:For Her Community Space\, 8546 Broadway\, Suite 255\, San Antonio\, TX\, 78217\, United States
ORGANIZER;CN="For Her":MAILTO:taryn@iamforher.org
END:VEVENT
END:VCALENDAR