BEGIN:VCALENDAR
VERSION:2.0
PRODID:-//For Her - ECPv6.15.20//NONSGML v1.0//EN
CALSCALE:GREGORIAN
METHOD:PUBLISH
X-ORIGINAL-URL:https://iamforher.org
X-WR-CALDESC:Events for For Her
REFRESH-INTERVAL;VALUE=DURATION:PT1H
X-Robots-Tag:noindex
X-PUBLISHED-TTL:PT1H
BEGIN:VTIMEZONE
TZID:America/Chicago
BEGIN:DAYLIGHT
TZOFFSETFROM:-0600
TZOFFSETTO:-0500
TZNAME:CDT
DTSTART:20240310T080000
END:DAYLIGHT
BEGIN:STANDARD
TZOFFSETFROM:-0500
TZOFFSETTO:-0600
TZNAME:CST
DTSTART:20241103T070000
END:STANDARD
BEGIN:DAYLIGHT
TZOFFSETFROM:-0600
TZOFFSETTO:-0500
TZNAME:CDT
DTSTART:20250309T080000
END:DAYLIGHT
BEGIN:STANDARD
TZOFFSETFROM:-0500
TZOFFSETTO:-0600
TZNAME:CST
DTSTART:20251102T070000
END:STANDARD
BEGIN:DAYLIGHT
TZOFFSETFROM:-0600
TZOFFSETTO:-0500
TZNAME:CDT
DTSTART:20260308T080000
END:DAYLIGHT
BEGIN:STANDARD
TZOFFSETFROM:-0500
TZOFFSETTO:-0600
TZNAME:CST
DTSTART:20261101T070000
END:STANDARD
END:VTIMEZONE
BEGIN:VEVENT
DTSTART;TZID=America/Chicago:20251201T180000
DTEND;TZID=America/Chicago:20251201T190000
DTSTAMP:20260423T144150
CREATED:20251021T182854Z
LAST-MODIFIED:20251021T182854Z
UID:10000449-1764612000-1764615600@iamforher.org
SUMMARY:The Inner Compass Workshop: Moving Back to You
DESCRIPTION:Join For Her for a 60-minute workshop designed to reconnect you with your body’s wisdom and inner truth. We’ll begin with a 30-minute mindful Pilates flow to ground\, soften\, and awaken the body. Then\, we’ll move into a guided journaling and discussion session focused on deepening self-trust through intuitive action and reclaiming your voice. \nYou’ll leave feeling more centered\, clearer\, and more you with practical tools to support your continued growth\, on your own terms. This workshop emphasizes embodied healing as a pathway to empowered living and will guide you in reconnecting to your inner compass to navigate life’s challenges. \nFacilitator: Carolina Betancourt \nCarolina Betancourt is a comprehensive movement specialist and Pilates instructor with over 12 years of experience. She is a certified Level 3 Neuro Studio Practitioner\, trained in neuro-based movement strategies that support healing and resilience. Carolina is bilingual and the proud mother of three children–two daughters\, ages 19 and 11\, and a 17-year-old son.
URL:https://iamforher.org/event/the-inner-compass-workshop-moving-back-to-you-5/
LOCATION:For Her Community Space\, 8546 Broadway\, Suite 255\, San Antonio\, TX\, 78217\, United States
ORGANIZER;CN="For Her":MAILTO:development@iamforher.org
END:VEVENT
END:VCALENDAR