BEGIN:VCALENDAR
VERSION:2.0
PRODID:-//For Her - ECPv6.15.20//NONSGML v1.0//EN
CALSCALE:GREGORIAN
METHOD:PUBLISH
X-ORIGINAL-URL:https://iamforher.org
X-WR-CALDESC:Events for For Her
REFRESH-INTERVAL;VALUE=DURATION:PT1H
X-Robots-Tag:noindex
X-PUBLISHED-TTL:PT1H
BEGIN:VTIMEZONE
TZID:America/Chicago
BEGIN:DAYLIGHT
TZOFFSETFROM:-0600
TZOFFSETTO:-0500
TZNAME:CDT
DTSTART:20240310T080000
END:DAYLIGHT
BEGIN:STANDARD
TZOFFSETFROM:-0500
TZOFFSETTO:-0600
TZNAME:CST
DTSTART:20241103T070000
END:STANDARD
BEGIN:DAYLIGHT
TZOFFSETFROM:-0600
TZOFFSETTO:-0500
TZNAME:CDT
DTSTART:20250309T080000
END:DAYLIGHT
BEGIN:STANDARD
TZOFFSETFROM:-0500
TZOFFSETTO:-0600
TZNAME:CST
DTSTART:20251102T070000
END:STANDARD
BEGIN:DAYLIGHT
TZOFFSETFROM:-0600
TZOFFSETTO:-0500
TZNAME:CDT
DTSTART:20260308T080000
END:DAYLIGHT
BEGIN:STANDARD
TZOFFSETFROM:-0500
TZOFFSETTO:-0600
TZNAME:CST
DTSTART:20261101T070000
END:STANDARD
END:VTIMEZONE
BEGIN:VEVENT
DTSTART;TZID=America/Chicago:20251203T183000
DTEND;TZID=America/Chicago:20251203T203000
DTSTAMP:20260423T144253
CREATED:20251021T191750Z
LAST-MODIFIED:20251125T194600Z
UID:10000467-1764786600-1764793800@iamforher.org
SUMMARY:Her Table: Embracing Self-Worth
DESCRIPTION:Her Table is a shared meal that provides an opportunity for women to connect over good food and meaningful conversation. Dinner\, babysitting\, and all materials will be provided. Friends are always welcome! \nWorkshop Topic: Embracing Self-Worth \nJoin For Her and Tomeka Jones from Flawless Life Coaching for an empowering workshop exploring the foundation of healthy relationships—the one you have with yourself. In this interactive session\, you’ll discover what self-worth truly means and why it’s not dependent on achievements or external validation. Learn to recognize the characteristics of a woman who knows her value\, including confidence\, healthy boundaries\, positive self-talk\, and authentic living. \nThrough guided reflection exercises and daily affirmation practices\, you’ll identify your unique strengths and begin shifting your mindset from self-criticism to self-empowerment. This workshop provides practical tools to help you recognize your inherent value and start treating yourself as your most valuable investment. \nKey Takeaways: \n\nUnderstanding true self-worth beyond external validation\nPractical daily affirmation techniques\nSelf-reflection exercises to recognize your unique value\nTools for positive self-talk and boundary-setting\n\nFacilitator: Tomeka Jones \nTomeka Jones is a transformational life coach\, U.S. Air Force veteran\, registered nurse\, author\, and founder of Flawless Life Coaching. After overcoming early experiences of rejection and self-doubt\, she built a 23-year Air Force career\, serving around the world in roles from Human Resources to Assistant Chief Nurse. Featured across major media outlets\, Tomeka inspires women to rise into their purpose and remember their inherent worth. Whether she’s mentoring single mothers\, guiding veterans\, inspiring women of faith\, or empowering purpose-driven professionals\, Tomeka’s message is clear and consistent: You’ve always been worthy. You just forgot. She’s here to help you remember. \nDinner Provided \nVegetarian options will be available. \nSave the dates for our upcoming Her Table workshops! \n\nWednesday\, January 7th at 6:30 PM\nWednesday\, January 21st at 6:30 PM\n\nFor Her Code of Conduct
URL:https://iamforher.org/event/her-table-18/
LOCATION:For Her Community Space\, 8546 Broadway\, Suite 255\, San Antonio\, TX\, 78217\, United States
ORGANIZER;CN="For Her":MAILTO:taryn@iamforher.org
END:VEVENT
END:VCALENDAR