BEGIN:VCALENDAR
VERSION:2.0
PRODID:-//For Her - ECPv6.15.20//NONSGML v1.0//EN
CALSCALE:GREGORIAN
METHOD:PUBLISH
X-WR-CALNAME:For Her
X-ORIGINAL-URL:https://iamforher.org
X-WR-CALDESC:Events for For Her
REFRESH-INTERVAL;VALUE=DURATION:PT1H
X-Robots-Tag:noindex
X-PUBLISHED-TTL:PT1H
BEGIN:VTIMEZONE
TZID:America/Chicago
BEGIN:DAYLIGHT
TZOFFSETFROM:-0600
TZOFFSETTO:-0500
TZNAME:CDT
DTSTART:20240310T080000
END:DAYLIGHT
BEGIN:STANDARD
TZOFFSETFROM:-0500
TZOFFSETTO:-0600
TZNAME:CST
DTSTART:20241103T070000
END:STANDARD
BEGIN:DAYLIGHT
TZOFFSETFROM:-0600
TZOFFSETTO:-0500
TZNAME:CDT
DTSTART:20250309T080000
END:DAYLIGHT
BEGIN:STANDARD
TZOFFSETFROM:-0500
TZOFFSETTO:-0600
TZNAME:CST
DTSTART:20251102T070000
END:STANDARD
BEGIN:DAYLIGHT
TZOFFSETFROM:-0600
TZOFFSETTO:-0500
TZNAME:CDT
DTSTART:20260308T080000
END:DAYLIGHT
BEGIN:STANDARD
TZOFFSETFROM:-0500
TZOFFSETTO:-0600
TZNAME:CST
DTSTART:20261101T070000
END:STANDARD
END:VTIMEZONE
BEGIN:VEVENT
DTSTART;TZID=America/Chicago:20251218T180000
DTEND;TZID=America/Chicago:20251218T193000
DTSTAMP:20260423T143957
CREATED:20251021T190248Z
LAST-MODIFIED:20251021T190248Z
UID:10000464-1766080800-1766086200@iamforher.org
SUMMARY:Her Healing: Survivor Support Group
DESCRIPTION:Her Healing offers group counseling for adult survivors of family violence and abuse. In this supportive space\, group members work together to process emotions\, share lived experiences\, and learn therapeutic tools for healing and moving forward. Facilitated by the counseling team at OnHealing Therapy\, topics will include safety planning\, healthy relational communication\, co-parenting tools\, and more. \nSessions will be held at the For Her community center every Thursday evening from 6:00-7:30 PM through December. This is an open group format\, and friends are welcome. We provide free on-site childcare\, snacks\, and drinks. Feel free to bring your own dinner if you’d like. \nFor Her Code of Conduct
URL:https://iamforher.org/event/her-healing-survivor-support-group-11/
LOCATION:For Her Community Space\, 8546 Broadway\, Suite 255\, San Antonio\, TX\, 78217\, United States
ORGANIZER;CN="For Her":MAILTO:taryn@iamforher.org
END:VEVENT
END:VCALENDAR