BEGIN:VCALENDAR
VERSION:2.0
PRODID:-//For Her - ECPv6.15.20//NONSGML v1.0//EN
CALSCALE:GREGORIAN
METHOD:PUBLISH
X-WR-CALNAME:For Her
X-ORIGINAL-URL:https://iamforher.org
X-WR-CALDESC:Events for For Her
REFRESH-INTERVAL;VALUE=DURATION:PT1H
X-Robots-Tag:noindex
X-PUBLISHED-TTL:PT1H
BEGIN:VTIMEZONE
TZID:America/Chicago
BEGIN:DAYLIGHT
TZOFFSETFROM:-0600
TZOFFSETTO:-0500
TZNAME:CDT
DTSTART:20250309T080000
END:DAYLIGHT
BEGIN:STANDARD
TZOFFSETFROM:-0500
TZOFFSETTO:-0600
TZNAME:CST
DTSTART:20251102T070000
END:STANDARD
BEGIN:DAYLIGHT
TZOFFSETFROM:-0600
TZOFFSETTO:-0500
TZNAME:CDT
DTSTART:20260308T080000
END:DAYLIGHT
BEGIN:STANDARD
TZOFFSETFROM:-0500
TZOFFSETTO:-0600
TZNAME:CST
DTSTART:20261101T070000
END:STANDARD
BEGIN:DAYLIGHT
TZOFFSETFROM:-0600
TZOFFSETTO:-0500
TZNAME:CDT
DTSTART:20270314T080000
END:DAYLIGHT
BEGIN:STANDARD
TZOFFSETFROM:-0500
TZOFFSETTO:-0600
TZNAME:CST
DTSTART:20271107T070000
END:STANDARD
END:VTIMEZONE
BEGIN:VEVENT
DTSTART;TZID=America/Chicago:20260107T183000
DTEND;TZID=America/Chicago:20260107T203000
DTSTAMP:20260423T131849
CREATED:20251222T185215Z
LAST-MODIFIED:20251222T185215Z
UID:10000484-1767810600-1767817800@iamforher.org
SUMMARY:Her Table: Vision Boards with Debbie Jennings
DESCRIPTION:Her Table is a shared meal that provides an opportunity for women to connect over good food and meaningful conversation. Dinner\, babysitting\, and all materials will be provided. Friends are always welcome! \nWorkshop Topic: Vision Boards \nKickstart your year with purpose and intention! This Her Table will feature an evening of dreaming together and planning for the new year as we create vision boards. Join us for an empowering and fun-filled session where you’ll have the opportunity to envision your aspirations and set meaningful goals in a supportive community of like-minded women. \nFacilitator: Debbie Jennings \nWe’re honored to partner with Debbie Jennings to bring this workshop to the For Her community. Debbie is a nurse and advocate who is passionate about her community\, health literacy\, and supporting women in the pursuit of living their best lives. \nDinner Provided \nVegetarian options will be available. \nFor Her Code of Conduct
URL:https://iamforher.org/event/her-table-vision-boards-with-debbie-jennings-2/
LOCATION:For Her Community Space\, 8546 Broadway\, Suite 255\, San Antonio\, TX\, 78217\, United States
ORGANIZER;CN="For Her":MAILTO:taryn@iamforher.org
END:VEVENT
END:VCALENDAR