BEGIN:VCALENDAR
VERSION:2.0
PRODID:-//For Her - ECPv6.15.20//NONSGML v1.0//EN
CALSCALE:GREGORIAN
METHOD:PUBLISH
X-WR-CALNAME:For Her
X-ORIGINAL-URL:https://iamforher.org
X-WR-CALDESC:Events for For Her
REFRESH-INTERVAL;VALUE=DURATION:PT1H
X-Robots-Tag:noindex
X-PUBLISHED-TTL:PT1H
BEGIN:VTIMEZONE
TZID:America/Chicago
BEGIN:DAYLIGHT
TZOFFSETFROM:-0600
TZOFFSETTO:-0500
TZNAME:CDT
DTSTART:20250309T080000
END:DAYLIGHT
BEGIN:STANDARD
TZOFFSETFROM:-0500
TZOFFSETTO:-0600
TZNAME:CST
DTSTART:20251102T070000
END:STANDARD
BEGIN:DAYLIGHT
TZOFFSETFROM:-0600
TZOFFSETTO:-0500
TZNAME:CDT
DTSTART:20260308T080000
END:DAYLIGHT
BEGIN:STANDARD
TZOFFSETFROM:-0500
TZOFFSETTO:-0600
TZNAME:CST
DTSTART:20261101T070000
END:STANDARD
BEGIN:DAYLIGHT
TZOFFSETFROM:-0600
TZOFFSETTO:-0500
TZNAME:CDT
DTSTART:20270314T080000
END:DAYLIGHT
BEGIN:STANDARD
TZOFFSETFROM:-0500
TZOFFSETTO:-0600
TZNAME:CST
DTSTART:20271107T070000
END:STANDARD
END:VTIMEZONE
BEGIN:VEVENT
DTSTART;TZID=America/Chicago:20260121T183000
DTEND;TZID=America/Chicago:20260121T203000
DTSTAMP:20260423T132021
CREATED:20251024T214404Z
LAST-MODIFIED:20260121T184412Z
UID:10000476-1769020200-1769027400@iamforher.org
SUMMARY:[DreamWeek Event] Her Table: Care for the Caregiver with Better Together
DESCRIPTION:Her Table is a shared meal that provides an opportunity for women to connect over good food and meaningful conversation. Dinner\, babysitting\, and all materials will be provided. Friends are always welcome! \nWorkshop Topic: Care for the Caregiver \nThis event celebrates the often-invisible labor of women while recognizing inequity\, uncovering hidden community resources and support systems\, and helping participants reconnect with their own inner strength and resilience. Guests will leave with practical self-care tools they can immediately implement\, knowledge of local resources they can access and share with others\, and renewed energy to continue their vital work. Because when we care for the caregivers\, we strengthen every family\, classroom\, hospital\, and organization they serve. \nA caregiver is anyone who regularly provides emotional\, physical\, mental\, or relational support to others\, often while holding responsibility\, care\, or concern for their well-being. If this is you\, and you seek a supportive community and practical tools to enhance your quality of life\, come spend the evening with us. \nFacilitators: Brooke Leith & Camila Gracia \nBrooke Leith\, LPC Associate (supervised by Faith Ray\, LPC-S) is a San Antonio-based counselor who specializes in supporting young adults and couples through life’s transitions. Her therapeutic approach primarily utilizes Internal Family Systems\, Narrative Therapy\, and the Gottman Method\, often incorporating creative elements like art\, journaling\, and meditation to help clients rewrite their personal stories and improve relationships. \nCamila Gracia\, MA\, LMFT-Associate (supervised by Becky Davenport\, Ph.D.\, LMFT-S) is native San Antonian therapist who is passionate about supporting individuals from all walks of life in improving their mental health through navigating relational issues. Her work is strongly rooted in an attachment-focused lens while also weaving in other approaches such as CBT\, DBT\, Gottman Method\, EMDR\, Narrative\, Internal Family Systems\, and Play Therapy. Camila is dedicated to creating a safe and comfortable environment for her clients to freely explore themselves through sensory activities\, creative interventions\, and play.  \nDinner Provided \nVegetarian options will be available. \nSave the dates for our upcoming Her Table workshops! \n\nWednesday\, February 4th at 6:30 PM\nWednesday\, February 18th at 6:30 PM\n\nFor Her Code of Conduct
URL:https://iamforher.org/event/her-table-care-for-the-caregiver/
LOCATION:For Her Community Space\, 8546 Broadway\, Suite 255\, San Antonio\, TX\, 78217\, United States
ORGANIZER;CN="For Her":MAILTO:taryn@iamforher.org
END:VEVENT
END:VCALENDAR