BEGIN:VCALENDAR
VERSION:2.0
PRODID:-//For Her - ECPv6.15.20//NONSGML v1.0//EN
CALSCALE:GREGORIAN
METHOD:PUBLISH
X-WR-CALNAME:For Her
X-ORIGINAL-URL:https://iamforher.org
X-WR-CALDESC:Events for For Her
REFRESH-INTERVAL;VALUE=DURATION:PT1H
X-Robots-Tag:noindex
X-PUBLISHED-TTL:PT1H
BEGIN:VTIMEZONE
TZID:America/Chicago
BEGIN:DAYLIGHT
TZOFFSETFROM:-0600
TZOFFSETTO:-0500
TZNAME:CDT
DTSTART:20250309T080000
END:DAYLIGHT
BEGIN:STANDARD
TZOFFSETFROM:-0500
TZOFFSETTO:-0600
TZNAME:CST
DTSTART:20251102T070000
END:STANDARD
BEGIN:DAYLIGHT
TZOFFSETFROM:-0600
TZOFFSETTO:-0500
TZNAME:CDT
DTSTART:20260308T080000
END:DAYLIGHT
BEGIN:STANDARD
TZOFFSETFROM:-0500
TZOFFSETTO:-0600
TZNAME:CST
DTSTART:20261101T070000
END:STANDARD
BEGIN:DAYLIGHT
TZOFFSETFROM:-0600
TZOFFSETTO:-0500
TZNAME:CDT
DTSTART:20270314T080000
END:DAYLIGHT
BEGIN:STANDARD
TZOFFSETFROM:-0500
TZOFFSETTO:-0600
TZNAME:CST
DTSTART:20271107T070000
END:STANDARD
END:VTIMEZONE
BEGIN:VEVENT
DTSTART;TZID=America/Chicago:20260125T110000
DTEND;TZID=America/Chicago:20260125T150000
DTSTAMP:20260423T131950
CREATED:20251222T200049Z
LAST-MODIFIED:20251222T200143Z
UID:10000491-1769338800-1769353200@iamforher.org
SUMMARY:[DreamWeek Partner Event] The Doula Mixer: Speed Date a Doula
DESCRIPTION:Welcome to the San Antonio Doula Speed Dating! A DreamWeek 2026 event brought to you by SA Maternity Wellness Center. Join us for a fun and informative event where doulas connect with other doulas and birth advocates\, share experiences\, and enjoy a delicious brunch together. Then doulas speed date expecting families in the community. We will close with vendors\, yoga\, food\, and baby giveaways. This in-person gathering is the perfect opportunity to network\, learn\, and relax in a casual setting. Don’t miss out on this chance to meet like-minded professionals and build lasting relationships. We can’t wait to see you there!\n\n\nWHO:\n\n\n\nYou know you want a doula and want to meet several all in a single day.\nYou’re curious about what doulas do and how they support you during pregnancy\, birth\, and postpartum.\nYou’re planning ahead and want to feel prepared even if you’re not pregnant yet.\nYou don’t have a village\, but you want one.\nDoulas\, midwives\, OB physicians\, and many other birth advocates\n\nENJOY: \n\nRefreshments and food\nReal one-on-one doula conversations\nHelpful info about local pregnancy\, birth\, and postpartum resources\nRaffle prizes\, including gift baskets for mom or dad!\n\nAGENDA \n\n11:00 AM – 12:30 PM: Doula and Birth Advocate Networking\n12:30 PM – 1:30 PM: Doula Speed Dating\n1:30 PM – 3:00 PM: Community Social\n\nRegister on Eventbrite.
URL:https://iamforher.org/event/dreamweek-partner-event-the-doula-mixer-speed-date-a-doula/
LOCATION:For Her Community Space\, 8546 Broadway\, Suite 255\, San Antonio\, TX\, 78217\, United States
END:VEVENT
END:VCALENDAR