BEGIN:VCALENDAR
VERSION:2.0
PRODID:-//For Her - ECPv6.15.20//NONSGML v1.0//EN
CALSCALE:GREGORIAN
METHOD:PUBLISH
X-ORIGINAL-URL:https://iamforher.org
X-WR-CALDESC:Events for For Her
REFRESH-INTERVAL;VALUE=DURATION:PT1H
X-Robots-Tag:noindex
X-PUBLISHED-TTL:PT1H
BEGIN:VTIMEZONE
TZID:America/Chicago
BEGIN:DAYLIGHT
TZOFFSETFROM:-0600
TZOFFSETTO:-0500
TZNAME:CDT
DTSTART:20250309T080000
END:DAYLIGHT
BEGIN:STANDARD
TZOFFSETFROM:-0500
TZOFFSETTO:-0600
TZNAME:CST
DTSTART:20251102T070000
END:STANDARD
BEGIN:DAYLIGHT
TZOFFSETFROM:-0600
TZOFFSETTO:-0500
TZNAME:CDT
DTSTART:20260308T080000
END:DAYLIGHT
BEGIN:STANDARD
TZOFFSETFROM:-0500
TZOFFSETTO:-0600
TZNAME:CST
DTSTART:20261101T070000
END:STANDARD
BEGIN:DAYLIGHT
TZOFFSETFROM:-0600
TZOFFSETTO:-0500
TZNAME:CDT
DTSTART:20270314T080000
END:DAYLIGHT
BEGIN:STANDARD
TZOFFSETFROM:-0500
TZOFFSETTO:-0600
TZNAME:CST
DTSTART:20271107T070000
END:STANDARD
END:VTIMEZONE
BEGIN:VEVENT
DTSTART;TZID=America/Chicago:20260228T100000
DTEND;TZID=America/Chicago:20260228T110000
DTSTAMP:20260423T103233
CREATED:20260203T041311Z
LAST-MODIFIED:20260203T041311Z
UID:10000513-1772272800-1772276400@iamforher.org
SUMMARY:Self-Care Saturday: Trauma-Informed Yoga
DESCRIPTION:This accessible class welcomes all\, regardless of experience\, and will focus on breath awareness\, grounding\, and mindful movement. We’ll begin with gentle techniques to settle the nervous system before moving through a dynamic flow with adaptive options for each pose. Throughout the practice\, there will be a continued focus on breath and body awareness to support confidence and connection. Each class will have unique elements while maintaining a familiar structure to encourage growth and ease. The session will end with reflection\, integration\, and rest\, allowing time to acknowledge any physical\, mental\, or emotional shifts. \nWear comfortable clothes and bring your water bottle and yoga mat. \nSessions will be held at the For Her community center every Tuesday and the last Saturday of each month. Friends are always welcome. Free onsite babysitting is provided. \nFacilitator Bio: \nAmanda Millette has been involved in San Antonio’s yoga community for over a decade. Her teaching journey began five years ago\, and she has since gathered over 150 hours of trauma-informed education in yoga. She is passionate about providing yoga under the umbrella of social justice and creating spaces that are inclusive and accessible to all.
URL:https://iamforher.org/event/self-care-saturday-trauma-informed-yoga-7/
LOCATION:For Her Community Space\, 8546 Broadway\, Suite 255\, San Antonio\, TX\, 78217\, United States
ORGANIZER;CN="For Her":MAILTO:taryn@iamforher.org
END:VEVENT
BEGIN:VEVENT
DTSTART;TZID=America/Chicago:20260228T113000
DTEND;TZID=America/Chicago:20260228T130000
DTSTAMP:20260423T103233
CREATED:20260203T041739Z
LAST-MODIFIED:20260203T041739Z
UID:10000514-1772278200-1772283600@iamforher.org
SUMMARY:Menopause Matters: Mood & Mental Health
DESCRIPTION:Join For Her for Menopause Matters\, a five-part workshop series designed for women who want to learn about all aspects of perimenopause\, menopause\, and postmenopause. Co-hosted by Debbie Jennings and Sabina Kapoor along with expert guest speakers\, this series offers honest conversations\, evidence-based guidance\, and community support as we navigate this important life transition together. \nOur second session\, Mood & Mental Health\, explores the emotional and psychological aspects of menopause that often go unaddressed. Join us for an open discussion about anxiety\, depression\, brain fog\, and mood changes during this transition. We’ll discover practical strategies for supporting your mental wellness and help you understand the connection between hormonal changes and emotional health. \nEach session follows our Trauma-Informed Yoga class at 10:00am and includes a light brunch\, so make a whole morning of self-care! Grab your girls\, enjoy some nourishing food\, connect with an amazing community of women\, and leave feeling informed and empowered. Brunch and all materials provided. Friends are always welcome! \nBrunch and childcare provided. \nSave the dates for our future Menopause Matters workshops- always the last Saturday of the month! \n\nMar. 28: Hormone Replacement Therapy\nApr. 25: Empowerment & Thriving Through Menopause\nMay 31: Navigating Relationships\n\nFor Her Code of Conduct
URL:https://iamforher.org/event/menopause-matters-mood-mental-health/
LOCATION:For Her Community Space\, 8546 Broadway\, Suite 255\, San Antonio\, TX\, 78217\, United States
ORGANIZER;CN="For Her":MAILTO:taryn@iamforher.org
END:VEVENT
END:VCALENDAR