BEGIN:VCALENDAR
VERSION:2.0
PRODID:-//For Her - ECPv6.15.20//NONSGML v1.0//EN
CALSCALE:GREGORIAN
METHOD:PUBLISH
X-ORIGINAL-URL:https://iamforher.org
X-WR-CALDESC:Events for For Her
REFRESH-INTERVAL;VALUE=DURATION:PT1H
X-Robots-Tag:noindex
X-PUBLISHED-TTL:PT1H
BEGIN:VTIMEZONE
TZID:America/Chicago
BEGIN:DAYLIGHT
TZOFFSETFROM:-0600
TZOFFSETTO:-0500
TZNAME:CDT
DTSTART:20250309T080000
END:DAYLIGHT
BEGIN:STANDARD
TZOFFSETFROM:-0500
TZOFFSETTO:-0600
TZNAME:CST
DTSTART:20251102T070000
END:STANDARD
BEGIN:DAYLIGHT
TZOFFSETFROM:-0600
TZOFFSETTO:-0500
TZNAME:CDT
DTSTART:20260308T080000
END:DAYLIGHT
BEGIN:STANDARD
TZOFFSETFROM:-0500
TZOFFSETTO:-0600
TZNAME:CST
DTSTART:20261101T070000
END:STANDARD
BEGIN:DAYLIGHT
TZOFFSETFROM:-0600
TZOFFSETTO:-0500
TZNAME:CDT
DTSTART:20270314T080000
END:DAYLIGHT
BEGIN:STANDARD
TZOFFSETFROM:-0500
TZOFFSETTO:-0600
TZNAME:CST
DTSTART:20271107T070000
END:STANDARD
END:VTIMEZONE
BEGIN:VEVENT
DTSTART;TZID=America/Chicago:20260326T180000
DTEND;TZID=America/Chicago:20260326T193000
DTSTAMP:20260423T103421
CREATED:20260304T192251Z
LAST-MODIFIED:20260324T195041Z
UID:10000527-1774548000-1774553400@iamforher.org
SUMMARY:Her Healing
DESCRIPTION:In this supportive space\, group members work together to process emotions\, share lived experiences\, and learn therapeutic tools for healing and moving forward. Facilitated by Courtney Balidoy\, LPC\, and Mia Covarrubias\, LPC-A\,  topics include safety planning\, healthy relational communication\, co-parenting tools\, and more. \nThis weeks topic: The Growth Mindset \nEver feel like you’re stuck behind a mental wall? It might be time for a mindset update. This week\, we’re diving into Growth Mindset\, the belief that your abilities aren’t set in stone\, but are muscles waiting to be trained. \nInside this issue\, we explore: \n\nBrain Plasticity: The science behind why your brain gets stronger with every challenge.\nThe Power of “Yet”: One small word that turns a dead-end into a roadmap.\nRedefining Failure: How to stop seeing mistakes as an identity and start seeing them as data.\n\nFree on-site childcare\, snacks\, and drinks provided.  \nSave the date for future Her Healing groups: \n\nApril 9\nApril 23\nMay 14\nMay 28\n\nFor Her Code of Conduct
URL:https://iamforher.org/event/her-healing-survivor-support-group-17/
LOCATION:For Her Community Space\, 8546 Broadway\, Suite 255\, San Antonio\, TX\, 78217\, United States
ORGANIZER;CN="For Her":MAILTO:taryn@iamforher.org
END:VEVENT
END:VCALENDAR