BEGIN:VCALENDAR
VERSION:2.0
PRODID:-//For Her - ECPv6.15.20//NONSGML v1.0//EN
CALSCALE:GREGORIAN
METHOD:PUBLISH
X-ORIGINAL-URL:https://iamforher.org
X-WR-CALDESC:Events for For Her
REFRESH-INTERVAL;VALUE=DURATION:PT1H
X-Robots-Tag:noindex
X-PUBLISHED-TTL:PT1H
BEGIN:VTIMEZONE
TZID:America/Chicago
BEGIN:DAYLIGHT
TZOFFSETFROM:-0600
TZOFFSETTO:-0500
TZNAME:CDT
DTSTART:20250309T080000
END:DAYLIGHT
BEGIN:STANDARD
TZOFFSETFROM:-0500
TZOFFSETTO:-0600
TZNAME:CST
DTSTART:20251102T070000
END:STANDARD
BEGIN:DAYLIGHT
TZOFFSETFROM:-0600
TZOFFSETTO:-0500
TZNAME:CDT
DTSTART:20260308T080000
END:DAYLIGHT
BEGIN:STANDARD
TZOFFSETFROM:-0500
TZOFFSETTO:-0600
TZNAME:CST
DTSTART:20261101T070000
END:STANDARD
BEGIN:DAYLIGHT
TZOFFSETFROM:-0600
TZOFFSETTO:-0500
TZNAME:CDT
DTSTART:20270314T080000
END:DAYLIGHT
BEGIN:STANDARD
TZOFFSETFROM:-0500
TZOFFSETTO:-0600
TZNAME:CST
DTSTART:20271107T070000
END:STANDARD
END:VTIMEZONE
BEGIN:VEVENT
DTSTART;TZID=America/Chicago:20260401T183000
DTEND;TZID=America/Chicago:20260401T203000
DTSTAMP:20260423T092435
CREATED:20260304T190830Z
LAST-MODIFIED:20260324T210611Z
UID:10000525-1775068200-1775075400@iamforher.org
SUMMARY:Her Table: Setting Boundaries Without Guilt with Jessica Hopkins
DESCRIPTION:Her Table is a shared meal that provides an opportunity for women to connect over good food and meaningful conversation. Dinner\, babysitting\, and all materials will be provided. Friends are always welcome! \nWorkshop Topic: Setting Boundaries Without Guilt \nJoin For Her and Jessica Hopkins for an empowering workshop that helps women reclaim their voice and emotional safety by learning how to set and honor healthy boundaries. \nThrough real-life scenarios\, interactive discussions\, and reflection-based activities\, you’ll explore: \n\nWhat a healthy boundary sounds\, feels\, and looks like\nHow to identify signs of boundary violations\, emotional avoidance\, and breadcrumbing\nWhy silence is a powerful response and a boundary in itself\nHow to stop accepting crumbs and start conserving your energy\n\nThis workshop will leave you with practical tools and self-affirming strategies to protect your peace\, trust your inner voice\, and show up fully for yourself without guilt or apology. \nFacilitator: Jessica Hopkins \nJessica is a resilient survivor of narcissistic abuse\, an advocate for healing\, and a passionate voice for women reclaiming their power. After breaking free from a toxic relationship that once overshadowed her identity\, she embarked on a profound journey of self-discovery\, rebuilding her confidence\, and redefining her sense of self-worth. \nToday\, Jessica is dedicated to helping other women recognize their strength\, overcome emotional manipulation\, and transform their pain into purpose. Through her work as a mentor\, speaker\, and educator\, she empowers survivors to heal\, rebuild their lives\, and embrace their full potential. Her story is a testament to the power of resilience\, and her mission is to show women everywhere that they are capable of not just surviving but thriving. \nDinner Provided \nVegetarian options will be available. \nSave the date for upcoming Her Table workshops! \n\nWednesday\, April 15th at 6:30 PM – Joy & Sorrow with Gabrielle Leonard\nWednesday\, May 6th at 6:30 PM – Rest with Bria Woods\n\nFor Her Code of Conduct
URL:https://iamforher.org/event/her-table-with-jessica-hopkins/
LOCATION:For Her Community Space\, 8546 Broadway\, Suite 255\, San Antonio\, TX\, 78217\, United States
ORGANIZER;CN="For Her":MAILTO:taryn@iamforher.org
END:VEVENT
END:VCALENDAR