BEGIN:VCALENDAR
VERSION:2.0
PRODID:-//For Her - ECPv6.15.20//NONSGML v1.0//EN
CALSCALE:GREGORIAN
METHOD:PUBLISH
X-ORIGINAL-URL:https://iamforher.org
X-WR-CALDESC:Events for For Her
REFRESH-INTERVAL;VALUE=DURATION:PT1H
X-Robots-Tag:noindex
X-PUBLISHED-TTL:PT1H
BEGIN:VTIMEZONE
TZID:America/Chicago
BEGIN:DAYLIGHT
TZOFFSETFROM:-0600
TZOFFSETTO:-0500
TZNAME:CDT
DTSTART:20250309T080000
END:DAYLIGHT
BEGIN:STANDARD
TZOFFSETFROM:-0500
TZOFFSETTO:-0600
TZNAME:CST
DTSTART:20251102T070000
END:STANDARD
BEGIN:DAYLIGHT
TZOFFSETFROM:-0600
TZOFFSETTO:-0500
TZNAME:CDT
DTSTART:20260308T080000
END:DAYLIGHT
BEGIN:STANDARD
TZOFFSETFROM:-0500
TZOFFSETTO:-0600
TZNAME:CST
DTSTART:20261101T070000
END:STANDARD
BEGIN:DAYLIGHT
TZOFFSETFROM:-0600
TZOFFSETTO:-0500
TZNAME:CDT
DTSTART:20270314T080000
END:DAYLIGHT
BEGIN:STANDARD
TZOFFSETFROM:-0500
TZOFFSETTO:-0600
TZNAME:CST
DTSTART:20271107T070000
END:STANDARD
END:VTIMEZONE
BEGIN:VEVENT
DTSTART;TZID=America/Chicago:20260402T180000
DTEND;TZID=America/Chicago:20260402T200000
DTSTAMP:20260423T091118
CREATED:20260317T204045Z
LAST-MODIFIED:20260317T204108Z
UID:10000548-1775152800-1775160000@iamforher.org
SUMMARY:Fiesta Wreath Workshop
DESCRIPTION:Join For Her to celebrate the kickoff of Fiesta season with creativity and color! All are welcome at this hands-on wreath-making workshop where you’ll craft your own vibrant Fiesta-inspired wreath using an array of colorful materials. This workshop is more than just crafting; it’s about coming together as a community to connect\, create\, and celebrate. All materials provided\, and no experience necessary! \nDinner will be provided by Angel’s Sunshine Kitchen\, so come hungry and ready to enjoy good food\, great company\, and the satisfaction of making something beautiful with your own hands. Childcare provided. Friends welcome! \nAbout the Facilitator: \nAmber Mayhon is the Executive Director of Trinity’s House SATX\, an organization dedicated to empowering women throughout their motherhood journey by providing essential tools and resources that support their social\, emotional\, physical\, and spiritual well-being. Since founding Trinity’s House in 2022\, Amber has been committed to growing their community impact and uplifting the women they serve. She believes deeply in the power of creativity\, connection\, and joy to foster healing and transformation\, and is honored to partner with For Her to bring women together through meaningful experiences.
URL:https://iamforher.org/event/17897/
LOCATION:For Her Community Space\, 8546 Broadway\, Suite 255\, San Antonio\, TX\, 78217\, United States
ORGANIZER;CN="For Her":MAILTO:development@iamforher.org
END:VEVENT
END:VCALENDAR