BEGIN:VCALENDAR
VERSION:2.0
PRODID:-//For Her - ECPv6.15.20//NONSGML v1.0//EN
CALSCALE:GREGORIAN
METHOD:PUBLISH
X-WR-CALNAME:For Her
X-ORIGINAL-URL:https://iamforher.org
X-WR-CALDESC:Events for For Her
REFRESH-INTERVAL;VALUE=DURATION:PT1H
X-Robots-Tag:noindex
X-PUBLISHED-TTL:PT1H
BEGIN:VTIMEZONE
TZID:America/Chicago
BEGIN:DAYLIGHT
TZOFFSETFROM:-0600
TZOFFSETTO:-0500
TZNAME:CDT
DTSTART:20250309T080000
END:DAYLIGHT
BEGIN:STANDARD
TZOFFSETFROM:-0500
TZOFFSETTO:-0600
TZNAME:CST
DTSTART:20251102T070000
END:STANDARD
BEGIN:DAYLIGHT
TZOFFSETFROM:-0600
TZOFFSETTO:-0500
TZNAME:CDT
DTSTART:20260308T080000
END:DAYLIGHT
BEGIN:STANDARD
TZOFFSETFROM:-0500
TZOFFSETTO:-0600
TZNAME:CST
DTSTART:20261101T070000
END:STANDARD
BEGIN:DAYLIGHT
TZOFFSETFROM:-0600
TZOFFSETTO:-0500
TZNAME:CDT
DTSTART:20270314T080000
END:DAYLIGHT
BEGIN:STANDARD
TZOFFSETFROM:-0500
TZOFFSETTO:-0600
TZNAME:CST
DTSTART:20271107T070000
END:STANDARD
END:VTIMEZONE
BEGIN:VEVENT
DTSTART;TZID=America/Chicago:20260422T183000
DTEND;TZID=America/Chicago:20260422T200000
DTSTAMP:20260422T022457
CREATED:20260317T193908Z
LAST-MODIFIED:20260317T193908Z
UID:10000543-1776882600-1776888000@iamforher.org
SUMMARY:Her Circle: Queer Connections
DESCRIPTION:Her Circle: Queer Connections is for queer women and nonbinary folks to share a space in which they can build meaningful connections and community. Join us as we facilitate queer joy through celebrating\, supporting\, and uplifting each other. \nSessions will be held at the For Her community center every 2nd and 4th Wednesday. No worries if you can’t make it for every group! Friends are always welcome. Snacks and drinks are provided; feel free to bring your own dinner! Please note babysitting is not provided for this gathering. \nSave the date for future Her Circle: Queer Connections! \n\nMay 13\nMay 27\n\nFacilitated by Sarah Lopez & Hayley Russell \nSarah Lopez is a passionate advocate for queer women in San Antonio. After moving to the city a few years ago to embark on a career as a software engineer\, Sarah sought a strong sense of community and sisterhood. This journey led her to For Her\, a vibrant support group where connection thrives. Recognizing the need for solidarity among queer women\, Sarah took the initiative to spearhead the annual Pride events and the ongoing Queer Connections group at For Her. With a commitment to inclusivity\, Sarah aims to foster an environment where everyone feels uplifted\, seen\, and valued. Now\, as Sarah embarks on a new path by attending law school at St. Mary’s\, the goal remains the same: to empower and support the community.  \nAs a single parent for the past six years\, Hayley Russell has learned how to navigate life after leaving a decade-long abusive relationship and embracing her queer identity. During this pivotal chapter of her life\, For Her’s diverse groups gave her more than just support—they offered healing\, confidence\, and a sense of belonging she didn’t know she could find. Now\, Hayley is excited to give back by leading Queer Connections and helping others step into their own light. She is a fierce believer in the power of community\, shared stories\, and holding space for each other as we grow. Hayley’s hope is to offer the same care and connection that lifted her up when she needed it most. \nJoin Sarah and Hayley at Her Circle: Queer Connections in building a lasting sense of belonging! \nFor Her Code of Conduct
URL:https://iamforher.org/event/her-circle-queer-connections-48/
LOCATION:For Her Community Space\, 8546 Broadway\, Suite 255\, San Antonio\, TX\, 78217\, United States
ORGANIZER;CN="For Her":MAILTO:taryn@iamforher.org
END:VEVENT
END:VCALENDAR