BEGIN:VCALENDAR
VERSION:2.0
PRODID:-//For Her - ECPv6.15.20//NONSGML v1.0//EN
CALSCALE:GREGORIAN
METHOD:PUBLISH
X-WR-CALNAME:For Her
X-ORIGINAL-URL:https://iamforher.org
X-WR-CALDESC:Events for For Her
REFRESH-INTERVAL;VALUE=DURATION:PT1H
X-Robots-Tag:noindex
X-PUBLISHED-TTL:PT1H
BEGIN:VTIMEZONE
TZID:America/Chicago
BEGIN:DAYLIGHT
TZOFFSETFROM:-0600
TZOFFSETTO:-0500
TZNAME:CDT
DTSTART:20250309T080000
END:DAYLIGHT
BEGIN:STANDARD
TZOFFSETFROM:-0500
TZOFFSETTO:-0600
TZNAME:CST
DTSTART:20251102T070000
END:STANDARD
BEGIN:DAYLIGHT
TZOFFSETFROM:-0600
TZOFFSETTO:-0500
TZNAME:CDT
DTSTART:20260308T080000
END:DAYLIGHT
BEGIN:STANDARD
TZOFFSETFROM:-0500
TZOFFSETTO:-0600
TZNAME:CST
DTSTART:20261101T070000
END:STANDARD
BEGIN:DAYLIGHT
TZOFFSETFROM:-0600
TZOFFSETTO:-0500
TZNAME:CDT
DTSTART:20270314T080000
END:DAYLIGHT
BEGIN:STANDARD
TZOFFSETFROM:-0500
TZOFFSETTO:-0600
TZNAME:CST
DTSTART:20271107T070000
END:STANDARD
END:VTIMEZONE
BEGIN:VEVENT
DTSTART;TZID=America/Chicago:20260504T180000
DTEND;TZID=America/Chicago:20260504T193000
DTSTAMP:20260423T110928
CREATED:20260402T162424Z
LAST-MODIFIED:20260402T162442Z
UID:10000552-1777917600-1777923000@iamforher.org
SUMMARY:Career Click with Dr. Caitlin Walker West: Communicating & Networking in Professional Settings
DESCRIPTION:Join For Her and Dr. Caitlin Walker West of Levántatech for the Career Click workshop series! Across three sessions\, you’ll learn how to communicate your value authentically\, craft a résumé that gets noticed\, and navigate today’s online job market with clarity and confidence. Each workshop stands on its own\, but together they walk you through the full arc of a modern job search from first impression to final application. Whether you’re re-entering the workforce\, changing careers\, or simply ready for what’s next\, this series is here to help opportunities click into place. \nWorkshop Topic: You’re Worth Knowing: Effectively & Authentically Communicating & Networking in Professional Settings. \nOpportunities don’t just happen in meeting rooms anymore!  This workshop equips you with the confidence and tools to clearly communicate your value\, whether you’re networking face-to-face or making connections online. \nFacilitated by Dr. Caitlin Walker West \nBorn and raised in the Rio Grande Valley\, Dr. Caitlin Walker West (Dr. C) has supported under-resourced communities in Texas for over a decade. In addition to founding coaching and consulting companies aimed at driving social impact\, she has held senior and executive leadership positions in civic engagement\, healthcare\, professional services\, and tech organizations. She is also the President & CEO of Levántatech\, a Latina serving tech-literacy nonprofit where she promotes ensuring skilled workforces and flourishing economies.   \nDr. C holds her clinical doctorate in physical therapy\, a Master of Business Administration\, and a graduate certificate in learning design and technology. \nSave the date for upcoming Career Click workshops! \n\nMonday\, May 18th at 6:00 PM – Digital First Impressions: Crafting a Resume that Clicks\nMonday\, June 1st at 6:00 PM – Job-Ready Online: Skills for the Modern Job Search\n\nFor Her Code of Conduct
URL:https://iamforher.org/event/career-click-with-dr-caitlin-walker-west-communicating-networking-in-professional-settings/
LOCATION:For Her Community Space\, 8546 Broadway\, Suite 255\, San Antonio\, TX\, 78217\, United States
ORGANIZER;CN="For Her":MAILTO:taryn@iamforher.org
END:VEVENT
END:VCALENDAR