BEGIN:VCALENDAR
VERSION:2.0
PRODID:-//For Her - ECPv6.15.20//NONSGML v1.0//EN
CALSCALE:GREGORIAN
METHOD:PUBLISH
X-WR-CALNAME:For Her
X-ORIGINAL-URL:https://iamforher.org
X-WR-CALDESC:Events for For Her
REFRESH-INTERVAL;VALUE=DURATION:PT1H
X-Robots-Tag:noindex
X-PUBLISHED-TTL:PT1H
BEGIN:VTIMEZONE
TZID:America/Chicago
BEGIN:DAYLIGHT
TZOFFSETFROM:-0600
TZOFFSETTO:-0500
TZNAME:CDT
DTSTART:20250309T080000
END:DAYLIGHT
BEGIN:STANDARD
TZOFFSETFROM:-0500
TZOFFSETTO:-0600
TZNAME:CST
DTSTART:20251102T070000
END:STANDARD
BEGIN:DAYLIGHT
TZOFFSETFROM:-0600
TZOFFSETTO:-0500
TZNAME:CDT
DTSTART:20260308T080000
END:DAYLIGHT
BEGIN:STANDARD
TZOFFSETFROM:-0500
TZOFFSETTO:-0600
TZNAME:CST
DTSTART:20261101T070000
END:STANDARD
BEGIN:DAYLIGHT
TZOFFSETFROM:-0600
TZOFFSETTO:-0500
TZNAME:CDT
DTSTART:20270314T080000
END:DAYLIGHT
BEGIN:STANDARD
TZOFFSETFROM:-0500
TZOFFSETTO:-0600
TZNAME:CST
DTSTART:20271107T070000
END:STANDARD
END:VTIMEZONE
BEGIN:VEVENT
DTSTART;TZID=America/Chicago:20260506T183000
DTEND;TZID=America/Chicago:20260506T203000
DTSTAMP:20260423T105342
CREATED:20260401T190744Z
LAST-MODIFIED:20260401T190815Z
UID:10000551-1778092200-1778099400@iamforher.org
SUMMARY:Her Table: Rest with Bria Woods
DESCRIPTION:Her Table is a shared meal that provides an opportunity for women to connect over good food and meaningful conversation. Dinner\, babysitting\, and all materials will be provided. Friends are always welcome! \nWorkshop Topic: Rest: Create Your Plan for Longevity \nIn this interactive workshop\, we will learn how to leverage the different types of rest our body needs for longevity and success. We will discuss as a group what we need to facilitate the rest we desperately need and write out a plan for each of our rest needs. Rest is a free and underutilized tool that can propel us forward in every aspect of our lives. \nFacilitator: Bria Woods \nBria Woods is a multimedia storyteller and an artist documenting the stories of women leaders through The Herstory Project. Currently\, Bria is the Content Director at Trinity University’s KRTU 91.7 FM. Bria holds a BA in Communication from Trinity University and a Masters in Multimedia Broadcast Journalism from the University of Westminster in London. Bria’s work has been displayed in Texas galleries and the Museum of the Coastal Bend. She has also been published on BBC.com and Edible SA magazine. When she’s not behind the lens\, Bria is on the mic hosting the “Women in Jazz” show on KRTU 91.7 FM on Thursday evenings. Though San Antonio has been her home for many years\, Bria’s story began in the nation’s capital\, where she grew up and first fostered a love of history and the arts. \nDinner Provided \nVegetarian options will be available. \nFor Her Code of Conduct
URL:https://iamforher.org/event/her-table-rest-with-bria-woods-2/
LOCATION:For Her Community Space\, 8546 Broadway\, Suite 255\, San Antonio\, TX\, 78217\, United States
ORGANIZER;CN="For Her":MAILTO:taryn@iamforher.org
END:VEVENT
END:VCALENDAR