BEGIN:VCALENDAR
VERSION:2.0
PRODID:-//For Her - ECPv6.15.20//NONSGML v1.0//EN
CALSCALE:GREGORIAN
METHOD:PUBLISH
X-WR-CALNAME:For Her
X-ORIGINAL-URL:https://iamforher.org
X-WR-CALDESC:Events for For Her
REFRESH-INTERVAL;VALUE=DURATION:PT1H
X-Robots-Tag:noindex
X-PUBLISHED-TTL:PT1H
BEGIN:VTIMEZONE
TZID:America/Chicago
BEGIN:DAYLIGHT
TZOFFSETFROM:-0600
TZOFFSETTO:-0500
TZNAME:CDT
DTSTART:20220313T080000
END:DAYLIGHT
BEGIN:STANDARD
TZOFFSETFROM:-0500
TZOFFSETTO:-0600
TZNAME:CST
DTSTART:20221106T070000
END:STANDARD
BEGIN:DAYLIGHT
TZOFFSETFROM:-0600
TZOFFSETTO:-0500
TZNAME:CDT
DTSTART:20230312T080000
END:DAYLIGHT
BEGIN:STANDARD
TZOFFSETFROM:-0500
TZOFFSETTO:-0600
TZNAME:CST
DTSTART:20231105T070000
END:STANDARD
BEGIN:DAYLIGHT
TZOFFSETFROM:-0600
TZOFFSETTO:-0500
TZNAME:CDT
DTSTART:20240310T080000
END:DAYLIGHT
BEGIN:STANDARD
TZOFFSETFROM:-0500
TZOFFSETTO:-0600
TZNAME:CST
DTSTART:20241103T070000
END:STANDARD
END:VTIMEZONE
BEGIN:VEVENT
DTSTART;TZID=America/Chicago:20230801T180000
DTEND;TZID=America/Chicago:20230801T193000
DTSTAMP:20260425T202304
CREATED:20230726T022944Z
LAST-MODIFIED:20230726T022944Z
UID:10000105-1690912800-1690918200@iamforher.org
SUMMARY:Her Healing: Virtual
DESCRIPTION:Her Healing: Virtual offers online group counseling for adult survivors of family violence and abuse. In this space\, group members work with one another to process emotions\, share lived experiences\, and learn therapeutic tools for healing moving forward. Led by Teresa Bethany\, For Her’s licensed therapist\, topics will range from safety planning and healthy relational communication to co-parenting tools and more! Sessions will be online. Please RSVP to receive instructions for accessing the virtual meeting. \nIn this meeting\, we’ll be discussing the “Emotional Bank Account” and what emotional bids for connection look like in healthy relationships.
URL:https://iamforher.org/event/her-healing-virtual-3/
LOCATION:TX
ORGANIZER;CN="For Her":MAILTO:development@iamforher.org
END:VEVENT
BEGIN:VEVENT
DTSTART;TZID=America/Chicago:20230802T190000
DTEND;TZID=America/Chicago:20230802T210000
DTSTAMP:20260425T202304
CREATED:20230427T181149Z
LAST-MODIFIED:20230724T195500Z
UID:10000081-1691002800-1691010000@iamforher.org
SUMMARY:Her Table: More Than the Birds and the Bees with Healthy Futures of Texas
DESCRIPTION:Her Table is a shared meal that provides an opportunity for women to connect over good food and meaningful conversation. Dinner\, babysitting\, and all materials will be provided. \nMore Than the Birds and the Bees \nJoin For Her for an interactive workshop on healthy relationships and going back to some of the basics on sexual health. Whether you received these topics in school or had to do some of your own research\, this workshop is sure to get you talking and asking all the questions. We will unpack some of those common myths and facts of sexual health\, play games\, and learn helpful techniques that you can use in any relationship to aid in communication and sharing more of your own voice. \nWe invite people of any age to join us as oftentimes these are topics that we didn’t learn growing up or we received inaccurate information. This can be information you want for yourself\, or maybe you’re the parent\, a loving caregiver\, or just want to be that fun resource for a sister or friend. We’re so excited to hear from you and to have engaging conversations as we all learn together! \nPresented in partnership with Healthy Futures of Texas \nHealthy Futures of Texas (HFTX) is a statewide nonpartisan nonprofit organization that works to improve the well-being of young Texans through equitable access to sexual health education and resources. HFTX aims to advance informed decisions about sexual health for young people\, their families\, and communities.
URL:https://iamforher.org/event/her-table/
LOCATION:For Her Community Space\, 8546 Broadway\, Suite 255\, San Antonio\, TX\, 78217\, United States
END:VEVENT
BEGIN:VEVENT
DTSTART;TZID=America/Chicago:20230807T180000
DTEND;TZID=America/Chicago:20230807T193000
DTSTAMP:20260425T202304
CREATED:20230525T151850Z
LAST-MODIFIED:20230726T023727Z
UID:10000097-1691431200-1691436600@iamforher.org
SUMMARY:Her Circle: Summer Series
DESCRIPTION:Her Circle is a small support group of women fostering deep relationships. Circles meet biweekly for encouragement\, growth\, accountability\, and fun! \nThis summer we’re diving into conversations around resilience\, tapping into your inner power\, self-confidence\, and using your voice to advocate for yourself. We’ll be meeting on the 1st and 3rd Monday of each month. No worries if you can’t make it for every meeting! Friends are always welcome. Snacks and drinks are provided; feel free to bring your own dinner! \n*Please note babysitting is not provided for this gathering.
URL:https://iamforher.org/event/her-circle-5/
LOCATION:For Her Community Space\, 8546 Broadway\, Suite 255\, San Antonio\, TX\, 78217\, United States
ORGANIZER;CN="For Her":MAILTO:development@iamforher.org
END:VEVENT
BEGIN:VEVENT
DTSTART;TZID=America/Chicago:20230808T180000
DTEND;TZID=America/Chicago:20230808T193000
DTSTAMP:20260425T202304
CREATED:20230427T175158Z
LAST-MODIFIED:20230427T183521Z
UID:10000073-1691517600-1691523000@iamforher.org
SUMMARY:Her Healing
DESCRIPTION:Her Healing offers group counseling for adult survivors of family violence and abuse. In this space\, group members work with one another to process emotions\, share lived experiences\, and learn therapeutic tools for healing moving forward. Led by Teresa Bethany\, For Her’s licensed therapist\, topics will range from safety planning and healthy relational communication to co-parenting tools and more! Sessions will be held at the For Her community center; as always\, friends are welcome and babysitting is provided.
URL:https://iamforher.org/event/her-healing-12/
LOCATION:For Her Community Space\, 8546 Broadway\, Suite 255\, San Antonio\, TX\, 78217\, United States
END:VEVENT
BEGIN:VEVENT
DTSTART;TZID=America/Chicago:20230808T180000
DTEND;TZID=America/Chicago:20230808T200000
DTSTAMP:20260425T202304
CREATED:20230719T201843Z
LAST-MODIFIED:20230725T182321Z
UID:10000104-1691517600-1691524800@iamforher.org
SUMMARY:Women in Civic Leadership Panel
DESCRIPTION:Kayla Carter\, our CEO & Founder\, and Commissioner for the Mayor’s Commission on the Status of Women\, will join women across San Antonio as they share their experience of serving on a Board or Commission with the City. \nDinner will be provided as you listen to the panel. Current women board and commission members will talk about the benefits of service and overcoming obstacles. If you have ever wondered about what it means to serve your City\, join us for this wonderful opportunity! \nThis free event will include a buffet dinner. Space is limited so hurry and RSVP using the Eventbride link below.
URL:https://iamforher.org/event/women-in-civic-leadership-panel/
LOCATION:Culture Commos Galery\, 115 Plaza de Armas\, San Antonio\, Texas\, 78205
END:VEVENT
BEGIN:VEVENT
DTSTART;TZID=America/Chicago:20230809T183000
DTEND;TZID=America/Chicago:20230809T200000
DTSTAMP:20260425T202304
CREATED:20230726T023210Z
LAST-MODIFIED:20230808T160017Z
UID:10000106-1691605800-1691611200@iamforher.org
SUMMARY:Her Circle: Queer Connections
DESCRIPTION:Queer Connections is for queer women and nonbinary folks to share a space in which they can build meaningful connections and community. Join us as we facilitate queer joy through celebrating\, supporting\, and uplifting each other.  \nThis circle will meet on the 2nd and 4th Wednesday of each month. No worries if you can’t make it for every group! Friends are always welcome. Snacks and drinks are provided; feel free to bring your own dinner! \n*Please note babysitting is not provided for this gathering.
URL:https://iamforher.org/event/her-circle-queer-connections/
LOCATION:For Her Community Space\, 8546 Broadway\, Suite 255\, San Antonio\, TX\, 78217\, United States
ORGANIZER;CN="For Her":MAILTO:development@iamforher.org
END:VEVENT
BEGIN:VEVENT
DTSTART;TZID=America/Chicago:20230814T183000
DTEND;TZID=America/Chicago:20230814T200000
DTSTAMP:20260425T202304
CREATED:20230726T023540Z
LAST-MODIFIED:20230809T150813Z
UID:10000108-1692037800-1692043200@iamforher.org
SUMMARY:Her Circle en Español
DESCRIPTION:Her Circle en Español es un grupo pequeno de apoyo para mujeres que hablan espanol en nuestra comunidad. ¡Los círculos se reúnen cada segundo y cuarto lunes del mes para alentar\, crecer\, conocerte\, y divertirte! \nEste otoño nos enfocaremos en conversaciones sobre el amor propio\, la resiliencia\, la identidad\, y cultivar una red de apoyo. No te preocupes si no puedes asistir a todas las reuniones. Las amigas siempre son bienvenidas. Proporcionaremos snacks y bebidas; sientete libre de traer tu propia cena. \n*Toma en cuenta que no se proporciona servicio de niñera para esta reunión. \n—— \nHer Circle: Spanish is a small support group for Spanish-speaking women in our community. Circles meet biweekly for encouragement\, growth\, accountability\, and fun! \nThis fall we’re diving into conversations around self-love\, resilience\, identity\, and building community. We’ll be meeting on the 2nd and 4th Monday of each month. No worries if you can’t make it for every meeting! Friends are always welcome. Snacks and drinks are provided; feel free to bring your own dinner! \n*Please note babysitting is not provided for this gathering.
URL:https://iamforher.org/event/her-circle-spanish/
LOCATION:For Her Community Space\, 8546 Broadway\, Suite 255\, San Antonio\, TX\, 78217\, United States
ORGANIZER;CN="For Her":MAILTO:development@iamforher.org
END:VEVENT
BEGIN:VEVENT
DTSTART;TZID=America/Chicago:20230816T190000
DTEND;TZID=America/Chicago:20230816T210000
DTSTAMP:20260425T202304
CREATED:20230427T181310Z
LAST-MODIFIED:20230712T191821Z
UID:10000082-1692212400-1692219600@iamforher.org
SUMMARY:Her Table: Having “The Talk” with Healthy Futures of Texas
DESCRIPTION:Her Table is a shared meal that provides an opportunity for women to connect over good food and meaningful conversation. Dinner\, babysitting\, and all materials will be provided. \nHaving “The Talk” \nJoin For Her to learn more about how to talk to young people about changes in their body\, expectations\, relationships\, sexual health\, and healthcare. Many of us never had these conversations with a trusted adult when we were a pre-teen or teenager\, and it could feel awkward to try to begin this conversation now. We want all parents\, caregivers\, and trusted adults for young people to feel prepared on beginning those steps\, and to understand that it’s not just one “talk” but many conversations throughout life. \nThis workshop promises an engaging conversation\, interactive activities\, and take-away tips and things to practice after the session. Parents and trusted adults are the experts for their own child(ren)\, and we want to honor your experiences as we all share helpful information with the group. We cannot wait to share space with you all! \nPresented in partnership with Healthy Futures of Texas \nHealthy Futures of Texas (HFTX) is a statewide nonpartisan nonprofit organization that works to improve the well-being of young Texans through equitable access to sexual health education and resources. HFTX aims to advance informed decisions about sexual health for young people\, their families\, and communities.
URL:https://iamforher.org/event/her-table-2/
LOCATION:For Her Community Space\, 8546 Broadway\, Suite 255\, San Antonio\, TX\, 78217\, United States
END:VEVENT
BEGIN:VEVENT
DTSTART;TZID=America/Chicago:20230821T180000
DTEND;TZID=America/Chicago:20230821T193000
DTSTAMP:20260425T202304
CREATED:20230525T152002Z
LAST-MODIFIED:20230821T140412Z
UID:10000098-1692640800-1692646200@iamforher.org
SUMMARY:CANCELED: Her Circle: Summer Series
DESCRIPTION:Her Circle is a small support group of women fostering deep relationships. Circles meet biweekly for encouragement\, growth\, accountability\, and fun! \nThis summer we’re diving into conversations around resilience\, tapping into your inner power\, self-confidence\, and using your voice to advocate for yourself. We’ll be meeting on the 1st and 3rd Monday of each month. No worries if you can’t make it for every meeting! Friends are always welcome. Snacks and drinks are provided; feel free to bring your own dinner! \n*Please note babysitting is not provided for this gathering.
URL:https://iamforher.org/event/her-circle-6/
LOCATION:For Her Community Space\, 8546 Broadway\, Suite 255\, San Antonio\, TX\, 78217\, United States
ORGANIZER;CN="For Her":MAILTO:development@iamforher.org
END:VEVENT
BEGIN:VEVENT
DTSTART;TZID=America/Chicago:20230822T180000
DTEND;TZID=America/Chicago:20230822T193000
DTSTAMP:20260425T202304
CREATED:20230427T175354Z
LAST-MODIFIED:20230427T183719Z
UID:10000074-1692727200-1692732600@iamforher.org
SUMMARY:Her Healing
DESCRIPTION:Her Healing offers group counseling for adult survivors of family violence and abuse. In this space\, group members work with one another to process emotions\, share lived experiences\, and learn therapeutic tools for healing moving forward. Led by Teresa Bethany\, For Her’s licensed therapist\, topics will range from safety planning and healthy relational communication to co-parenting tools and more! Sessions will be held at the For Her community center; as always\, friends are welcome and babysitting is provided.
URL:https://iamforher.org/event/her-healing-13/
LOCATION:For Her Community Space\, 8546 Broadway\, Suite 255\, San Antonio\, TX\, 78217\, United States
END:VEVENT
BEGIN:VEVENT
DTSTART;TZID=America/Chicago:20230823T183000
DTEND;TZID=America/Chicago:20230823T200000
DTSTAMP:20260425T202304
CREATED:20230726T023343Z
LAST-MODIFIED:20230808T155931Z
UID:10000107-1692815400-1692820800@iamforher.org
SUMMARY:Her Circle: Queer Connections
DESCRIPTION:Queer Connections is for queer women and nonbinary folks to share a space in which they can build meaningful connections and community. Join us as we facilitate queer joy through celebrating\, supporting\, and uplifting each other. \nThis circle will meet on the 2nd and 4th Wednesday of each month. No worries if you can’t make it for every group! Friends are always welcome. Snacks and drinks are provided; feel free to bring your own dinner! \n*Please note babysitting is not provided for this gathering.
URL:https://iamforher.org/event/her-circle-queer-connections-2/
LOCATION:For Her Community Space\, 8546 Broadway\, Suite 255\, San Antonio\, TX\, 78217\, United States
ORGANIZER;CN="For Her":MAILTO:development@iamforher.org
END:VEVENT
BEGIN:VEVENT
DTSTART;TZID=America/Chicago:20230828T183000
DTEND;TZID=America/Chicago:20230828T200000
DTSTAMP:20260425T202304
CREATED:20230726T023630Z
LAST-MODIFIED:20230809T150840Z
UID:10000109-1693247400-1693252800@iamforher.org
SUMMARY:Her Circle en Español
DESCRIPTION:Her Circle en Español es un grupo pequeno de apoyo para mujeres que hablan espanol en nuestra comunidad. ¡Los círculos se reúnen cada segundo y cuarto lunes del mes para alentar\, crecer\, conocerte\, y divertirte! \nEste otoño nos enfocaremos en conversaciones sobre el amor propio\, la resiliencia\, la identidad\, y cultivar una red de apoyo. No te preocupes si no puedes asistir a todas las reuniones. Las amigas siempre son bienvenidas. Proporcionaremos snacks y bebidas; sientete libre de traer tu propia cena. \n*Toma en cuenta que no se proporciona servicio de niñera para esta reunión. \n—— \nHer Circle: Spanish is a small support group for Spanish-speaking women in our community. Circles meet biweekly for encouragement\, growth\, accountability\, and fun! \nThis fall we’re diving into conversations around self-love\, resilience\, identity\, and building community. We’ll be meeting on the 2nd and 4th Monday of each month. No worries if you can’t make it for every meeting! Friends are always welcome. Snacks and drinks are provided; feel free to bring your own dinner! \n*Please note babysitting is not provided for this gathering.
URL:https://iamforher.org/event/her-circle-spanish-2/
LOCATION:For Her Community Space\, 8546 Broadway\, Suite 255\, San Antonio\, TX\, 78217\, United States
ORGANIZER;CN="For Her":MAILTO:development@iamforher.org
END:VEVENT
BEGIN:VEVENT
DTSTART;TZID=America/Chicago:20230830T180000
DTEND;TZID=America/Chicago:20230830T200000
DTSTAMP:20260425T202304
CREATED:20230706T213211Z
LAST-MODIFIED:20230712T192256Z
UID:10000101-1693418400-1693425600@iamforher.org
SUMMARY:Workshop: Overcoming Self-Sabotage & Body Insecurities on Your Health Journey
DESCRIPTION:Join For Her and health coach Savannah Robertson for a workshop focused on overcoming self-sabotage and body insecurities. In this workshop we’ll discuss: \n\nThe psychology of why we self-sabotage\nHow body image and our wellness journey impact one another\nHow to create a customized health and wellness plan that you stick to\n\nWe’re honored to have Savannah Robertson join us to facilitate this workshop! Savannah is a certified health coach who is passionate about helping women redefine what health means to them and gain body confidence in the body they already have. She hosts the Love Your Body Now podcast to open up the conversation for women about the skewed narrative within the diet and fitness industry and guides them to rewrite their own narrative.
URL:https://iamforher.org/event/body-image-wellness-workshop-with-savannah-robertson/
LOCATION:For Her Community Space\, 8546 Broadway\, Suite 255\, San Antonio\, TX\, 78217\, United States
ORGANIZER;CN="For Her":MAILTO:taryn@iamforher.org
END:VEVENT
END:VCALENDAR