BEGIN:VCALENDAR
VERSION:2.0
PRODID:-//For Her - ECPv6.15.20//NONSGML v1.0//EN
CALSCALE:GREGORIAN
METHOD:PUBLISH
X-WR-CALNAME:For Her
X-ORIGINAL-URL:https://iamforher.org
X-WR-CALDESC:Events for For Her
REFRESH-INTERVAL;VALUE=DURATION:PT1H
X-Robots-Tag:noindex
X-PUBLISHED-TTL:PT1H
BEGIN:VTIMEZONE
TZID:America/Chicago
BEGIN:DAYLIGHT
TZOFFSETFROM:-0600
TZOFFSETTO:-0500
TZNAME:CDT
DTSTART:20220313T080000
END:DAYLIGHT
BEGIN:STANDARD
TZOFFSETFROM:-0500
TZOFFSETTO:-0600
TZNAME:CST
DTSTART:20221106T070000
END:STANDARD
BEGIN:DAYLIGHT
TZOFFSETFROM:-0600
TZOFFSETTO:-0500
TZNAME:CDT
DTSTART:20230312T080000
END:DAYLIGHT
BEGIN:STANDARD
TZOFFSETFROM:-0500
TZOFFSETTO:-0600
TZNAME:CST
DTSTART:20231105T070000
END:STANDARD
BEGIN:DAYLIGHT
TZOFFSETFROM:-0600
TZOFFSETTO:-0500
TZNAME:CDT
DTSTART:20240310T080000
END:DAYLIGHT
BEGIN:STANDARD
TZOFFSETFROM:-0500
TZOFFSETTO:-0600
TZNAME:CST
DTSTART:20241103T070000
END:STANDARD
END:VTIMEZONE
BEGIN:VEVENT
DTSTART;VALUE=DATE:20230904
DTEND;VALUE=DATE:20230905
DTSTAMP:20260425T184943
CREATED:20230706T213258Z
LAST-MODIFIED:20230706T213258Z
UID:10000102-1693785600-1693871999@iamforher.org
SUMMARY:For Her Closed for Labor Day
DESCRIPTION:
URL:https://iamforher.org/event/for-her-closed-for-labor-day/
LOCATION:TX
END:VEVENT
BEGIN:VEVENT
DTSTART;TZID=America/Chicago:20230906T183000
DTEND;TZID=America/Chicago:20230906T203000
DTSTAMP:20260425T184943
CREATED:20230427T181743Z
LAST-MODIFIED:20230712T192434Z
UID:10000083-1694025000-1694032200@iamforher.org
SUMMARY:Career Workshop Series: Values\, Strengths\, and Self-Assessment
DESCRIPTION:Every Wednesday in September\, join For Her for a four-week workshop series on career exploration and development! We’ll focus on identifying your skills and competencies and learn how to get from where you are to where you want to go. We’ll also review how to write (or improve!) your resume and cover letter and where to look for potential job openings. The series will conclude with a networking night and panel of leaders from a variety of fields sharing about their career journeys and answering our questions about building a career that is both rewarding AND pays the bills.
URL:https://iamforher.org/event/her-table-career-workshop-series/
LOCATION:For Her Community Space\, 8546 Broadway\, Suite 255\, San Antonio\, TX\, 78217\, United States
END:VEVENT
BEGIN:VEVENT
DTSTART;TZID=America/Chicago:20230907T120000
DTEND;TZID=America/Chicago:20230907T130000
DTSTAMP:20260425T184943
CREATED:20230810T152020Z
LAST-MODIFIED:20230810T152020Z
UID:10000118-1694088000-1694091600@iamforher.org
SUMMARY:For Her September Open House
DESCRIPTION:It is with great pleasure that we invite you to For Her’s Open House! \nWe are excited for the opportunity to have you in our community space\, meet our team\, tour our facilities\, and learn more about how For Her serves the women of San Antonio. \nSnacks will be provided.
URL:https://iamforher.org/event/for-her-september-open-house/
LOCATION:For Her Community Space\, 8546 Broadway\, Suite 255\, San Antonio\, TX\, 78217\, United States
ORGANIZER;CN="For Her":MAILTO:development@iamforher.org
END:VEVENT
BEGIN:VEVENT
DTSTART;TZID=America/Chicago:20230910T100000
DTEND;TZID=America/Chicago:20230910T120000
DTSTAMP:20260425T184943
CREATED:20230828T194805Z
LAST-MODIFIED:20230907T161345Z
UID:10000120-1694340000-1694347200@iamforher.org
SUMMARY:Self-Care Sunday: Yoga & Brunch
DESCRIPTION:Join For Her for Self-Care Sunday to prioritize your mental and physical well-being and give yourself the care and attention you deserve! We’ll start our day with a warm-up stretch followed by an energizing 45-minute yoga session from House of RythOM. After the class\, Superfresh Meals will provide a delicious and nourishing brunch (and mimosas!). Coffee and other non-alcoholic options will also be available. \nWear comfy clothes and bring your water bottle and yoga mat if you’ve got one. Friends are welcome! \nPlease note babysitting will not be provided at this event. \nPresented by Mallory Dougoud and Morph.TheLabel \nMorph.TheLabel\, a woman-owned athleisure brand\, was created in 2021 to celebrate every woman’s differences\, individuality\, and creativity in order to bring unity. Women are not the enemy of other women. It is our differences that make us each unique and it is in those differences that MORPH us all as one.
URL:https://iamforher.org/event/self-care-sunday-yoga-brunch-2/
LOCATION:For Her Community Space\, 8546 Broadway\, Suite 255\, San Antonio\, TX\, 78217\, United States
ORGANIZER;CN="For Her":MAILTO:development@iamforher.org
END:VEVENT
BEGIN:VEVENT
DTSTART;TZID=America/Chicago:20230911T183000
DTEND;TZID=America/Chicago:20230911T200000
DTSTAMP:20260425T184943
CREATED:20230808T155409Z
LAST-MODIFIED:20230809T150912Z
UID:10000111-1694457000-1694462400@iamforher.org
SUMMARY:Her Circle en Español
DESCRIPTION:Her Circle en Español es un grupo pequeno de apoyo para mujeres que hablan espanol en nuestra comunidad. ¡Los círculos se reúnen cada segundo y cuarto lunes del mes para alentar\, crecer\, conocerte\, y divertirte! \nEste otoño nos enfocaremos en conversaciones sobre el amor propio\, la resiliencia\, la identidad\, y cultivar una red de apoyo. No te preocupes si no puedes asistir a todas las reuniones. Las amigas siempre son bienvenidas. Proporcionaremos snacks y bebidas; sientete libre de traer tu propia cena. \n*Toma en cuenta que no se proporciona servicio de niñera para esta reunión. \n—— \nHer Circle: Spanish is a small support group for Spanish-speaking women in our community. Circles meet biweekly for encouragement\, growth\, accountability\, and fun! \nThis fall we’re diving into conversations around self-love\, resilience\, identity\, and building community. We’ll be meeting on the 2nd and 4th Monday of each month. No worries if you can’t make it for every meeting! Friends are always welcome. Snacks and drinks are provided; feel free to bring your own dinner! \n*Please note babysitting is not provided for this gathering.
URL:https://iamforher.org/event/her-circle-spanish-4/
LOCATION:For Her Community Space\, 8546 Broadway\, Suite 255\, San Antonio\, TX\, 78217\, United States
ORGANIZER;CN="For Her":MAILTO:development@iamforher.org
END:VEVENT
BEGIN:VEVENT
DTSTART;TZID=America/Chicago:20230912T180000
DTEND;TZID=America/Chicago:20230912T193000
DTSTAMP:20260425T184943
CREATED:20230808T160312Z
LAST-MODIFIED:20230906T220043Z
UID:10000112-1694541600-1694547000@iamforher.org
SUMMARY:Her Healing
DESCRIPTION:Her Healing offers group counseling for adult survivors of family violence and abuse. In this space\, group members work with one another to process emotions\, share lived experiences\, and learn therapeutic tools for healing moving forward. Led by Teresa Bethany\, For Her’s licensed therapist\, topics will range from safety planning and healthy relational communication to co-parenting tools and more!  \nSessions will be held at the For Her community center. Friends are always welcome\, and free onsite babysitting is provided. Snacks and drinks are provided; feel free to bring your own dinner! 
URL:https://iamforher.org/event/her-healing-14/
LOCATION:For Her Community Space\, 8546 Broadway\, Suite 255\, San Antonio\, TX\, 78217\, United States
ORGANIZER;CN="For Her":MAILTO:development@iamforher.org
END:VEVENT
BEGIN:VEVENT
DTSTART;TZID=America/Chicago:20230913T183000
DTEND;TZID=America/Chicago:20230913T200000
DTSTAMP:20260425T184943
CREATED:20230808T160428Z
LAST-MODIFIED:20230906T213929Z
UID:10000113-1694629800-1694635200@iamforher.org
SUMMARY:Her Circle: Queer Connections
DESCRIPTION:Queer Connections is for queer women and nonbinary folks to share a space in which they can build meaningful connections and community. Join us as we facilitate queer joy through celebrating\, supporting\, and uplifting each other.  \nThis circle will meet on the 2nd and 4th Wednesday of each month. No worries if you can’t make it for every group! Friends are always welcome. Please note babysitting is not provided for this gathering. \n*QUEER CONNECTIONS WILL BE MEETING AT HALCYON IN SOUTHTOWN ON 9/13
URL:https://iamforher.org/event/her-circle-queer-connections-3/
LOCATION:Contact us for Location
ORGANIZER;CN="For Her":MAILTO:development@iamforher.org
END:VEVENT
BEGIN:VEVENT
DTSTART;TZID=America/Chicago:20230913T183000
DTEND;TZID=America/Chicago:20230913T203000
DTSTAMP:20260425T184943
CREATED:20230427T181835Z
LAST-MODIFIED:20230906T220310Z
UID:10000084-1694629800-1694637000@iamforher.org
SUMMARY:Career Workshop Series: Level Up Your Resume & Cover Letter
DESCRIPTION:Every Wednesday in September\, join For Her for a four-week workshop series on career exploration and development! We’ll focus on identifying your skills and competencies and learn how to get from where you are to where you want to go. \nDuring Week #2 we’ll review how to write (or improve!) your resume and cover letter and where to look for potential job openings. Please bring your current resume if you have one and your laptop. We’ll also have a few laptops to borrow. \n Dinner\, babysitting\, and all materials will be provided. Friends are always welcome!
URL:https://iamforher.org/event/her-table-career-workshop-series-2/
LOCATION:For Her Community Space\, 8546 Broadway\, Suite 255\, San Antonio\, TX\, 78217\, United States
END:VEVENT
BEGIN:VEVENT
DTSTART;TZID=America/Chicago:20230919T180000
DTEND;TZID=America/Chicago:20230919T193000
DTSTAMP:20260425T184943
CREATED:20230808T160921Z
LAST-MODIFIED:20230906T221153Z
UID:10000114-1695146400-1695151800@iamforher.org
SUMMARY:Her Circle: Single Moms
DESCRIPTION:Her Circle: Single Moms focuses on empowering and supporting single mothers as they balance parenthood\, career\, and self-care. Eliana and Sabina will facilitate conversations aimed at discussing challenges and exploring solutions related to being a single mom. In this initial session\, the conversation will focus on the negative stigma against single moms and remembering that we are not those stereotypes. \n“Just because I am a single mother doesn’t mean I cannot be a success.” – Yvonne Kaloki \nFriends are always welcome. Snacks\, drinks\, and onsite babysitting are provided; feel free to bring your own dinner!
URL:https://iamforher.org/event/her-circle-single-moms/
LOCATION:For Her Community Space\, 8546 Broadway\, Suite 255\, San Antonio\, TX\, 78217\, United States
ORGANIZER;CN="For Her":MAILTO:development@iamforher.org
END:VEVENT
BEGIN:VEVENT
DTSTART;TZID=America/Chicago:20230920T183000
DTEND;TZID=America/Chicago:20230920T203000
DTSTAMP:20260425T184943
CREATED:20230427T181907Z
LAST-MODIFIED:20230906T215003Z
UID:10000085-1695234600-1695241800@iamforher.org
SUMMARY:Career Workshop Series: Networking & Business Dinner Etiquette
DESCRIPTION:Every Wednesday in September\, join For Her for a four-week workshop series on career exploration and development! We’ll focus on identifying your skills and competencies and learn how to get from where you are to where you want to go. \nIn Week 3 of this series\, we’ll learn what we can expect at a more professional meal (like during an interview!) and how to navigate networking\, including why it’s important\, how to move past feeling awkward\, introducing yourself\, and even what’s appropriate to talk about. After this evening\, you’ll leave equipped and confident going into interviews\, happy hours\, and lunch with your boss. \nDinner\, babysitting\, and all materials will be provided. Friends are always welcome!
URL:https://iamforher.org/event/her-table-career-workshop-series-3/
LOCATION:For Her Community Space\, 8546 Broadway\, Suite 255\, San Antonio\, TX\, 78217\, United States
END:VEVENT
BEGIN:VEVENT
DTSTART;TZID=America/Chicago:20230925T183000
DTEND;TZID=America/Chicago:20230925T200000
DTSTAMP:20260425T184943
CREATED:20230808T161102Z
LAST-MODIFIED:20230809T150939Z
UID:10000115-1695666600-1695672000@iamforher.org
SUMMARY:Her Circle en Español
DESCRIPTION:Her Circle en Español es un grupo pequeno de apoyo para mujeres que hablan espanol en nuestra comunidad. ¡Los círculos se reúnen cada segundo y cuarto lunes del mes para alentar\, crecer\, conocerte\, y divertirte! \nEste otoño nos enfocaremos en conversaciones sobre el amor propio\, la resiliencia\, la identidad\, y cultivar una red de apoyo. No te preocupes si no puedes asistir a todas las reuniones. Las amigas siempre son bienvenidas. Proporcionaremos snacks y bebidas; sientete libre de traer tu propia cena. \n*Toma en cuenta que no se proporciona servicio de niñera para esta reunión. \n—— \nHer Circle: Spanish is a small support group for Spanish-speaking women in our community. Circles meet biweekly for encouragement\, growth\, accountability\, and fun! \nThis fall we’re diving into conversations around self-love\, resilience\, identity\, and building community. We’ll be meeting on the 2nd and 4th Monday of each month. No worries if you can’t make it for every meeting! Friends are always welcome. Snacks and drinks are provided; feel free to bring your own dinner! \n*Please note babysitting is not provided for this gathering.
URL:https://iamforher.org/event/her-circle-spanish-5/
LOCATION:For Her Community Space\, 8546 Broadway\, Suite 255\, San Antonio\, TX\, 78217\, United States
ORGANIZER;CN="For Her":MAILTO:development@iamforher.org
END:VEVENT
BEGIN:VEVENT
DTSTART;TZID=America/Chicago:20230926T180000
DTEND;TZID=America/Chicago:20230926T193000
DTSTAMP:20260425T184943
CREATED:20230808T161205Z
LAST-MODIFIED:20230906T220556Z
UID:10000116-1695751200-1695756600@iamforher.org
SUMMARY:Her Healing
DESCRIPTION:Her Healing offers group counseling for adult survivors of family violence and abuse. In this space\, group members work with one another to process emotions\, share lived experiences\, and learn therapeutic tools for healing moving forward. Led by Teresa Bethany\, For Her’s licensed therapist\, topics will range from safety planning and healthy relational communication to co-parenting tools and more!  \nSessions will be held at the For Her community center. Friends are always welcome. Snacks\, drinks\, and onsite babysitting are provided; feel free to bring your own dinner!
URL:https://iamforher.org/event/her-healing-15/
LOCATION:For Her Community Space\, 8546 Broadway\, Suite 255\, San Antonio\, TX\, 78217\, United States
ORGANIZER;CN="For Her":MAILTO:development@iamforher.org
END:VEVENT
BEGIN:VEVENT
DTSTART;TZID=America/Chicago:20230927T183000
DTEND;TZID=America/Chicago:20230927T200000
DTSTAMP:20260425T184943
CREATED:20230808T161339Z
LAST-MODIFIED:20230922T222617Z
UID:10000117-1695839400-1695844800@iamforher.org
SUMMARY:Her Circle: Queer Connections
DESCRIPTION:Queer Connections is for queer women and nonbinary folks to share a space in which they can build meaningful connections and community. Join us as we facilitate queer joy through celebrating\, supporting\, and uplifting each other.  \nThis circle will meet on the 2nd and 4th Wednesday of each month. No worries if you can’t make it for every group! Friends are always welcome. Snacks and drinks are provided; feel free to bring your own dinner! \nHer Circle: Queer Connections will be meeting at Vice Versa Coffee for this gathering. \n*Please note babysitting is not provided for this gathering.
URL:https://iamforher.org/event/her-circle-queer-connections-4/
LOCATION:Contact us for Location
ORGANIZER;CN="For Her":MAILTO:development@iamforher.org
END:VEVENT
BEGIN:VEVENT
DTSTART;TZID=America/Chicago:20230927T183000
DTEND;TZID=America/Chicago:20230927T203000
DTSTAMP:20260425T184943
CREATED:20230427T181938Z
LAST-MODIFIED:20230927T162953Z
UID:10000086-1695839400-1695846600@iamforher.org
SUMMARY:Career Workshop Series: Women in Leadership Panel & Networking Happy Hour
DESCRIPTION:Every Wednesday in September\, join For Her for a four-week workshop series on career exploration and development! We’ll focus on identifying your skills and competencies and learn how to get from where you are to where you want to go. \nThe series will conclude on September 27th with a panel of diverse professional women from a variety of fields sharing about their career journeys and answering our questions about building a career that is rewarding and sustainable. Panelists who will be present come from the banking\, higher education\, business\, and public service sectors. \nWe’ll also have a networking happy hour with drinks and small bites and will offer headshots to our community members that evening\, so come ready to mix and mingle and have your photo taken! \n*Please note babysitting is not provided for this gathering.
URL:https://iamforher.org/event/her-table-career-workshop-series-4/
LOCATION:For Her Community Space\, 8546 Broadway\, Suite 255\, San Antonio\, TX\, 78217\, United States
END:VEVENT
END:VCALENDAR