BEGIN:VCALENDAR
VERSION:2.0
PRODID:-//For Her - ECPv6.15.20//NONSGML v1.0//EN
CALSCALE:GREGORIAN
METHOD:PUBLISH
X-WR-CALNAME:For Her
X-ORIGINAL-URL:https://iamforher.org
X-WR-CALDESC:Events for For Her
REFRESH-INTERVAL;VALUE=DURATION:PT1H
X-Robots-Tag:noindex
X-PUBLISHED-TTL:PT1H
BEGIN:VTIMEZONE
TZID:America/Chicago
BEGIN:DAYLIGHT
TZOFFSETFROM:-0600
TZOFFSETTO:-0500
TZNAME:CDT
DTSTART:20220313T080000
END:DAYLIGHT
BEGIN:STANDARD
TZOFFSETFROM:-0500
TZOFFSETTO:-0600
TZNAME:CST
DTSTART:20221106T070000
END:STANDARD
BEGIN:DAYLIGHT
TZOFFSETFROM:-0600
TZOFFSETTO:-0500
TZNAME:CDT
DTSTART:20230312T080000
END:DAYLIGHT
BEGIN:STANDARD
TZOFFSETFROM:-0500
TZOFFSETTO:-0600
TZNAME:CST
DTSTART:20231105T070000
END:STANDARD
BEGIN:DAYLIGHT
TZOFFSETFROM:-0600
TZOFFSETTO:-0500
TZNAME:CDT
DTSTART:20240310T080000
END:DAYLIGHT
BEGIN:STANDARD
TZOFFSETFROM:-0500
TZOFFSETTO:-0600
TZNAME:CST
DTSTART:20241103T070000
END:STANDARD
BEGIN:DAYLIGHT
TZOFFSETFROM:-0600
TZOFFSETTO:-0500
TZNAME:CDT
DTSTART:20250309T080000
END:DAYLIGHT
BEGIN:STANDARD
TZOFFSETFROM:-0500
TZOFFSETTO:-0600
TZNAME:CST
DTSTART:20251102T070000
END:STANDARD
END:VTIMEZONE
BEGIN:VEVENT
DTSTART;TZID=America/Chicago:20231205T180000
DTEND;TZID=America/Chicago:20231205T193000
DTSTAMP:20260425T141625
CREATED:20231030T212021Z
LAST-MODIFIED:20231030T212021Z
UID:10000144-1701799200-1701804600@iamforher.org
SUMMARY:Her Circle: Single Moms
DESCRIPTION:Her Circle: Single Moms focuses on empowering and supporting single mothers as they balance parenthood\, career\, and self-care. Eliana and Sabina will facilitate conversations aimed at discussing challenges and exploring solutions related to being a single mom. In this session\, we’ll discuss mental health challenges and how we can support our own holistic well-being. \n“Just because I am a single mother doesn’t mean I cannot be a success.” – Yvonne Kaloki \nFriends are always welcome. Snacks\, drinks\, and onsite babysitting are provided; feel free to bring your own dinner!
URL:https://iamforher.org/event/her-circle-single-moms-5/
LOCATION:For Her Community Space\, 8546 Broadway\, Suite 255\, San Antonio\, TX\, 78217\, United States
ORGANIZER;CN="For Her":MAILTO:development@iamforher.org
END:VEVENT
BEGIN:VEVENT
DTSTART;TZID=America/Chicago:20231206T190000
DTEND;TZID=America/Chicago:20231206T210000
DTSTAMP:20260425T141625
CREATED:20231030T212150Z
LAST-MODIFIED:20231120T174343Z
UID:10000145-1701889200-1701896400@iamforher.org
SUMMARY:Her Table: Cultivating Joy with Gabrielle Leonard
DESCRIPTION:Her Table is a shared meal that provides an opportunity for women to connect over good food and meaningful conversation. Dinner\, babysitting\, and all materials will be provided. Friends are always welcome! \nWorkshop Topic: Cultivating Joy: Nurturing resilience and well-being through reflective writing \nCome and be part of a nurturing community experience with Gabrielle Leonard on December 6th. This Her Table will feature an evening of guided journaling designed to foster resilience\, hope\, and the capacity to cultivate joy. In a supportive setting\, we’ll explore reflective writing techniques that empower growth and healing. \nFacilitator: Gabrielle Leonard \nWe’re honored to partner with Gabrielle Leonard to bring this restorative workshop to the For Her community. Gabrielle is a dynamic speaker\, facilitator\, certified mental health coach\, and minister. She is known for being a captivating storyteller and teacher who imparts practical wisdom that heals the soul. Gabrielle is the founder and visionary behind Returning to Joy\, a ministry that creates guided pathways to wholeness by providing resources and tools to help you connect with yourself and others. She also works with the H. E. Butt Foundation to design dialogue strategies and facilitate Shared Tables\, a program that brings together neighbors from all over San Antonio to bridge racial\, cultural\, and economic divides. If you invite her to dinner\, she’s showing up! She grew up in New Orleans and has a strong appreciation for good food. She enjoys experimenting in the kitchen\, traveling to new places\, and sharing the joy of a good laugh. When she isn’t writing\, reflecting\, or studying\, she is stuffing her face with food that makes her heart sing. \nDinner: Provided by MetaChurch \nVegetarian options will be available.
URL:https://iamforher.org/event/her-table-3/
LOCATION:For Her Community Space\, 8546 Broadway\, Suite 255\, San Antonio\, TX\, 78217\, United States
ORGANIZER;CN="For Her":MAILTO:taryn@iamforher.org
END:VEVENT
BEGIN:VEVENT
DTSTART;TZID=America/Chicago:20231211T183000
DTEND;TZID=America/Chicago:20231211T200000
DTSTAMP:20260425T141625
CREATED:20230830T183152Z
LAST-MODIFIED:20231030T213629Z
UID:10000125-1702319400-1702324800@iamforher.org
SUMMARY:Her Circle en Español
DESCRIPTION:Her Circle en Español es un grupo pequeno de apoyo para mujeres que hablan espanol en nuestra comunidad. ¡Los círculos se reúnen cada segundo y cuarto lunes del mes para alentar\, crecer\, conocerte\, y divertirte! \nEste otoño nos enfocaremos en conversaciones sobre el amor propio\, la resiliencia\, la identidad\, y cultivar una red de apoyo. No te preocupes si no puedes asistir a todas las reuniones. Las amigas siempre son bienvenidas. Proporcionaremos snacks y bebidas; sientete libre de traer tu propia cena. \n*Toma en cuenta que no se proporciona servicio de niñera para esta reunión. \n—— \nHer Circle: Spanish is a small support group for Spanish-speaking women in our community. Circles meet biweekly for encouragement\, growth\, accountability\, and fun! \nThis fall we’re diving into conversations around self-love\, resilience\, identity\, and building community. We’ll be meeting on the 2nd and 4th Monday of each month. No worries if you can’t make it for every meeting! Friends are always welcome. Snacks and drinks are provided; feel free to bring your own dinner! \n*Please note babysitting is not provided for this gathering.
URL:https://iamforher.org/event/her-circle-en-espanol-5/
LOCATION:For Her Community Space\, 8546 Broadway\, Suite 255\, San Antonio\, TX\, 78217\, United States
ORGANIZER;CN="For Her":MAILTO:development@iamforher.org
END:VEVENT
BEGIN:VEVENT
DTSTART;TZID=America/Chicago:20231213T183000
DTEND;TZID=America/Chicago:20231213T200000
DTSTAMP:20260425T141625
CREATED:20230830T183823Z
LAST-MODIFIED:20230830T183823Z
UID:10000129-1702492200-1702497600@iamforher.org
SUMMARY:Her Circle: Queer Connections
DESCRIPTION:Her Circle: Queer Connections is for queer women and nonbinary folks to share a space in which they can build meaningful connections and community. Join us as we facilitate queer joy through celebrating\, supporting\, and uplifting each other.  \nThis circle will meet on the 2nd and 4th Wednesday of each month. No worries if you can’t make it for every group! Friends are always welcome. Snacks and drinks are provided; feel free to bring your own dinner! \n*Please note babysitting is not provided for this gathering.
URL:https://iamforher.org/event/her-circle-queer-connections-8/
LOCATION:For Her Community Space\, 8546 Broadway\, Suite 255\, San Antonio\, TX\, 78217\, United States
ORGANIZER;CN="For Her":MAILTO:development@iamforher.org
END:VEVENT
BEGIN:VEVENT
DTSTART;VALUE=DATE:20231218
DTEND;VALUE=DATE:20240102
DTSTAMP:20260425T141625
CREATED:20231030T212628Z
LAST-MODIFIED:20231030T212628Z
UID:10000147-1702857600-1704153599@iamforher.org
SUMMARY:For Her Community Space Closed for the Holidays
DESCRIPTION:
URL:https://iamforher.org/event/for-her-community-space-closed-for-the-holidays/
LOCATION:TX
END:VEVENT
BEGIN:VEVENT
DTSTART;TZID=America/Chicago:20231219T180000
DTEND;TZID=America/Chicago:20231219T193000
DTSTAMP:20260425T141625
CREATED:20231030T213433Z
LAST-MODIFIED:20231030T213433Z
UID:10000149-1703008800-1703014200@iamforher.org
SUMMARY:Her Circle: Single Moms Holiday Dinner
DESCRIPTION:Her Circle: Single Moms focuses on empowering and supporting single mothers as they balance parenthood\, career\, and self-care. Eliana and Sabina will facilitate conversations aimed at discussing challenges and exploring solutions related to being a single mom. During this gathering\, group members and their kids are invited to a festive holiday dinner to reflect and celebrate blessings from this year.  \n“Just because I am a single mother doesn’t mean I cannot be a success.” – Yvonne Kaloki \nFriends are always welcome. Dinner\, drinks\, and onsite babysitting are provided; feel free to bring your own dinner!
URL:https://iamforher.org/event/her-circle-single-moms-holiday-dinner/
LOCATION:For Her Community Space\, 8546 Broadway\, Suite 255\, San Antonio\, TX\, 78217\, United States
ORGANIZER;CN="For Her":MAILTO:development@iamforher.org
END:VEVENT
END:VCALENDAR