BEGIN:VCALENDAR
VERSION:2.0
PRODID:-//For Her - ECPv6.15.20//NONSGML v1.0//EN
CALSCALE:GREGORIAN
METHOD:PUBLISH
X-ORIGINAL-URL:https://iamforher.org
X-WR-CALDESC:Events for For Her
REFRESH-INTERVAL;VALUE=DURATION:PT1H
X-Robots-Tag:noindex
X-PUBLISHED-TTL:PT1H
BEGIN:VTIMEZONE
TZID:America/Chicago
BEGIN:DAYLIGHT
TZOFFSETFROM:-0600
TZOFFSETTO:-0500
TZNAME:CDT
DTSTART:20220313T080000
END:DAYLIGHT
BEGIN:STANDARD
TZOFFSETFROM:-0500
TZOFFSETTO:-0600
TZNAME:CST
DTSTART:20221106T070000
END:STANDARD
BEGIN:DAYLIGHT
TZOFFSETFROM:-0600
TZOFFSETTO:-0500
TZNAME:CDT
DTSTART:20230312T080000
END:DAYLIGHT
BEGIN:STANDARD
TZOFFSETFROM:-0500
TZOFFSETTO:-0600
TZNAME:CST
DTSTART:20231105T070000
END:STANDARD
BEGIN:DAYLIGHT
TZOFFSETFROM:-0600
TZOFFSETTO:-0500
TZNAME:CDT
DTSTART:20240310T080000
END:DAYLIGHT
BEGIN:STANDARD
TZOFFSETFROM:-0500
TZOFFSETTO:-0600
TZNAME:CST
DTSTART:20241103T070000
END:STANDARD
BEGIN:DAYLIGHT
TZOFFSETFROM:-0600
TZOFFSETTO:-0500
TZNAME:CDT
DTSTART:20250309T080000
END:DAYLIGHT
BEGIN:STANDARD
TZOFFSETFROM:-0500
TZOFFSETTO:-0600
TZNAME:CST
DTSTART:20251102T070000
END:STANDARD
END:VTIMEZONE
BEGIN:VEVENT
DTSTART;VALUE=DATE:20231218
DTEND;VALUE=DATE:20240102
DTSTAMP:20260425T123533
CREATED:20231030T212628Z
LAST-MODIFIED:20231030T212628Z
UID:10000147-1702857600-1704153599@iamforher.org
SUMMARY:For Her Community Space Closed for the Holidays
DESCRIPTION:
URL:https://iamforher.org/event/for-her-community-space-closed-for-the-holidays/
LOCATION:TX
END:VEVENT
BEGIN:VEVENT
DTSTART;TZID=America/Chicago:20240105T100000
DTEND;TZID=America/Chicago:20240105T120000
DTSTAMP:20260425T123533
CREATED:20240102T211613Z
LAST-MODIFIED:20240110T225632Z
UID:10000151-1704448800-1704456000@iamforher.org
SUMMARY:Monthly Hygiene Closet at For Her
DESCRIPTION:For Her’s Hygiene Closet sponsored by Superior HealthPlan is open to all women in Bexar County on the first Friday of every month. \nStop by the For Her Community Space at 8546 Broadway\, Suite 255 from 10:00 am to 12:00 pm to pick up any items you might need for you and your family \nIn this closet\, you’ll find items like toothpaste and toothbrushes\, shampoo\, conditioner\, body wash\, deodorant\, toilet paper\, paper towels\, laundry detergent\, disinfectant wipes\, feminine hygiene products\, diapers\, and baby wipes. \nWould you like to see something else along these lines provided in the closet? Can’t make it on Friday and need to set up an appointment to pick up necessities? Let us know!
URL:https://iamforher.org/event/monthly-hygiene-closet-at-for-her/
LOCATION:For Her Community Space\, 8546 Broadway\, Suite 255\, San Antonio\, TX\, 78217\, United States
ORGANIZER;CN="For Her":MAILTO:development@iamforher.org
END:VEVENT
BEGIN:VEVENT
DTSTART;TZID=America/Chicago:20240110T183000
DTEND;TZID=America/Chicago:20240110T203000
DTSTAMP:20260425T123533
CREATED:20240102T211749Z
LAST-MODIFIED:20240110T223038Z
UID:10000152-1704911400-1704918600@iamforher.org
SUMMARY:Her Table: Vision Boards with Debbie Jennings
DESCRIPTION:Her Table is a shared meal that provides an opportunity for women to connect over good food and meaningful conversation. Dinner and all materials will be provided. Friends are always welcome! Please note babysitting will not be provided at this event. \nWorkshop Topic: Vision Boards \nKickstart your year with purpose and intention! This Her Table will feature an evening of dreaming together and planning for the new year as we create vision boards. Join us for an empowering and fun-filled session where you’ll have the opportunity to envision your aspirations and set meaningful goals in a supportive community of like-minded women. \nFacilitator: Debbie Jennings \nWe’re honored to partner with Debbie Jennings to bring this workshop to the For Her community. Debbie is a nurse and advocate who is passionate about her community\, health literacy\, and supporting women in the pursuit of living their best lives. \nDinner: Taco Cabana \nVegetarian options will be available.
URL:https://iamforher.org/event/her-table-vision-boards-with-debbie-jennings/
LOCATION:For Her Community Space\, 8546 Broadway\, Suite 255\, San Antonio\, TX\, 78217\, United States
ORGANIZER;CN="For Her":MAILTO:development@iamforher.org
END:VEVENT
BEGIN:VEVENT
DTSTART;TZID=America/Chicago:20240111T180000
DTEND;TZID=America/Chicago:20240111T193000
DTSTAMP:20260425T123533
CREATED:20240102T213427Z
LAST-MODIFIED:20240115T001516Z
UID:10000156-1704996000-1705001400@iamforher.org
SUMMARY:Her Circle en Español
DESCRIPTION:Cada segundo jueves del mes\, Her Circle en Español sera dirigido por un terapeuta. Este grupo de apoyo explorará temas relacionados al autoconocimiento\, relaciones sanas\, trauma\, y como sanar y el bienestar emocional. \nInvitamos a toda aquella mujer a la que le gustaría seguir evolucionando por medio de aprender a como valorarse más\, compartiendo experiencias ya vividas\, y construyendo una red de apoyo. \nSobre la terapeuta: \nMaria Luisa Salinas es una Psicoterapeuta bilingüe y bicultural con 30 años de experiencia profesional\, en la cual incluye su trabajo con mujeres\, sobrevivientes de traumas de la infancia\, violencia familiar\, y violencia doméstica. Su enfoque de asesoramiento es basado en un modelo de empoderamiento. Su meta principal es ayudar a las mujeres a sanar de sus heridas emocionales\, y a enseñarles diferentes maneras de percibir y resolver sus problemas\, actitudes sanas\, y habilidades de comunicación para relacionarse con sus familias\, parejas\, y compañero/as para que puedan tomar buenas decisiones en sus vidas. \nDurante su tiempo libre\, Maria Luisa disfruta de pasar tiempo con sus perritos\, leer\, ir a correr\, practicar yoga\, y viajar con su familia. Ella también disfruta ofreciendo parte de su tiempo como voluntaria en varias organizaciones para apoyar a su comunidad. \n——— \nEvery 2nd Thursday of the month\, Her Circle in Spanish will be therapist-led. This support group will explore topics related to self awareness\, healthy relationships\, trauma and healing\, and emotional well-being. \nWe invite all women who are looking to continue evolving through learning how to love and value themselves more\, sharing experiences\, and building a network of support. \nAbout the Therapist: \nMaria Luisa Salinas is a bilingual and bicultural psychotherapist with 30 years of professional experience. Her work includes helping women\, survivors of childhood trauma\, family violence\, and domestic violence. Her counseling approach is based on an empowerment model. Her main goal is to assist women in healing from emotional wounds and to teach them different ways of understanding and resolving their problems. This includes fostering healthy attitudes and communication skills to better relate to their families\, partners\, and peers\, empowering them to make positive decisions in their lives. \nDuring her free time\, Maria Luisa enjoys spending time with her dogs\, reading\, running\, practicing yoga\, and traveling with her family. She also enjoys volunteering her time with various organizations to support her community.
URL:https://iamforher.org/event/her-circle-en-espanol-4/
LOCATION:For Her Community Space\, 8546 Broadway\, Suite 255\, San Antonio\, TX\, 78217\, United States
ORGANIZER;CN="For Her":MAILTO:development@iamforher.org
END:VEVENT
BEGIN:VEVENT
DTSTART;VALUE=DATE:20240115
DTEND;VALUE=DATE:20240116
DTSTAMP:20260425T123533
CREATED:20240102T215238Z
LAST-MODIFIED:20240102T215238Z
UID:10000159-1705276800-1705363199@iamforher.org
SUMMARY:For Her Community Space Closed for MLK Holiday
DESCRIPTION:
URL:https://iamforher.org/event/for-her-community-space-closed-for-mlk-holiday/
LOCATION:TX
END:VEVENT
BEGIN:VEVENT
DTSTART;TZID=America/Chicago:20240115T180000
DTEND;TZID=America/Chicago:20240115T193000
DTSTAMP:20260425T123533
CREATED:20240110T222941Z
LAST-MODIFIED:20240115T001727Z
UID:10000162-1705341600-1705347000@iamforher.org
SUMMARY:(VIRTUAL MEETING) Her Circle: Single Moms
DESCRIPTION:NOTE: Due to the forecasted winter weather\, this group will be meeting virtually on January 15th. Please text us at 210-880-0616 for the meeting link. \nHer Circle: Single Moms focuses on empowering and supporting single mothers as they balance parenthood\, career\, and self-care. During this group\, For Her community leader Eliana Sanchez facilitates conversations aimed at discussing challenges and exploring solutions related to being a single mom.  \nIn our first group meeting of 2024\, the conversation will center on improving ourselves in the new year and tips on how to get there while juggling single parent life. \n“Just because I am a single mother doesn’t mean I cannot be a success.” – Yvonne Kaloki \nFriends are always welcome. Snacks\, drinks\, and onsite babysitting are provided; feel free to bring your own dinner!
URL:https://iamforher.org/event/her-circle-single-moms-6/
LOCATION:For Her Community Space\, 8546 Broadway\, Suite 255\, San Antonio\, TX\, 78217\, United States
ORGANIZER;CN="For Her":MAILTO:development@iamforher.org
END:VEVENT
BEGIN:VEVENT
DTSTART;TZID=America/Chicago:20240117T183000
DTEND;TZID=America/Chicago:20240117T203000
DTSTAMP:20260425T123533
CREATED:20240102T211858Z
LAST-MODIFIED:20240110T231513Z
UID:10000153-1705516200-1705523400@iamforher.org
SUMMARY:Her Table: Goal-Setting & Mindset with Tracy Ross Garcia
DESCRIPTION:Her Table is a shared meal that provides an opportunity for women to connect over good food and meaningful conversation. Dinner\, babysitting\, and all materials will be provided. Friends are always welcome! \nWorkshop Topic: Goal-Setting and Mindset \nKickstart your year with purpose and intention! This Her Table will feature a guided conversation on the goal-setting process and mindset’s role in achieving your dreams. Our hope is that you walk away from this workshop with clarity\, energy\, and actionable best steps in the direction of your SMART goals. \nFacilitator: Tracy Ross Garcia \nWe’re honored to partner with Tracy Ross Garcia to bring this workshop to the For Her community. Tracy is a personal growth coach with a passion for helping women evolve and expand their views and redefine the meaning of success in their lives. \nAs a master communicator\, she combines her ability to connect\, listen\, and articulate key next steps with her own personal journey of transition\, growth\, and healing to help women find their voice again\, gain a fulfilled sense of identity\, and courage to communicate authentically. \nTracy provides a safe space to dig deep and identify obstacles holding you back from leveling up. She believes if you are willing to improve your choices and grow\, you will align with who you are created to be and live a fulfilled\, harmonious life.  \nDinner Provided \nVegetarian options will be available.
URL:https://iamforher.org/event/her-table-goal-setting-with-tracy-ross-garcia/
LOCATION:For Her Community Space\, 8546 Broadway\, Suite 255\, San Antonio\, TX\, 78217\, United States
ORGANIZER;CN="For Her":MAILTO:development@iamforher.org
END:VEVENT
BEGIN:VEVENT
DTSTART;TZID=America/Chicago:20240120T100000
DTEND;TZID=America/Chicago:20240120T120000
DTSTAMP:20260425T123533
CREATED:20240102T212010Z
LAST-MODIFIED:20240115T002057Z
UID:10000154-1705744800-1705752000@iamforher.org
SUMMARY:Self-Care Saturday: Yoga & Brunch
DESCRIPTION:Join For Her for Self-Care Saturday to prioritize your mental and physical well-being and give yourself the care and attention you deserve! We’ll start our day with a warm-up stretch followed by an energizing 45-minute yoga session. After the class\, For Her will provide a delicious and nourishing brunch. \nWear comfy clothes and bring your water bottle and yoga mat if you’ve got one. Friends are welcome! \nPlease note babysitting will not be provided at this event. \nPresented by Mallory Dougoud and Morph.TheLabel \nMorph.TheLabel\, a woman-owned athleisure brand\, was created in 2021 to celebrate every woman’s differences\, individuality\, and creativity in order to bring unity. Women are not the enemy of other women. It is our differences that make us each unique and it is in those differences that MORPH us all as one. \n*Please note babysitting is not provided for this gathering.
URL:https://iamforher.org/event/self-care-saturday-yoga-brunch/
LOCATION:For Her Community Space\, 8546 Broadway\, Suite 255\, San Antonio\, TX\, 78217\, United States
ORGANIZER;CN="For Her":MAILTO:development@iamforher.org
END:VEVENT
BEGIN:VEVENT
DTSTART;TZID=America/Chicago:20240124T183000
DTEND;TZID=America/Chicago:20240124T200000
DTSTAMP:20260425T123533
CREATED:20240102T213628Z
LAST-MODIFIED:20240110T231751Z
UID:10000158-1706121000-1706126400@iamforher.org
SUMMARY:Her Circle: Queer Connections
DESCRIPTION:Her Circle: Queer Connections is for queer women and nonbinary folks to share a space in which they can build meaningful connections and community. Join us as we facilitate queer joy through celebrating\, supporting\, and uplifting each other.  \nThis circle will meet on the 2nd and 4th Wednesday of each month. No worries if you can’t make it for every group! Friends are always welcome. Snacks and drinks are provided; feel free to bring your own dinner! \n*Please note babysitting is not provided for this gathering.
URL:https://iamforher.org/event/her-circle-queer-connections-9/
LOCATION:For Her Community Space\, 8546 Broadway\, Suite 255\, San Antonio\, TX\, 78217\, United States
ORGANIZER;CN="For Her":MAILTO:development@iamforher.org
END:VEVENT
BEGIN:VEVENT
DTSTART;TZID=America/Chicago:20240125T180000
DTEND;TZID=America/Chicago:20240125T200000
DTSTAMP:20260425T123533
CREATED:20240102T212311Z
LAST-MODIFIED:20240115T002118Z
UID:10000155-1706205600-1706212800@iamforher.org
SUMMARY:DreamWeek: Embracing Radical Self-Compassion Live Podcast Recording
DESCRIPTION:Join women and allies from across San Antonio to be inspired and uplifted as For Her brings you Embracing Radical Self-Compassion\, a live podcast event that celebrates the strength\, resilience\, and boundless potential of women. \nOur remarkable lineup of diverse women will share their journeys of embracing radical self-compassion during this live podcast recording. Our hosts will dig deep into authentic conversations and personal stories\, shedding light on the journey to self-compassion and its role in mental health and holistic well-being. Attendees will also have the chance to engage with our speakers during a live Q&A session. This is your opportunity to ask burning questions\, seek advice\, and connect with like-minded individuals on the path to self-compassion. \nHosted by For Her and Clifford Mack of Peeling Off the Layers\, guest hosts include Gabrielle Leonard of Returning to Joy and Jeri-Ashley Bremer of The Mindful Mama. \nDrinks and small bites will be served. Please note babysitting is not provided for this gathering.
URL:https://iamforher.org/event/dreamweek-embracing-radical-self-compassion-live-podcast-recording/
LOCATION:For Her Community Space\, 8546 Broadway\, Suite 255\, San Antonio\, TX\, 78217\, United States
ORGANIZER;CN="For Her":MAILTO:development@iamforher.org
END:VEVENT
END:VCALENDAR