BEGIN:VCALENDAR
VERSION:2.0
PRODID:-//For Her - ECPv6.15.20//NONSGML v1.0//EN
CALSCALE:GREGORIAN
METHOD:PUBLISH
X-ORIGINAL-URL:https://iamforher.org
X-WR-CALDESC:Events for For Her
REFRESH-INTERVAL;VALUE=DURATION:PT1H
X-Robots-Tag:noindex
X-PUBLISHED-TTL:PT1H
BEGIN:VTIMEZONE
TZID:America/Chicago
BEGIN:DAYLIGHT
TZOFFSETFROM:-0600
TZOFFSETTO:-0500
TZNAME:CDT
DTSTART:20230312T080000
END:DAYLIGHT
BEGIN:STANDARD
TZOFFSETFROM:-0500
TZOFFSETTO:-0600
TZNAME:CST
DTSTART:20231105T070000
END:STANDARD
BEGIN:DAYLIGHT
TZOFFSETFROM:-0600
TZOFFSETTO:-0500
TZNAME:CDT
DTSTART:20240310T080000
END:DAYLIGHT
BEGIN:STANDARD
TZOFFSETFROM:-0500
TZOFFSETTO:-0600
TZNAME:CST
DTSTART:20241103T070000
END:STANDARD
BEGIN:DAYLIGHT
TZOFFSETFROM:-0600
TZOFFSETTO:-0500
TZNAME:CDT
DTSTART:20250309T080000
END:DAYLIGHT
BEGIN:STANDARD
TZOFFSETFROM:-0500
TZOFFSETTO:-0600
TZNAME:CST
DTSTART:20251102T070000
END:STANDARD
END:VTIMEZONE
BEGIN:VEVENT
DTSTART;TZID=America/Chicago:20240702T180000
DTEND;TZID=America/Chicago:20240702T193000
DTSTAMP:20260424T214240
CREATED:20240521T165222Z
LAST-MODIFIED:20240521T165222Z
UID:10000233-1719943200-1719948600@iamforher.org
SUMMARY:Her Healing
DESCRIPTION:Her Healing offers group counseling for adult survivors of family violence and abuse. In this space\, group members work with one another to process emotions\, share lived experiences\, and learn therapeutic tools for healing moving forward. Led by Tanisha Ellis\, For Her’s licensed counselor\, topics will range from safety planning and healthy relational communication to co-parenting tools and more. \nSessions will be held at the For Her community center every Tuesday. Friends are always welcome. Snacks\, drinks\, and onsite babysitting are provided; feel free to bring your own dinner!
URL:https://iamforher.org/event/her-healing-32/
LOCATION:For Her Community Space\, 8546 Broadway\, Suite 255\, San Antonio\, TX\, 78217\, United States
ORGANIZER;CN="For Her":MAILTO:development@iamforher.org
END:VEVENT
BEGIN:VEVENT
DTSTART;TZID=America/Chicago:20240703T120000
DTEND;TZID=America/Chicago:20240703T133000
DTSTAMP:20260424T214240
CREATED:20240624T175527Z
LAST-MODIFIED:20240625T133237Z
UID:10000254-1720008000-1720013400@iamforher.org
SUMMARY:Lunch & Learn - Reintegrating into the workforce for care givers: Resume Building
DESCRIPTION:Join us for a virtual Lunch and Learn session designed to support women and non-binary individuals in various aspects of their lives. This interactive class will offer valuable insights\, practical advice\, and a supportive community to help you navigate personal and professional challenges. Grab your lunch\, log in\, and let’s grow together! \n\nCLICK HERE TO REGISTER
URL:https://iamforher.org/event/lunch-learn-reintegrating-into-the-workforce-for-care-givers-resume-building/
LOCATION:TX
END:VEVENT
BEGIN:VEVENT
DTSTART;TZID=America/Chicago:20240703T183000
DTEND;TZID=America/Chicago:20240703T203000
DTSTAMP:20260424T214240
CREATED:20240521T170258Z
LAST-MODIFIED:20240612T214455Z
UID:10000238-1720031400-1720038600@iamforher.org
SUMMARY:Her Table: Beauty Within the Cracks with Jae Ricks
DESCRIPTION:Her Table is a shared meal that provides an opportunity for women to connect over good food and meaningful conversation. Dinner and all materials will be provided. Friends are always welcome! \nWorkshop Topic: Beauty Within the Cracks \nJoin For Her for this workshop celebrating the beauty of imperfection and the concept of finding beauty in brokenness. During this workshop participants will engage in activities mirroring the Japanese art of Kintsugi\, including acknowledging past hurts\, creating a collage\, and brainstorming ways to transform challenges into strengths. Attendees will have the chance to create art and join a journaling activity inspired by Kintsugi\, reflecting on their healing journey. This session will foster a supportive environment for participants to share insights and personal experience\, focusing on healing\, strength\, and purpose. \nFacilitator: Jae Ricks \nWe’re honored to have Jennipha “Jae” Ricks facilitate this Her Table! Jae is an educational leader and innovator\, currently serving as the Founding Deputy Superintendent and Founding Chief Learning Officer at Essence Prep Public School. She is also the Founder & CEO of Jae Elle Consulting\, LLC\, which focuses on the education\, leadership\, and empowerment of women\, and Elluvation\, which focuses on educational consulting and strategic planning. Jae previously served on the Mayor’s Commission on the Status of Women and sits on the board of the African American Chamber of Commerce. She is also an author\, dedicated mother\, daughter\, and friend. \nDinner Provided \nVegetarian options will be available.
URL:https://iamforher.org/event/her-table-with-jae-ricks-2/
LOCATION:For Her Community Space\, 8546 Broadway\, Suite 255\, San Antonio\, TX\, 78217\, United States
ORGANIZER;CN="For Her":MAILTO:development@iamforher.org
END:VEVENT
BEGIN:VEVENT
DTSTART;VALUE=DATE:20240704
DTEND;VALUE=DATE:20240705
DTSTAMP:20260424T214240
CREATED:20240326T171015Z
LAST-MODIFIED:20240326T171015Z
UID:10000221-1720051200-1720137599@iamforher.org
SUMMARY:For Her Closed for July 4th Holiday
DESCRIPTION:
URL:https://iamforher.org/event/for-her-closed-for-july-4th-holiday/
LOCATION:TX
END:VEVENT
BEGIN:VEVENT
DTSTART;TZID=America/Chicago:20240705T100000
DTEND;TZID=America/Chicago:20240705T120000
DTSTAMP:20260424T214240
CREATED:20240521T170616Z
LAST-MODIFIED:20240521T170616Z
UID:10000239-1720173600-1720180800@iamforher.org
SUMMARY:Monthly Hygiene Closet at For Her
DESCRIPTION:For Her’s Hygiene Closet sponsored by Superior HealthPlan is open to all women in Bexar County on the first Friday of every month. \nStop by the For Her Community Space at 8546 Broadway\, Suite 255 from 10:00 am to 12:00 pm to pick up any items you might need for you and your family \nIn this closet\, you’ll find items like toothpaste and toothbrushes\, shampoo\, conditioner\, body wash\, deodorant\, toilet paper\, paper towels\, laundry detergent\, disinfectant wipes\, feminine hygiene products\, diapers\, and baby wipes. \nWould you like to see something else along these lines provided in the closet? Can’t make it on Friday and need to set up an appointment to pick up necessities? Let us know!
URL:https://iamforher.org/event/monthly-hygiene-closet-at-for-her-7/
LOCATION:For Her Community Space\, 8546 Broadway\, Suite 255\, San Antonio\, TX\, 78217\, United States
ORGANIZER;CN="For Her":MAILTO:development@iamforher.org
END:VEVENT
BEGIN:VEVENT
DTSTART;TZID=America/Chicago:20240709T180000
DTEND;TZID=America/Chicago:20240709T193000
DTSTAMP:20260424T214240
CREATED:20240521T165343Z
LAST-MODIFIED:20240521T165343Z
UID:10000234-1720548000-1720553400@iamforher.org
SUMMARY:Her Healing
DESCRIPTION:Her Healing offers group counseling for adult survivors of family violence and abuse. In this space\, group members work with one another to process emotions\, share lived experiences\, and learn therapeutic tools for healing moving forward. Led by Tanisha Ellis\, For Her’s licensed counselor\, topics will range from safety planning and healthy relational communication to co-parenting tools and more. \nSessions will be held at the For Her community center every Tuesday. Friends are always welcome. Snacks\, drinks\, and onsite babysitting are provided; feel free to bring your own dinner!
URL:https://iamforher.org/event/her-healing-33/
LOCATION:For Her Community Space\, 8546 Broadway\, Suite 255\, San Antonio\, TX\, 78217\, United States
ORGANIZER;CN="For Her":MAILTO:development@iamforher.org
END:VEVENT
BEGIN:VEVENT
DTSTART;TZID=America/Chicago:20240710T120000
DTEND;TZID=America/Chicago:20240710T133000
DTSTAMP:20260424T214240
CREATED:20240624T181638Z
LAST-MODIFIED:20240625T133344Z
UID:10000255-1720612800-1720618200@iamforher.org
SUMMARY:Lunch & learn - Stress & Somatics: Learning to self-soothe
DESCRIPTION:Join us for a virtual Lunch and Learn session designed to support women and non-binary individuals in various aspects of their lives. This interactive class will offer valuable insights\, practical advice\, and a supportive community to help you navigate personal and professional challenges. Grab your lunch\, log in\, and let’s grow together! \n\nCLICK HERE TO REGISTER 
URL:https://iamforher.org/event/lunch-learn-stress-somatics-learning-to-self-soothe/
LOCATION:TX
END:VEVENT
BEGIN:VEVENT
DTSTART;TZID=America/Chicago:20240711T183000
DTEND;TZID=America/Chicago:20240711T200000
DTSTAMP:20260424T214240
CREATED:20240605T212746Z
LAST-MODIFIED:20240605T212746Z
UID:10000247-1720722600-1720728000@iamforher.org
SUMMARY:Her Circle: Wellness
DESCRIPTION:In Her Circle: Wellness participants will have an opportunity to discuss topics such as depression\, anxiety\, anger\, grief\, stress\, and other themes related to mental health. This small group aims to cultivate an awareness of the fundamental reasons behind our struggles and emotional turmoil. Through sharing lived experiences with others and engaging in various activities participants will reduce symptoms\, learn coping skills\, and help one another experience positive transformation. \nHer Circle: Wellness is led by counselor Susana Santillan\, LPC-S. Susana holds a BA in Psychology and an MA in Community Counseling. With a passion for supporting survivors of trauma and abuse\, Susana has extensive experience facilitating groups and counseling individuals in both English and Spanish. \nSessions will be held at the For Her community center every Thursday\, June 13th through July 25th (with a break on the 4th of July holiday). Friends are always welcome. Snacks and drinks are provided; feel free to bring your own dinner! \n*Please note babysitting is not provided for this gathering.
URL:https://iamforher.org/event/her-circle-wellness-4/
LOCATION:For Her Community Space\, 8546 Broadway\, Suite 255\, San Antonio\, TX\, 78217\, United States
ORGANIZER;CN="For Her":MAILTO:development@iamforher.org
END:VEVENT
BEGIN:VEVENT
DTSTART;TZID=America/Chicago:20240716T180000
DTEND;TZID=America/Chicago:20240716T193000
DTSTAMP:20260424T214240
CREATED:20240521T165526Z
LAST-MODIFIED:20240605T213322Z
UID:10000235-1721152800-1721158200@iamforher.org
SUMMARY:Her Healing
DESCRIPTION:Her Healing offers group counseling for adult survivors of family violence and abuse. In this space\, group members work with one another to process emotions\, share lived experiences\, and learn therapeutic tools for healing moving forward. Led by Tanisha Ellis\, For Her’s licensed counselor\, topics will range from safety planning and healthy relational communication to co-parenting tools and more. \nSessions will be held at the For Her community center every Tuesday. Friends are always welcome. Snacks\, drinks\, and onsite babysitting are provided; feel free to bring your own dinner!
URL:https://iamforher.org/event/her-healing-34/
LOCATION:For Her Community Space\, 8546 Broadway\, Suite 255\, San Antonio\, TX\, 78217\, United States
ORGANIZER;CN="For Her":MAILTO:development@iamforher.org
END:VEVENT
BEGIN:VEVENT
DTSTART;TZID=America/Chicago:20240717T120000
DTEND;TZID=America/Chicago:20240717T133000
DTSTAMP:20260424T214240
CREATED:20240624T181837Z
LAST-MODIFIED:20240625T133353Z
UID:10000256-1721217600-1721223000@iamforher.org
SUMMARY:Lunch & Learn - Healthy Relationships & Setting Boundaries
DESCRIPTION:Join us for a virtual Lunch and Learn session designed to support women and non-binary individuals in various aspects of their lives. This interactive class will offer valuable insights\, practical advice\, and a supportive community to help you navigate personal and professional challenges. Grab your lunch\, log in\, and let’s grow together! \n\nCLICK HERE TO REGISTER 
URL:https://iamforher.org/event/lunch-learn-healthy-relationships-setting-boundaries/
LOCATION:TX
END:VEVENT
BEGIN:VEVENT
DTSTART;TZID=America/Chicago:20240717T183000
DTEND;TZID=America/Chicago:20240717T203000
DTSTAMP:20260424T214240
CREATED:20240521T171038Z
LAST-MODIFIED:20240709T181659Z
UID:10000240-1721241000-1721248200@iamforher.org
SUMMARY:Her Table: Investing Basics with Capital Group
DESCRIPTION:Her Table is a shared meal that provides an opportunity for women to connect over good food and meaningful conversation. Dinner and all materials will be provided. Friends are always welcome! \nWorkshop Topic: Investing Basics \nJoin For Her and Capital Group for a workshop on the fundamentals of investing\, explaining key terms and principles that are essential for understanding how investments work. From types of investments and strategies to risk and return\, we’ll talk about financial goals and explore how different investment options can help achieve those goals. Whether you’re brand new to investing or have already dabbled in the financial markets\, you’ll leave equipped with the knowledge to start making informed investment decisions. \nFacilitator: Capital Group \nWe’re honored to have Charline Webb\, Olivia Perez\, and Sally Holte from Capital Group join us to facilitate this Her Table! With nearly 50 years of finance experience between them\, our facilitators are eager to share their knowledge and expertise with the For Her community\, demystifying investment for the rest of us. \nCharline Webb is a lead Risk Management and Control Analyst at\nAmerican Funds. For the past 18 years at American Funds\, she has\nserved in multiple roles including Sales Representative\, Sr. Payment\nAdministrator and Compliance Specialist. Charline grew up in New\nHampshire where she graduated St. Anselm College with a bachelor’s\ndegree. Prior to working in the financial industry\, Charline spent 8 years\nin hotel management and later shifted careers and spent 9 years as a\nlitigation paralegal. Throughout Charline’s career\, she has taken\nleadership roles volunteering in the community. She is the leader of the\nWomen’s Community at Capital Group in San Antonio. She has served\nas the Governance Chair on the board for local non-profit Room Redux.\nShe is currently serving on the programming committee of For Her. \nOlivia Perez is currently a Learning Experience Designer at American\nFunds. For the past 10 years at American Funds\, she has served in\nmultiple roles including Client Services Representative\, Advisor\nMarketing\, and National Accounts Administrative Assistant. Olivia\nattained her bachelor’s degree in finance from Texas A&amp;M San Antonio.Throughout Olivia’s career journey she has taken active roles\nvolunteering in DE&amp;I communities. She was Outreach Pillar lead and\nSIFMA Lead for CG Unidos and communication coordinator of the NACG\nWomen’s Community in San Antonio. Olivia is based in San Antonio\,\nTX. \nSally Holte is a Divisional Retirement Plan Counselor with Capital\nGroup covering Texas\, Kansas and Louisiana. She has 18 years of\nfinancial industry experience and has been with Capital for 16 years. She\nstarted her career with Shareholder Services and the Advisor Marketing\nteam. She’s held several roles with our Sales Distribution team as a\nDefined Contribution Retirement Consultant\, Internal Wealth Specialist\ncovering South Florida and Orlando and later worked as a Retirement\nPlan Sales Consultant covering Minnesota\, Nebraska\, and San\nFrancisco. Most recently Sally worked closely with our Sales Force\nDevelopment team as a Sales Coach and with the Southeast Division as\na Site Sales Division Manager. Before joining Capital Group\, Sally was a\nFinancial Coach at Citigroup. She’s based in San Antonio\, TX. \n  \nDinner Provided by Capital Group \nDinner will be catered by Panera Bread\, and vegetarian options will be available.
URL:https://iamforher.org/event/her-table-13/
LOCATION:For Her Community Space\, 8546 Broadway\, Suite 255\, San Antonio\, TX\, 78217\, United States
ORGANIZER;CN="For Her":MAILTO:development@iamforher.org
END:VEVENT
BEGIN:VEVENT
DTSTART;TZID=America/Chicago:20240718T183000
DTEND;TZID=America/Chicago:20240718T200000
DTSTAMP:20260424T214240
CREATED:20240605T212932Z
LAST-MODIFIED:20240605T212932Z
UID:10000248-1721327400-1721332800@iamforher.org
SUMMARY:Her Circle: Wellness
DESCRIPTION:In Her Circle: Wellness participants will have an opportunity to discuss topics such as depression\, anxiety\, anger\, grief\, stress\, and other themes related to mental health. This small group aims to cultivate an awareness of the fundamental reasons behind our struggles and emotional turmoil. Through sharing lived experiences with others and engaging in various activities participants will reduce symptoms\, learn coping skills\, and help one another experience positive transformation. \nHer Circle: Wellness is led by counselor Susana Santillan\, LPC-S. Susana holds a BA in Psychology and an MA in Community Counseling. With a passion for supporting survivors of trauma and abuse\, Susana has extensive experience facilitating groups and counseling individuals in both English and Spanish. \nSessions will be held at the For Her community center every Thursday\, June 13th through July 25th (with a break on the 4th of July holiday). Friends are always welcome. Snacks and drinks are provided; feel free to bring your own dinner! \n*Please note babysitting is not provided for this gathering.
URL:https://iamforher.org/event/her-circle-wellness-5/
LOCATION:For Her Community Space\, 8546 Broadway\, Suite 255\, San Antonio\, TX\, 78217\, United States
ORGANIZER;CN="For Her":MAILTO:development@iamforher.org
END:VEVENT
BEGIN:VEVENT
DTSTART;TZID=America/Chicago:20240723T180000
DTEND;TZID=America/Chicago:20240723T193000
DTSTAMP:20260424T214240
CREATED:20240521T165658Z
LAST-MODIFIED:20240717T170351Z
UID:10000236-1721757600-1721763000@iamforher.org
SUMMARY:Her Healing
DESCRIPTION:Her Healing offers group counseling for adult survivors of family violence and abuse. In this space\, group members work with one another to process emotions\, share lived experiences\, and learn therapeutic tools for healing moving forward. Led by Tanisha Ellis\, For Her’s licensed counselor\, topics will range from safety planning and healthy relational communication to co-parenting tools and more. \nSessions will be held at the For Her community center every Tuesday. Friends are always welcome. Snacks\, drinks\, and onsite babysitting are provided; feel free to bring your own dinner!
URL:https://iamforher.org/event/her-healing-35/
LOCATION:For Her Community Space\, 8546 Broadway\, Suite 255\, San Antonio\, TX\, 78217\, United States
ORGANIZER;CN="For Her":MAILTO:development@iamforher.org
END:VEVENT
BEGIN:VEVENT
DTSTART;TZID=America/Chicago:20240725T183000
DTEND;TZID=America/Chicago:20240725T200000
DTSTAMP:20260424T214240
CREATED:20240605T213029Z
LAST-MODIFIED:20240605T213029Z
UID:10000249-1721932200-1721937600@iamforher.org
SUMMARY:Her Circle: Wellness
DESCRIPTION:In Her Circle: Wellness participants will have an opportunity to discuss topics such as depression\, anxiety\, anger\, grief\, stress\, and other themes related to mental health. This small group aims to cultivate an awareness of the fundamental reasons behind our struggles and emotional turmoil. Through sharing lived experiences with others and engaging in various activities participants will reduce symptoms\, learn coping skills\, and help one another experience positive transformation. \nHer Circle: Wellness is led by counselor Susana Santillan\, LPC-S. Susana holds a BA in Psychology and an MA in Community Counseling. With a passion for supporting survivors of trauma and abuse\, Susana has extensive experience facilitating groups and counseling individuals in both English and Spanish. \nSessions will be held at the For Her community center every Thursday\, June 13th through July 25th (with a break on the 4th of July holiday). Friends are always welcome. Snacks and drinks are provided; feel free to bring your own dinner! \n*Please note babysitting is not provided for this gathering.
URL:https://iamforher.org/event/her-circle-wellness-6/
LOCATION:For Her Community Space\, 8546 Broadway\, Suite 255\, San Antonio\, TX\, 78217\, United States
ORGANIZER;CN="For Her":MAILTO:development@iamforher.org
END:VEVENT
BEGIN:VEVENT
DTSTART;TZID=America/Chicago:20240727T100000
DTEND;TZID=America/Chicago:20240727T120000
DTSTAMP:20260424T214240
CREATED:20240521T172054Z
LAST-MODIFIED:20240715T144257Z
UID:10000241-1722074400-1722081600@iamforher.org
SUMMARY:Self-Care Saturday: Paint & Connect Art Workshop with Ilysha Wyatt
DESCRIPTION:Join For Her for a special Self-Care Saturday focused on creativity and community building. Come out with a friend and enjoy painting this beautiful image “Behind The Scenes.” Have fun painting and meeting new women here in San Antonio with this beginner-friendly class\, where you’ll receive a pre-drawn canvas already prepped for you.  \n \nFacilitator: Ilysha Wyatt \nIlysha Wyatt is a 22-year-old artist from Lancaster\, Pennsylvania. She found art in high school and has been in love ever since. Ilysha uses her art to connect and help others heal in the community through art therapy and painting images that evoke emotions. Ilysha’s passion is to take art further than just putting paint on a canvas.  \nPlease note babysitting will not be provided at this event.
URL:https://iamforher.org/event/self-care-saturday-art-workshop-with-ilysha-wyatt/
LOCATION:For Her Community Space\, 8546 Broadway\, Suite 255\, San Antonio\, TX\, 78217\, United States
ORGANIZER;CN="For Her":MAILTO:development@iamforher.org
END:VEVENT
BEGIN:VEVENT
DTSTART;TZID=America/Chicago:20240730T180000
DTEND;TZID=America/Chicago:20240730T193000
DTSTAMP:20260424T214240
CREATED:20240521T165855Z
LAST-MODIFIED:20240717T170334Z
UID:10000237-1722362400-1722367800@iamforher.org
SUMMARY:CANCELLED- Her Healing
DESCRIPTION:**This meeting has been Cancelled** \nHer Healing offers group counseling for adult survivors of family violence and abuse. In this space\, group members work with one another to process emotions\, share lived experiences\, and learn therapeutic tools for healing moving forward. Led by Tanisha Ellis\, For Her’s licensed counselor\, topics will range from safety planning and healthy relational communication to co-parenting tools and more. \nSessions will be held at the For Her community center every Tuesday. Friends are always welcome. Snacks\, drinks\, and onsite babysitting are provided; feel free to bring your own dinner!
URL:https://iamforher.org/event/her-healing-36/
LOCATION:For Her Community Space\, 8546 Broadway\, Suite 255\, San Antonio\, TX\, 78217\, United States
ORGANIZER;CN="For Her":MAILTO:development@iamforher.org
END:VEVENT
END:VCALENDAR