BEGIN:VCALENDAR
VERSION:2.0
PRODID:-//For Her - ECPv6.15.20//NONSGML v1.0//EN
CALSCALE:GREGORIAN
METHOD:PUBLISH
X-WR-CALNAME:For Her
X-ORIGINAL-URL:https://iamforher.org
X-WR-CALDESC:Events for For Her
REFRESH-INTERVAL;VALUE=DURATION:PT1H
X-Robots-Tag:noindex
X-PUBLISHED-TTL:PT1H
BEGIN:VTIMEZONE
TZID:America/Chicago
BEGIN:DAYLIGHT
TZOFFSETFROM:-0600
TZOFFSETTO:-0500
TZNAME:CDT
DTSTART:20230312T080000
END:DAYLIGHT
BEGIN:STANDARD
TZOFFSETFROM:-0500
TZOFFSETTO:-0600
TZNAME:CST
DTSTART:20231105T070000
END:STANDARD
BEGIN:DAYLIGHT
TZOFFSETFROM:-0600
TZOFFSETTO:-0500
TZNAME:CDT
DTSTART:20240310T080000
END:DAYLIGHT
BEGIN:STANDARD
TZOFFSETFROM:-0500
TZOFFSETTO:-0600
TZNAME:CST
DTSTART:20241103T070000
END:STANDARD
BEGIN:DAYLIGHT
TZOFFSETFROM:-0600
TZOFFSETTO:-0500
TZNAME:CDT
DTSTART:20250309T080000
END:DAYLIGHT
BEGIN:STANDARD
TZOFFSETFROM:-0500
TZOFFSETTO:-0600
TZNAME:CST
DTSTART:20251102T070000
END:STANDARD
END:VTIMEZONE
BEGIN:VEVENT
DTSTART;TZID=America/Chicago:20241104T183000
DTEND;TZID=America/Chicago:20241104T200000
DTSTAMP:20260424T141414
CREATED:20241001T191637Z
LAST-MODIFIED:20241001T191637Z
UID:10000287-1730745000-1730750400@iamforher.org
SUMMARY:Her Circle: Wellness
DESCRIPTION:Peer support groups\, also called Her Circles\, are led by trained volunteers and/or therapists and consist of 6-12 women coming together to share knowledge and foster deep relationships. Our Her Circles invite women in all stages of life and from diverse backgrounds to find a peer support group that aligns with their journey. \nHer Circle: Wellness \nIn this small group participants will have an opportunity to discuss topics such as depression\, anxiety\, anger\, grief\, stress\, and other topics related to mental health. \nHer Circle: Wellness aims to cultivate an awareness of the fundamental reasons behind our struggles and emotional turmoil. Through sharing lived experiences with others and engaging in various activities participants will reduce symptoms\, learn coping skills\, and help one another experience positive transformation. \nFacilitator: Susan Santillan LPC-S \nSusana holds a BA in Psychology and an MA in Community Counseling. With a passion for helping survivors of trauma and abuse\, Susana has extensive experience facilitating groups and counseling individuals in both English and Spanish.
URL:https://iamforher.org/event/her-circle-wellness-9/
LOCATION:For Her Community Space\, 8546 Broadway\, Suite 255\, San Antonio\, TX\, 78217\, United States
ORGANIZER;CN="For Her":MAILTO:development@iamforher.org
END:VEVENT
BEGIN:VEVENT
DTSTART;TZID=America/Chicago:20241105T180000
DTEND;TZID=America/Chicago:20241105T190000
DTSTAMP:20260424T141414
CREATED:20241021T212316Z
LAST-MODIFIED:20241021T212358Z
UID:10000294-1730829600-1730833200@iamforher.org
SUMMARY:Her Healing
DESCRIPTION:Her Healing offers group counseling for adult survivors of family violence and abuse. In this space\, group members work with one another to process emotions\, share lived experiences\, and learn therapeutic tools for healing moving forward. \nLed by For Her’s licensed counselor\, topics will range from safety planning and healthy relational communication to co-parenting tools and more. \n*Childcare provided
URL:https://iamforher.org/event/her-healing-43/
LOCATION:For Her Community Space\, 8546 Broadway\, Suite 255\, San Antonio\, TX\, 78217\, United States
CATEGORIES:Support Group
ORGANIZER;CN="For Her":MAILTO:development@iamforher.org
END:VEVENT
BEGIN:VEVENT
DTSTART;TZID=America/Chicago:20241106T183000
DTEND;TZID=America/Chicago:20241106T203000
DTSTAMP:20260424T141414
CREATED:20241017T173405Z
LAST-MODIFIED:20241021T211419Z
UID:10000293-1730917800-1730925000@iamforher.org
SUMMARY:Her Table: Women's Health
DESCRIPTION:Her Table is a shared meal that provides an opportunity for women to connect over good food and meaningful conversation. \, \nWorkshop Topic: Women’s Health & Wellness \nJoin us for Her Table on November 6\, as we dive into the keys to fostering and sustaining our health and well-being. From mental health and preventative care to how to advocate for yourself at the doctor’s office\, we’ll talk all things women’s health. Plus\, we’re offering lots of free health screenings and menstrual products! \n*Dinner and babysitting provided
URL:https://iamforher.org/event/her-table-womens-health/
LOCATION:For Her Community Space\, 8546 Broadway\, Suite 255\, San Antonio\, TX\, 78217\, United States
CATEGORIES:Workshop
ORGANIZER;CN="For Her":MAILTO:development@iamforher.org
END:VEVENT
BEGIN:VEVENT
DTSTART;TZID=America/Chicago:20241111T183000
DTEND;TZID=America/Chicago:20241111T200000
DTSTAMP:20260424T141414
CREATED:20241001T191803Z
LAST-MODIFIED:20241021T211651Z
UID:10000288-1731349800-1731355200@iamforher.org
SUMMARY:Her Circle: Wellness
DESCRIPTION:Peer support groups\, also called Her Circles\, are led by trained volunteers and/or therapists and consist of 6-12 women coming together to share knowledge and foster deep relationships. Our Her Circles invite women in all stages of life and from diverse backgrounds to find a peer support group that aligns with their journey. \nHer Circle: Wellness \nIn this small group participants will have an opportunity to discuss topics such as depression\, anxiety\, anger\, grief\, stress\, and other topics related to mental health. \nHer Circle: Wellness aims to cultivate an awareness of the fundamental reasons behind our struggles and emotional turmoil. Through sharing lived experiences with others and engaging in various activities participants will reduce symptoms\, learn coping skills\, and help one another experience positive transformation. \nFacilitator: Susan Santillan LPC-S \nSusana holds a BA in Psychology and an MA in Community Counseling. With a passion for helping survivors of trauma and abuse\, Susana has extensive experience facilitating groups and counseling individuals in both English and Spanish. \n*Childcare Provided
URL:https://iamforher.org/event/her-circle-wellness-10/
LOCATION:For Her Community Space\, 8546 Broadway\, Suite 255\, San Antonio\, TX\, 78217\, United States
CATEGORIES:Support Group
ORGANIZER;CN="For Her":MAILTO:development@iamforher.org
END:VEVENT
BEGIN:VEVENT
DTSTART;TZID=America/Chicago:20241113T183000
DTEND;TZID=America/Chicago:20241113T200000
DTSTAMP:20260424T141414
CREATED:20240826T161520Z
LAST-MODIFIED:20240919T234418Z
UID:10000274-1731522600-1731528000@iamforher.org
SUMMARY:Her Circle: Queer Connections
DESCRIPTION:Her Circle: Queer Connections is a support group designed for queer women and nonbinary individuals to come together and build meaningful connections. This inclusive space offers a supportive environment where participants can explore topics like self-love\, identity\, and more\, fostering personal growth and a sense of community.\n\nJoin us to share your experiences\, connect with others\, and dive into conversations that matter.\n*Note that babysitting is not provided for this group
URL:https://iamforher.org/event/her-circle-queer-connections-22/
LOCATION:For Her Community Space\, 8546 Broadway\, Suite 255\, San Antonio\, TX\, 78217\, United States
CATEGORIES:Support Group
END:VEVENT
BEGIN:VEVENT
DTSTART;TZID=America/Chicago:20241118T183000
DTEND;TZID=America/Chicago:20241118T200000
DTSTAMP:20260424T141414
CREATED:20240919T235634Z
LAST-MODIFIED:20241114T221635Z
UID:10000282-1731954600-1731960000@iamforher.org
SUMMARY:Turn Your Inner Power into a Paycheck Workshop
DESCRIPTION:Topic: Turn your Inner Power into a Paycheck  \nAre you already a business owner who is looking for a refreshing workshop to reimagine your business in 2025? Have you ever thought about a business but are too afraid of the risks? Or just didn’t know how? \nJoin us for a women’s workshop where we will talk about starting a business by solving a problem. With a simple SWOT analysis\, you will have the chance to talk it out\, write it out\, and put it out into the world! We believe that women have the inner power to turn their ideas into a paycheck. Get insights from small business owners from multiple industries\, including the bridal industry\, real estate\, and cosmetology! \nBabysitting and snacks provided. \nFacilitators: Lucy Adame-Clark\, MaryLou Castillo\, Rose Avila\, and Silvia Alcaraz \nLucy Adame-Clark\, Bexar County Clerk \nBorn and raised in San Antonio\, Lucy Adame-Clark is the first Latina and first woman elected as Bexar County Clerk. Mrs. Adame-Clark is a mother of two beautiful children and is the wife of a sheriff’s deputy. Mrs. Adame-Clark serves as the Bexar County Treasurer and is a member of the Bexar County Bail Bond Board. A prominent and very involved community leader\, Mrs. Adame-Clark is committed to serving the citizens of Bexar County. \nMaryLou Castillo\, Co-Founder of Lupe Arte in Austin\, TX \nMaryLou is a dynamic force in the Austin arts community\, trailblazing in the arts serving as Executive Director of LUPE Arte\, a non-profit organization dedicated to fostering artistic expression. A native of rural Texas\, Marylou’s early academic pursuits focused on Child Development and Sociology\, while she simultaneously juggled teaching\, education\, and single parenthood. Inspired by her own experiences and a desire to create a more inclusive art scene\, Marylou co-founded LUPE Arte with local artists. Recognizing the underrepresentation of Latinas in the arts\, she championed a space where women of color could thrive and share their creative talents while earning equitable compensation. \nSilvia Alcaraz \nSilvia is a longtime San Antonio resident and serial entrepreneur. A native of Mexico\, Silvia earned a BBA from UTSA and began teaching. After years in education\, she became a licensed real estate agent. Silvia combines her passion for education with her love for guiding future homebuyers through the process of buying and selling real estate. She also co-owns a janitorial cleaning company with her sister\, and the two also previously owned a catering business. She is an avid mentor in the community\, often collaborating with other businesses and supporting them by creating opportunities for mutual growth. Her proudest achievements are her three beautiful children. \nRose Avila \nRose is the definition of a social justice warrior\, advocating on behalf of the marginalized at every chance. She dedicated many years to the nonprofit world and the state of Texas\, providing services to the most vulnerable populations. She is most passionate about women’s issues and liberating the leader in girls and young women. Rose was a teen mom and dropped out of school at 15\, but went on to join the Navy Reserves\, earn a BA in Communication Studies\, and an MS in Human Services. Now\, Rose is pursuing a Doctorate of Edcucation in Interdisciplinary Leadership. \n 
URL:https://iamforher.org/event/turn-your-inner-power-into-a-paycheck-workshop/
LOCATION:For Her Community Space\, 8546 Broadway\, Suite 255\, San Antonio\, TX\, 78217\, United States
CATEGORIES:Workshop
ORGANIZER;CN="For Her":MAILTO:development@iamforher.org
END:VEVENT
BEGIN:VEVENT
DTSTART;TZID=America/Chicago:20241119T180000
DTEND;TZID=America/Chicago:20241119T190000
DTSTAMP:20260424T141414
CREATED:20241021T212530Z
LAST-MODIFIED:20241021T212530Z
UID:10000295-1732039200-1732042800@iamforher.org
SUMMARY:Her Healing
DESCRIPTION:Her Healing offers group counseling for adult survivors of family violence and abuse. In this space\, group members work with one another to process emotions\, share lived experiences\, and learn therapeutic tools for healing moving forward. \nLed by For Her’s licensed counselor\, topics will range from safety planning and healthy relational communication to co-parenting tools and more. \n*Childcare provided
URL:https://iamforher.org/event/her-healing-44/
LOCATION:For Her Community Space\, 8546 Broadway\, Suite 255\, San Antonio\, TX\, 78217\, United States
CATEGORIES:Support Group
ORGANIZER;CN="For Her":MAILTO:development@iamforher.org
END:VEVENT
BEGIN:VEVENT
DTSTART;TZID=America/Chicago:20241120T183000
DTEND;TZID=America/Chicago:20241120T203000
DTSTAMP:20260424T141414
CREATED:20241114T213755Z
LAST-MODIFIED:20241114T213929Z
UID:10000301-1732127400-1732134600@iamforher.org
SUMMARY:Her Table: Having “The Talk” with Healthy Futures of Texas
DESCRIPTION:Her Table is a shared meal that provides an opportunity for women to connect over good food and meaningful conversation. Dinner\, babysitting\, and all materials will be provided. \nWorkshop Topic: Having “The Talk” with Healthy Futures of Texas \nJoin For Her to learn more about how to talk to young people about expectations\, relationships\, sexuality\, consent\, and sexual health. Many of us never had these conversations with a trusted adult when we were a pre-teen or teenager\, and it could feel awkward to try to begin this conversation now. We want all parents\, caregivers\, and trusted adults for young people to feel prepared on beginning those steps and to understand that it’s not just one “talk” but many conversations throughout life. \nThis workshop promises an engaging conversation\, interactive activities\, and take-away tips and things to practice after the session. Parents and trusted adults are the experts for their own child(ren)\, and we want to honor your experiences as we all share helpful information with the group. We cannot wait to share space with you all! \nPresented in partnership with Healthy Futures of Texas \nHealthy Futures of Texas (HFTX) is a statewide nonpartisan nonprofit organization that works to improve the well-being of young Texans through equitable access to sexual health education and resources. HFTX aims to advance informed decisions about sexual health for young people\, their families\, and communities. \nDinner Provided \nVegetarian options will be available.
URL:https://iamforher.org/event/her-table-having-the-talk-with-healthy-futures-of-texas/
LOCATION:For Her Community Space\, 8546 Broadway\, Suite 255\, San Antonio\, TX\, 78217\, United States
ORGANIZER;CN="For Her":MAILTO:development@iamforher.org
END:VEVENT
BEGIN:VEVENT
DTSTART;VALUE=DATE:20241122
DTEND;VALUE=DATE:20241202
DTSTAMP:20260424T141414
CREATED:20241021T213723Z
LAST-MODIFIED:20241114T220536Z
UID:10000297-1732233600-1733097599@iamforher.org
SUMMARY:For Her Closed for Thanksgiving
DESCRIPTION:For Her will be closed November 22 to December 1st for Thanksgiving. \nOur community space and office will return to regular hours on Monday\, December 2\, 2024. \n\nResources Directory \n\nEmergencies: 911\nSuicide and Crisis Lifeline: 988\nBexar County Community Resources: 311\nSACRD.org\n211texas.org\n\nHotlines \n\n24-hour Crisis/Mental Health and Substance Abuse Helpline: 1-(800)-316-9241 or (210) 223-SAFE (7233)\n24-hour National Domestic Violence Hotline: Call 800-799-7233 or text START to 8878\nRape Crisis Center 24-hour hotline: Call (210) 349-7273 or chat online at rapecrisis.com/chat\nHomeless Connections Hotline in San Antonio: (210) 207-1799. The hotline is open Monday through Friday from 8:30 AM to 4:30 PM.\n\n 
URL:https://iamforher.org/event/for-her-closed-for-the-holidays/
LOCATION:TX
END:VEVENT
END:VCALENDAR